{"text_format":"3","workbook":"xlsx","n_sheets":11,"sheets":["2019年  ","2019年月度统计 ","2020年  ","2020年月度统计  ","2021年 ","2021年月度统计 ","2022年  ","2022年月度统计  ","2023年   ","2023年月度统计   ","Sheet3"],"read":"whole","date_system":"1900"}

{"sheet":"2019年  ","index":0,"n_rows":400,"n_cols":12,"rows_kept":400,"merged":[[0,0,0,8],[1,0,3,0],[1,1,3,1],[1,2,3,2],[1,3,1,4],[1,5,1,6],[1,7,3,7],[1,8,3,8],[2,4,3,4],[2,6,3,6],[35,0,35,1],[36,0,36,6],[70,0,70,1],[103,0,103,1],[136,0,136,1],[169,0,169,1],[202,0,202,1],[235,0,235,1],[268,0,268,1],[301,0,301,1],[334,0,334,1],[366,0,366,1],[399,0,399,1]]}
["生产过程产生的固体废物利用及处置情况（按日填写）板纸"]
["日期","固 体 废 物 名 称","数量（吨）","利 用 情 况",null,"处 置 情 况",null,"累计存储数量（吨）","记录人签字"]
[{"$nulls":3},"利用数量","去  向","处置数量","去  向"]
[{"$nulls":3},"（吨）",null,"（吨）"]
["2019-01-01","废包装桶",{"$nulls":7},"2017年",null,"2018年"]
["2019-01-02","废包装桶",{"$nulls":7},"2吨",null,"0吨"]
["2019-01-03","废包装桶"]
["2019-01-04","废包装桶"]
["2019-01-05","废包装桶"]
["2019-01-06","废包装桶"]
["2019-01-07","废包装桶"]
["2019-01-08","废包装桶"]
["2019-01-09","废包装桶"]
["2019-01-10","废包装桶"]
["2019-01-11","废包装桶"]
["2019-01-12","废包装桶"]
["2019-01-13","废包装桶"]
["2019-01-14","废包装桶"]
["2019-01-15","废包装桶"]
["2019-01-16","废包装桶"]
["2019-01-17","废包装桶"]
["2019-01-18","废包装桶"]
["2019-01-19","废包装桶"]
["2019-01-20","废包装桶"]
["2019-01-21","废包装桶"]
["2019-01-22","废包装桶"]
["2019-01-23","废包装桶"]
["2019-01-24","废包装桶",1.7,null,null,1.7,"湖州南太湖资源回收有限公司",{"$f":"C28-F28","v":0},"方剑其"]
["2019-01-25","废包装桶"]
["2019-01-26","废包装桶"]
["2019-01-27","废包装桶"]
["2019-01-28","废包装桶"]
["2019-01-29","废包装桶"]
["2019-01-30","废包装桶"]
["2019-01-31","废包装桶"]
["合计",null,{"$f":"C28","v":1.7},null,null,{"$f":"F28","v":1.7},null,{"$f":"H28","v":0}]
["备注：2019年1月1日起开始统计"]
[]
[]
["2019-02-01","废包装桶"]
["2019-02-02","废包装桶"]
["2019-02-03","废包装桶"]
["2019-02-04","废包装桶"]
["2019-02-05","废包装桶"]
["2019-02-06","废包装桶"]
["2019-02-07","废包装桶"]
["2019-02-08","废包装桶"]
["2019-02-09","废包装桶"]
["2019-02-10","废包装桶"]
["2019-02-11","废包装桶"]
["2019-02-12","废包装桶"]
["2019-02-13","废包装桶"]
["2019-02-14","废包装桶"]
["2019-02-15","废包装桶"]
["2019-02-16","废包装桶"]
["2019-02-17","废包装桶"]
["2019-02-18","废包装桶"]
["2019-02-19","废包装桶"]
["2019-02-20","废包装桶"]
["2019-02-21","废包装桶"]
["2019-02-22","废包装桶"]
["2019-02-23","废包装桶"]
["2019-02-24","废包装桶"]
["2019-02-25","废包装桶"]
["2019-02-26","废包装桶"]
["2019-02-27","废包装桶"]
["2019-02-28","废包装桶"]
[]
[]
[]
["合计",null,{"$f":"SUM(C40:C70)","v":0},null,null,{"$f":"SUM(F40:F70)","v":0},null,{"$f":"H36","v":0}]
[]
["2019-03-01","废包装桶"]
["2019-03-02","废包装桶"]
["2019-03-03","废包装桶"]
["2019-03-04","废包装桶"]
["2019-03-05","废包装桶"]
["2019-03-06","废包装桶"]
["2019-03-07","废包装桶"]
["2019-03-08","废包装桶"]
["2019-03-09","废包装桶"]
["2019-03-10","废包装桶"]
["2019-03-11","废包装桶"]
["2019-03-12","废包装桶"]
["2019-03-13","废包装桶"]
["2019-03-14","废包装桶"]
["2019-03-15","废包装桶"]
["2019-03-16","废包装桶"]
["2019-03-17","废包装桶"]
["2019-03-18","废包装桶"]
["2019-03-19","废包装桶"]
["2019-03-20","废包装桶"]
["2019-03-21","废包装桶"]
["2019-03-22","废包装桶"]
["2019-03-23","废包装桶"]
["2019-03-24","废包装桶"]
["2019-03-25","废包装桶"]
["2019-03-26","废包装桶"]
["2019-03-27","废包装桶"]
["2019-03-28","废包装桶"]
["2019-03-29","废包装桶"]
["2019-03-30","废包装桶"]
["2019-03-31","废包装桶"]
["合计",null,0,null,null,0,null,{"$f":"H71","v":0}]
[]
["2019-04-01","废包装桶"]
["2019-04-02","废包装桶"]
["2019-04-03","废包装桶"]
["2019-04-04","废包装桶"]
["2019-04-05","废包装桶"]
["2019-04-06","废包装桶"]
["2019-04-07","废包装桶"]
["2019-04-08","废包装桶"]
["2019-04-09","废包装桶"]
["2019-04-10","废包装桶"]
["2019-04-11","废包装桶"]
["2019-04-12","废包装桶"]
["2019-04-13","废包装桶"]
["2019-04-14","废包装桶"]
["2019-04-15","废包装桶"]
["2019-04-16","废包装桶"]
["2019-04-17","废包装桶"]
["2019-04-18","废包装桶"]
["2019-04-19","废包装桶"]
["2019-04-20","废包装桶"]
["2019-04-21","废包装桶"]
["2019-04-22","废包装桶"]
["2019-04-23","废包装桶"]
["2019-04-24","废包装桶"]
["2019-04-25","废包装桶"]
["2019-04-26","废包装桶"]
["2019-04-27","废包装桶"]
["2019-04-28","废包装桶"]
["2019-04-29","废包装桶"]
["2019-04-30","废包装桶"]
[]
["合计",null,0,null,null,0,null,{"$f":"H135","v":0}]
[]
["2019-05-01","废包装桶"]
["2019-05-02","废包装桶"]
["2019-05-03","废包装桶"]
["2019-05-04","废包装桶"]
["2019-05-05","废包装桶"]
["2019-05-06","废包装桶"]
["2019-05-07","废包装桶"]
["2019-05-08","废包装桶"]
["2019-05-09","废包装桶"]
["2019-05-10","废包装桶"]
["2019-05-11","废包装桶"]
["2019-05-12","废包装桶"]
["2019-05-13","废包装桶"]
["2019-05-14","废包装桶"]
["2019-05-15","废包装桶"]
["2019-05-16","废包装桶"]
["2019-05-17","废包装桶"]
["2019-05-18","废包装桶"]
["2019-05-19","废包装桶"]
["2019-05-20","废包装桶"]
["2019-05-21","废包装桶"]
["2019-05-22","废包装桶"]
["2019-05-23","废包装桶"]
["2019-05-24","废包装桶"]
["2019-05-25","废包装桶"]
["2019-05-26","废包装桶"]
["2019-05-27","废包装桶"]
["2019-05-28","废包装桶"]
["2019-05-29","废包装桶"]
["2019-05-30","废包装桶"]
["2019-05-31","废包装桶"]
["合计",null,0,null,null,0,null,{"$f":"H168","v":0}]
[]
["2019-06-01","废包装桶"]
["2019-06-02","废包装桶"]
["2019-06-03","废包装桶"]
["2019-06-04","废包装桶"]
["2019-06-05","废包装桶"]
["2019-06-06","废包装桶"]
["2019-06-07","废包装桶"]
["2019-06-08","废包装桶"]
["2019-06-09","废包装桶"]
["2019-06-10","废包装桶"]
["2019-06-11","废包装桶"]
["2019-06-12","废包装桶"]
["2019-06-13","废包装桶"]
["2019-06-14","废包装桶"]
["2019-06-15","废包装桶"]
["2019-06-16","废包装桶"]
["2019-06-17","废包装桶"]
["2019-06-18","废包装桶"]
["2019-06-19","废包装桶"]
["2019-06-20","废包装桶"]
["2019-06-21","废包装桶"]
["2019-06-22","废包装桶"]
["2019-06-23","废包装桶"]
["2019-06-24","废包装桶"]
["2019-06-25","废包装桶"]
["2019-06-26","废包装桶"]
["2019-06-27","废包装桶"]
["2019-06-28","废包装桶"]
["2019-06-29","废包装桶"]
["2019-06-30","废包装桶"]
[]
["合计",null,0,null,null,0,null,{"$f":"H201","v":0}]
[]
["2019-07-01","废包装桶"]
["2019-07-02","废包装桶"]
["2019-07-03","废包装桶"]
["2019-07-04","废包装桶"]
["2019-07-05","废包装桶"]
["2019-07-06","废包装桶"]
["2019-07-07","废包装桶"]
["2019-07-08","废包装桶"]
["2019-07-09","废包装桶"]
["2019-07-10","废包装桶"]
["2019-07-11","废包装桶"]
["2019-07-12","废包装桶"]
["2019-07-13","废包装桶"]
["2019-07-14","废包装桶"]
["2019-07-15","废包装桶"]
["2019-07-16","废包装桶"]
["2019-07-17","废包装桶"]
["2019-07-18","废包装桶"]
["2019-07-19","废包装桶"]
["2019-07-20","废包装桶"]
["2019-07-21","废包装桶"]
["2019-07-22","废包装桶"]
["2019-07-23","废包装桶"]
["2019-07-24","废包装桶"]
["2019-07-25","废包装桶"]
["2019-07-26","废包装桶"]
["2019-07-27","废包装桶"]
["2019-07-28","废包装桶"]
["2019-07-29","废包装桶"]
["2019-07-30","废包装桶"]
["2019-07-31","废包装桶"]
["合计",null,0,null,null,0,null,{"$f":"H234","v":0}]
[]
["2019-08-01","废包装桶"]
["2019-08-02","废包装桶"]
["2019-08-03","废包装桶"]
["2019-08-04","废包装桶"]
["2019-08-05","废包装桶"]
["2019-08-06","废包装桶"]
["2019-08-07","废包装桶"]
["2019-08-08","废包装桶"]
["2019-08-09","废包装桶"]
["2019-08-10","废包装桶"]
["2019-08-11","废包装桶"]
["2019-08-12","废包装桶"]
["2019-08-13","废包装桶"]
["2019-08-14","废包装桶"]
["2019-08-15","废包装桶"]
["2019-08-16","废包装桶"]
["2019-08-17","废包装桶"]
["2019-08-18","废包装桶"]
["2019-08-19","废包装桶"]
["2019-08-20","废包装桶"]
["2019-08-21","废包装桶"]
["2019-08-22","废包装桶"]
["2019-08-23","废包装桶"]
["2019-08-24","废包装桶"]
["2019-08-25","废包装桶"]
["2019-08-26","废包装桶"]
["2019-08-27","废包装桶"]
["2019-08-28","废包装桶"]
["2019-08-29","废包装桶"]
["2019-08-30","废包装桶"]
["2019-08-31","废包装桶"]
["合计",null,0,null,null,0,null,{"$f":"H267","v":0}]
[]
["2019-09-01","废包装桶"]
["2019-09-02","废包装桶"]
["2019-09-03","废包装桶"]
["2019-09-04","废包装桶"]
["2019-09-05","废包装桶"]
["2019-09-06","废包装桶"]
["2019-09-07","废包装桶"]
["2019-09-08","废包装桶"]
["2019-09-09","废包装桶"]
["2019-09-10","废包装桶"]
["2019-09-11","废包装桶"]
["2019-09-12","废包装桶"]
["2019-09-13","废包装桶"]
["2019-09-14","废包装桶"]
["2019-09-15","废包装桶"]
["2019-09-16","废包装桶"]
["2019-09-17","废包装桶"]
["2019-09-18","废包装桶"]
["2019-09-19","废包装桶"]
["2019-09-20","废包装桶"]
["2019-09-21","废包装桶"]
["2019-09-22","废包装桶"]
["2019-09-23","废包装桶"]
["2019-09-24","废包装桶"]
["2019-09-25","废包装桶"]
["2019-09-26","废包装桶"]
["2019-09-27","废包装桶"]
["2019-09-28","废包装桶"]
["2019-09-29","废包装桶",0.183,{"$nulls":4},{"$f":"C299","v":0.183},"方剑其"]
["2019-09-30","废包装桶"]
[]
["合计",null,{"$f":"C299","v":0.183},null,null,{"$f":"F299","v":0},null,{"$f":"H299","v":0.183}]
[]
["2019-10-01","废包装桶"]
["2019-10-02","废包装桶"]
["2019-10-03","废包装桶"]
["2019-10-04","废包装桶"]
["2019-10-05","废包装桶"]
["2019-10-06","废包装桶"]
["2019-10-07","废包装桶"]
["2019-10-08","废包装桶"]
["2019-10-09","废包装桶"]
["2019-10-10","废包装桶"]
["2019-10-11","废包装桶"]
["2019-10-12","废包装桶"]
["2019-10-13","废包装桶"]
["2019-10-14","废包装桶"]
["2019-10-15","废包装桶"]
["2019-10-16","废包装桶"]
["2019-10-17","废包装桶"]
["2019-10-18","废包装桶"]
["2019-10-19","废包装桶"]
["2019-10-20","废包装桶"]
["2019-10-21","废包装桶"]
["2019-10-22","废包装桶"]
["2019-10-23","废包装桶"]
["2019-10-24","废包装桶"]
["2019-10-25","废包装桶"]
["2019-10-26","废包装桶"]
["2019-10-27","废包装桶"]
["2019-10-28","废包装桶"]
["2019-10-29","废包装桶"]
["2019-10-30","废包装桶"]
["2019-10-31","废包装桶"]
["合计",null,{"$f":"C332","v":0},null,null,{"$f":"F332","v":0},null,{"$f":"H302","v":0.183}]
[]
["2019-11-01","废包装桶"]
["2019-11-02","废包装桶"]
["2019-11-03","废包装桶"]
["2019-11-04","废包装桶"]
["2019-11-05","废包装桶"]
["2019-11-06","废包装桶"]
["2019-11-07","废包装桶"]
["2019-11-08","废包装桶"]
["2019-11-09","废包装桶"]
["2019-11-10","废包装桶"]
["2019-11-11","废包装桶"]
["2019-11-12","废包装桶"]
["2019-11-13","废包装桶"]
["2019-11-14","废包装桶"]
["2019-11-15","废包装桶"]
["2019-11-16","废包装桶"]
["2019-11-17","废包装桶"]
["2019-11-18","废包装桶"]
["2019-11-19","废包装桶"]
["2019-11-20","废包装桶"]
["2019-11-21","废包装桶"]
["2019-11-22","废包装桶"]
["2019-11-23","废包装桶"]
["2019-11-24","废包装桶"]
["2019-11-25","废包装桶"]
["2019-11-26","废包装桶"]
["2019-11-27","废包装桶"]
["2019-11-28","废包装桶"]
["2019-11-29","废包装桶"]
["2019-11-30","废包装桶"]
["合计",null,{"$f":"C365","v":0},null,null,{"$f":"F365","v":0},null,{"$f":"H335","v":0.183}]
[]
["2019-12-01","废包装桶"]
["2019-12-02","废包装桶"]
["2019-12-03","废包装桶"]
["2019-12-04","废包装桶"]
["2019-12-05","废包装桶"]
["2019-12-06","废包装桶"]
["2019-12-07","废包装桶"]
["2019-12-08","废包装桶"]
["2019-12-09","废包装桶"]
["2019-12-10","废包装桶"]
["2019-12-11","废包装桶"]
["2019-12-12","废包装桶"]
["2019-12-13","废包装桶"]
["2019-12-14","废包装桶"]
["2019-12-15","废包装桶"]
["2019-12-16","废包装桶"]
["2019-12-17","废包装桶"]
["2019-12-18","废包装桶"]
["2019-12-19","废包装桶"]
["2019-12-20","废包装桶"]
["2019-12-21","废包装桶"]
["2019-12-22","废包装桶"]
["2019-12-23","废包装桶"]
["2019-12-24","废包装桶"]
["2019-12-25","废包装桶"]
["2019-12-26","废包装桶"]
["2019-12-27","废包装桶"]
["2019-12-28","废包装桶"]
["2019-12-29","废包装桶"]
["2019-12-30","废包装桶"]
["2019-12-31","废包装桶"]
["合计",null,{"$f":"C367","v":0},null,null,{"$f":"F367","v":0},null,{"$f":"H367","v":0.183}]

{"sheet":"2019年月度统计 ","index":1,"n_rows":19,"n_cols":10,"rows_kept":19,"merged":[[0,0,0,8],[1,0,3,0],[1,1,3,1],[1,2,3,2],[1,3,1,4],[1,5,1,6],[1,7,3,7],[1,8,3,8],[2,4,3,4],[2,6,3,6],[18,0,18,6]]}
["生产过程产生的固体废物利用及处置情况（按日填写）板纸     ( 2019)"]
["日期","固 体 废 物 名 称","数量（吨）","利 用 情 况",null,"处 置 情 况",null,"累计存储数量（吨）","记录人签字"]
[{"$nulls":3},"利用数量","去  向","处置数量","去  向"]
[{"$nulls":3},"（吨）",null,"（吨）",{"$nulls":3},201812]
["1月份","废包装桶",{"$f":"'2019年  '!C36","v":1.7},null,null,{"$f":"'2019年  '!F36","v":1.7},"湖州南太湖资源回收有限公司",{"$f":"'2019年  '!H36","v":0},"方剑其","0吨"]
["2月份","废包装桶",{"$f":"'2019年  '!C71","v":0},null,null,{"$f":"'2019年  '!F71","v":0},null,0,"方剑其"]
["3月份","废包装桶",{"$f":"'2019年  '!C104","v":0},null,null,{"$f":"'2019年  '!F104","v":0},null,{"$f":"'2019年  '!H104","v":0},"方剑其"]
["4月份","废包装桶",{"$f":"'2019年  '!C137","v":0},null,null,{"$f":"'2019年  '!F137","v":0},null,{"$f":"'2019年  '!H137","v":0},"方剑其"]
["5月份","废包装桶",0,null,null,0,null,0,"方剑其"]
["6月份","废包装桶",0,null,null,0,null,0,"方剑其"]
["7月份","废包装桶",0,null,null,0,null,0,"方剑其"]
["8月份","废包装桶",{"$f":"'2019年  '!C269","v":0},null,null,{"$f":"'2019年  '!F269","v":0},null,{"$f":"'2019年  '!H269","v":0},"方剑其"]
["9月份","废包装桶",{"$f":"'2019年  '!C302","v":0.183},null,null,{"$f":"'2019年  '!F302","v":0},null,{"$f":"'2019年  '!H302","v":0.183},"方剑其"]
["10月份","废包装桶",{"$f":"'2019年  '!C335","v":0},null,null,{"$f":"'2019年  '!F335","v":0},null,{"$f":"H13","v":0.183},"方剑其"]
["11月份","废包装桶",{"$f":"'2019年  '!C367","v":0},null,null,{"$f":"'2019年  '!F367","v":0},null,{"$f":"'2019年  '!H367","v":0.183},"方剑其"]
["12月份","废包装桶",{"$f":"'2019年  '!C400","v":0},null,null,{"$f":"'2019年  '!F400","v":0},null,{"$f":"'2019年  '!H400","v":0.183},"方剑其"]
["合计",null,{"$f":"SUM(C5:C16)","v":1.883},null,null,{"$f":"SUM(F5:F16)","v":1.7},null,{"$f":"H16","v":0.183}]
[]
["板纸废包装桶2019年1月份开始统计"]

{"sheet":"2020年  ","index":2,"n_rows":400,"n_cols":13,"rows_kept":400,"merged":[[0,0,0,8],[1,0,3,0],[1,1,3,1],[1,2,3,2],[1,3,1,4],[1,5,1,6],[1,7,3,7],[1,8,3,8],[2,4,3,4],[2,6,3,6],[35,0,35,1],[36,0,36,6],[70,0,70,1],[103,0,103,1],[136,0,136,1],[169,0,169,1],[202,0,202,1],[235,0,235,1],[268,0,268,1],[301,0,301,1],[334,0,334,1],[366,0,366,1],[399,0,399,1]]}
["生产过程产生的固体废物利用及处置情况（按日填写）板纸"]
["日期","固 体 废 物 名 称","数量（吨）","利 用 情 况",null,"处 置 情 况",null,"累计存储数量（吨）","记录人签字"]
[{"$nulls":3},"利用数量","去  向","处置数量","去  向"]
[{"$nulls":3},"（吨）",null,"（吨）"]
["2020-01-01","废包装桶",{"$nulls":5},{"$f":"M5","v":0.183},"方剑其","2017年",null,"2018年",{"$f":"'2019年月度统计 '!H17","v":0.183}]
["2020-01-02","废包装桶",{"$nulls":7},"2吨",null,"0吨"]
["2020-01-03","废包装桶"]
["2020-01-04","废包装桶"]
["2020-01-05","废包装桶"]
["2020-01-06","废包装桶"]
["2020-01-07","废包装桶"]
["2020-01-08","废包装桶"]
["2020-01-09","废包装桶"]
["2020-01-10","废包装桶"]
["2020-01-11","废包装桶"]
["2020-01-12","废包装桶"]
["2020-01-13","废包装桶"]
["2020-01-14","废包装桶"]
["2020-01-15","废包装桶"]
["2020-01-16","废包装桶"]
["2020-01-17","废包装桶"]
["2020-01-18","废包装桶"]
["2020-01-19","废包装桶"]
["2020-01-20","废包装桶"]
["2020-01-21","废包装桶"]
["2020-01-22","废包装桶"]
["2020-01-23","废包装桶"]
["2020-01-24","废包装桶"]
["2020-01-25","废包装桶"]
["2020-01-26","废包装桶"]
["2020-01-27","废包装桶"]
["2020-01-28","废包装桶"]
["2020-01-29","废包装桶"]
["2020-01-30","废包装桶"]
["2020-01-31","废包装桶"]
["合计",null,{"$f":"C28","v":0},null,null,{"$f":"F28","v":0},null,{"$f":"H5","v":0.183}]
["备注：2019年1月1日起开始统计"]
[]
[]
["2020-02-01","废包装桶"]
["2020-02-02","废包装桶"]
["2020-02-03","废包装桶"]
["2020-02-04","废包装桶"]
["2020-02-05","废包装桶"]
["2020-02-06","废包装桶"]
["2020-02-07","废包装桶"]
["2020-02-08","废包装桶"]
["2020-02-09","废包装桶"]
["2020-02-10","废包装桶"]
["2020-02-11","废包装桶"]
["2020-02-12","废包装桶"]
["2020-02-13","废包装桶"]
["2020-02-14","废包装桶"]
["2020-02-15","废包装桶"]
["2020-02-16","废包装桶"]
["2020-02-17","废包装桶"]
["2020-02-18","废包装桶"]
["2020-02-19","废包装桶"]
["2020-02-20","废包装桶"]
["2020-02-21","废包装桶"]
["2020-02-22","废包装桶"]
["2020-02-23","废包装桶"]
["2020-02-24","废包装桶"]
["2020-02-25","废包装桶"]
["2020-02-26","废包装桶"]
["2020-02-27","废包装桶"]
["2020-02-28","废包装桶"]
["2020-02-29","废包装桶"]
[]
[]
["合计",null,{"$f":"SUM(C40:C70)","v":0},null,null,{"$f":"SUM(F40:F70)","v":0},null,{"$f":"H36","v":0.183}]
[]
["2020-03-01","废包装桶"]
["2020-03-02","废包装桶"]
["2020-03-03","废包装桶"]
["2020-03-04","废包装桶"]
["2020-03-05","废包装桶"]
["2020-03-06","废包装桶"]
["2020-03-07","废包装桶"]
["2020-03-08","废包装桶"]
["2020-03-09","废包装桶"]
["2020-03-10","废包装桶"]
["2020-03-11","废包装桶"]
["2020-03-12","废包装桶"]
["2020-03-13","废包装桶"]
["2020-03-14","废包装桶"]
["2020-03-15","废包装桶"]
["2020-03-16","废包装桶"]
["2020-03-17","废包装桶"]
["2020-03-18","废包装桶"]
["2020-03-19","废包装桶"]
["2020-03-20","废包装桶"]
["2020-03-21","废包装桶"]
["2020-03-22","废包装桶"]
["2020-03-23","废包装桶"]
["2020-03-24","废包装桶"]
["2020-03-25","废包装桶"]
["2020-03-26","废包装桶"]
["2020-03-27","废包装桶"]
["2020-03-28","废包装桶"]
["2020-03-29","废包装桶"]
["2020-03-30","废包装桶"]
["2020-03-31","废包装桶"]
["合计",null,0,null,null,0,null,{"$f":"H71","v":0.183}]
[]
["2020-04-01","废包装桶"]
["2020-04-02","废包装桶"]
["2020-04-03","废包装桶"]
["2020-04-04","废包装桶"]
["2020-04-05","废包装桶"]
["2020-04-06","废包装桶"]
["2020-04-07","废包装桶"]
["2020-04-08","废包装桶"]
["2020-04-09","废包装桶"]
["2020-04-10","废包装桶"]
["2020-04-11","废包装桶"]
["2020-04-12","废包装桶"]
["2020-04-13","废包装桶"]
["2020-04-14","废包装桶"]
["2020-04-15","废包装桶"]
["2020-04-16","废包装桶"]
["2020-04-17","废包装桶"]
["2020-04-18","废包装桶"]
["2020-04-19","废包装桶"]
["2020-04-20","废包装桶"]
["2020-04-21","废包装桶"]
["2020-04-22","废包装桶"]
["2020-04-23","废包装桶"]
["2020-04-24","废包装桶"]
["2020-04-25","废包装桶"]
["2020-04-26","废包装桶"]
["2020-04-27","废包装桶"]
["2020-04-28","废包装桶"]
["2020-04-29","废包装桶"]
["2020-04-30","废包装桶"]
[]
["合计",null,0,null,null,0,null,{"$f":"H104","v":0.183}]
[]
["2020-05-01","废包装桶"]
["2020-05-02","废包装桶"]
["2020-05-03","废包装桶"]
["2020-05-04","废包装桶"]
["2020-05-05","废包装桶"]
["2020-05-06","废包装桶"]
["2020-05-07","废包装桶"]
["2020-05-08","废包装桶"]
["2020-05-09","废包装桶"]
["2020-05-10","废包装桶"]
["2020-05-11","废包装桶"]
["2020-05-12","废包装桶"]
["2020-05-13","废包装桶"]
["2020-05-14","废包装桶"]
["2020-05-15","废包装桶"]
["2020-05-16","废包装桶"]
["2020-05-17","废包装桶"]
["2020-05-18","废包装桶"]
["2020-05-19","废包装桶"]
["2020-05-20","废包装桶"]
["2020-05-21","废包装桶",{"$f":"((17*5)+15)/1000","v":0.1},{"$nulls":4},{"$f":"H137+C159","v":0.283},"方剑其"]
["2020-05-22","废包装桶"]
["2020-05-23","废包装桶"]
["2020-05-24","废包装桶"]
["2020-05-25","废包装桶"]
["2020-05-26","废包装桶"]
["2020-05-27","废包装桶"]
["2020-05-28","废包装桶"]
["2020-05-29","废包装桶"]
["2020-05-30","废包装桶"]
["2020-05-31","废包装桶"]
["合计",null,{"$f":"C159","v":0.1},null,null,{"$f":"F159","v":0},null,{"$f":"H159","v":0.283}]
[]
["2020-06-01","废包装桶"]
["2020-06-02","废包装桶"]
["2020-06-03","废包装桶"]
["2020-06-04","废包装桶",0.6,null,null,{"$f":"H170+C175","v":0.883},"浙江润淼再生资源有限公司",{"$f":"H170+C175-F175","v":0},"方剑其"]
["2020-06-05","废包装桶"]
["2020-06-06","废包装桶"]
["2020-06-07","废包装桶"]
["2020-06-08","废包装桶"]
["2020-06-09","废包装桶"]
["2020-06-10","废包装桶"]
["2020-06-11","废包装桶"]
["2020-06-12","废包装桶",0.195,{"$nulls":4},{"$f":"C183","v":0.195},"方剑其"]
["2020-06-13","废包装桶"]
["2020-06-14","废包装桶"]
["2020-06-15","废包装桶"]
["2020-06-16","废包装桶"]
["2020-06-17","废包装桶"]
["2020-06-18","废包装桶"]
["2020-06-19","废包装桶"]
["2020-06-20","废包装桶"]
["2020-06-21","废包装桶"]
["2020-06-22","废包装桶"]
["2020-06-23","废包装桶"]
["2020-06-24","废包装桶"]
["2020-06-25","废包装桶"]
["2020-06-26","废包装桶"]
["2020-06-27","废包装桶"]
["2020-06-28","废包装桶"]
["2020-06-29","废包装桶"]
["2020-06-30","废包装桶"]
[]
["合计",null,{"$f":"SUM(C172:C202)","v":0.795},null,null,{"$f":"F175","v":0.883},null,{"$f":"H183","v":0.195}]
[]
["2020-07-01","废包装桶"]
["2020-07-02","废包装桶"]
["2020-07-03","废包装桶"]
["2020-07-04","废包装桶"]
["2020-07-05","废包装桶"]
["2020-07-06","废包装桶"]
["2020-07-07","废包装桶"]
["2020-07-08","废包装桶"]
["2020-07-09","废包装桶"]
["2020-07-10","废包装桶"]
["2020-07-11","废包装桶"]
["2020-07-12","废包装桶"]
["2020-07-13","废包装桶"]
["2020-07-14","废包装桶"]
["2020-07-15","废包装桶"]
["2020-07-16","废包装桶"]
["2020-07-17","废包装桶"]
["2020-07-18","废包装桶"]
["2020-07-19","废包装桶"]
["2020-07-20","废包装桶"]
["2020-07-21","废包装桶"]
["2020-07-22","废包装桶"]
["2020-07-23","废包装桶"]
["2020-07-24","废包装桶"]
["2020-07-25","废包装桶"]
["2020-07-26","废包装桶"]
["2020-07-27","废包装桶"]
["2020-07-28","废包装桶"]
["2020-07-29","废包装桶"]
["2020-07-30","废包装桶"]
["2020-07-31","废包装桶"]
["合计",null,0,null,null,0,null,{"$f":"H203","v":0.195}]
[]
["2020-08-01","废包装桶"]
["2020-08-02","废包装桶"]
["2020-08-03","废包装桶"]
["2020-08-04","废包装桶"]
["2020-08-05","废包装桶"]
["2020-08-06","废包装桶"]
["2020-08-07","废包装桶"]
["2020-08-08","废包装桶"]
["2020-08-09","废包装桶"]
["2020-08-10","废包装桶"]
["2020-08-11","废包装桶"]
["2020-08-12","废包装桶"]
["2020-08-13","废包装桶"]
["2020-08-14","废包装桶"]
["2020-08-15","废包装桶"]
["2020-08-16","废包装桶"]
["2020-08-17","废包装桶"]
["2020-08-18","废包装桶"]
["2020-08-19","废包装桶"]
["2020-08-20","废包装桶"]
["2020-08-21","废包装桶"]
["2020-08-22","废包装桶"]
["2020-08-23","废包装桶"]
["2020-08-24","废包装桶"]
["2020-08-25","废包装桶"]
["2020-08-26","废包装桶"]
["2020-08-27","废包装桶"]
["2020-08-28","废包装桶",0.018,{"$nulls":4},{"$f":"H236+C265","v":0.213},"方剑其"]
["2020-08-29","废包装桶"]
["2020-08-30","废包装桶"]
["2020-08-31","废包装桶"]
["合计",null,{"$f":"C265","v":0.018},null,null,{"$f":"F265","v":0},null,{"$f":"H265","v":0.213}]
[]
["2020-09-01","废包装桶"]
["2020-09-02","废包装桶"]
["2020-09-03","废包装桶"]
["2020-09-04","废包装桶"]
["2020-09-05","废包装桶"]
["2020-09-06","废包装桶"]
["2020-09-07","废包装桶",0.21,{"$nulls":4},{"$f":"H269+C277","v":0.423},"方剑其"]
["2020-09-08","废包装桶"]
["2020-09-09","废包装桶"]
["2020-09-10","废包装桶"]
["2020-09-11","废包装桶"]
["2020-09-12","废包装桶"]
["2020-09-13","废包装桶"]
["2020-09-14","废包装桶"]
["2020-09-15","废包装桶"]
["2020-09-16","废包装桶"]
["2020-09-17","废包装桶"]
["2020-09-18","废包装桶"]
["2020-09-19","废包装桶"]
["2020-09-20","废包装桶"]
["2020-09-21","废包装桶"]
["2020-09-22","废包装桶"]
["2020-09-23","废包装桶"]
["2020-09-24","废包装桶"]
["2020-09-25","废包装桶"]
["2020-09-26","废包装桶"]
["2020-09-27","废包装桶"]
["2020-09-28","废包装桶"]
["2020-09-29","废包装桶"]
["2020-09-30","废包装桶"]
[]
["合计",null,{"$f":"SUM(C271:C301)","v":0.21},null,null,{"$f":"SUM(F271:F301)","v":0},null,{"$f":"H277","v":0.423}]
[]
["2020-10-01","废包装桶"]
["2020-10-02","废包装桶"]
["2020-10-03","废包装桶"]
["2020-10-04","废包装桶"]
["2020-10-05","废包装桶"]
["2020-10-06","废包装桶"]
["2020-10-07","废包装桶"]
["2020-10-08","废包装桶"]
["2020-10-09","废包装桶"]
["2020-10-10","废包装桶"]
["2020-10-11","废包装桶"]
["2020-10-12","废包装桶"]
["2020-10-13","废包装桶"]
["2020-10-14","废包装桶"]
["2020-10-15","废包装桶"]
["2020-10-16","废包装桶"]
["2020-10-17","废包装桶"]
["2020-10-18","废包装桶"]
["2020-10-19","废包装桶"]
["2020-10-20","废包装桶"]
["2020-10-21","废包装桶",0.694,null,null,1.117,"浙江润淼再生资源有限公司",{"$f":"H302+C324-F324","v":0},"方剑其"]
["2020-10-22","废包装桶"]
["2020-10-23","废包装桶"]
["2020-10-24","废包装桶"]
["2020-10-25","废包装桶"]
["2020-10-26","废包装桶"]
["2020-10-27","废包装桶"]
["2020-10-28","废包装桶"]
["2020-10-29","废包装桶"]
["2020-10-30","废包装桶"]
["2020-10-31","废包装桶"]
["合计",null,0.694,null,null,1.117,null,{"$f":"H324","v":0}]
[]
["2020-11-01","废包装桶"]
["2020-11-02","废包装桶"]
["2020-11-03","废包装桶"]
["2020-11-04","废包装桶"]
["2020-11-05","废包装桶"]
["2020-11-06","废包装桶"]
["2020-11-07","废包装桶"]
["2020-11-08","废包装桶"]
["2020-11-09","废包装桶"]
["2020-11-10","废包装桶"]
["2020-11-11","废包装桶"]
["2020-11-12","废包装桶"]
["2020-11-13","废包装桶"]
["2020-11-14","废包装桶"]
["2020-11-15","废包装桶"]
["2020-11-16","废包装桶"]
["2020-11-17","废包装桶"]
["2020-11-18","废包装桶"]
["2020-11-19","废包装桶"]
["2020-11-20","废包装桶"]
["2020-11-21","废包装桶"]
["2020-11-22","废包装桶"]
["2020-11-23","废包装桶"]
["2020-11-24","废包装桶"]
["2020-11-25","废包装桶"]
["2020-11-26","废包装桶"]
["2020-11-27","废包装桶"]
["2020-11-28","废包装桶"]
["2020-11-29","废包装桶"]
["2020-11-30","废包装桶"]
["合计",null,{"$f":"C365","v":0},null,null,{"$f":"F365","v":0},null,0]
[]
["2020-12-01","废包装桶"]
["2020-12-02","废包装桶"]
["2020-12-03","废包装桶"]
["2020-12-04","废包装桶"]
["2020-12-05","废包装桶"]
["2020-12-06","废包装桶"]
["2020-12-07","废包装桶"]
["2020-12-08","废包装桶"]
["2020-12-09","废包装桶"]
["2020-12-10","废包装桶"]
["2020-12-11","废包装桶"]
["2020-12-12","废包装桶"]
["2020-12-13","废包装桶"]
["2020-12-14","废包装桶"]
["2020-12-15","废包装桶"]
["2020-12-16","废包装桶"]
["2020-12-17","废包装桶"]
["2020-12-18","废包装桶"]
["2020-12-19","废包装桶"]
["2020-12-20","废包装桶"]
["2020-12-21","废包装桶"]
["2020-12-22","废包装桶"]
["2020-12-23","废包装桶"]
["2020-12-24","废包装桶"]
["2020-12-25","废包装桶"]
["2020-12-26","废包装桶"]
["2020-12-27","废包装桶"]
["2020-12-28","废包装桶"]
["2020-12-29","废包装桶"]
["2020-12-30","废包装桶"]
["2020-12-31","废包装桶"]
["合计",null,{"$f":"C367","v":0},null,null,{"$f":"F367","v":0},null,{"$f":"H367","v":0}]

{"sheet":"2020年月度统计  ","index":3,"n_rows":19,"n_cols":11,"rows_kept":19,"merged":[[0,0,0,8],[1,0,3,0],[1,1,3,1],[1,2,3,2],[1,3,1,4],[1,5,1,6],[1,7,3,7],[1,8,3,8],[2,4,3,4],[2,6,3,6],[18,0,18,6]]}
["生产过程产生的固体废物利用及处置情况（按日填写）板纸     ( 2020)"]
["日期","固 体 废 物 名 称","数量（吨）","利 用 情 况",null,"处 置 情 况",null,"累计存储数量（吨）","记录人签字"]
[{"$nulls":3},"利用数量","去  向","处置数量","去  向"]
[{"$nulls":3},"（吨）",null,"（吨）",{"$nulls":3},201812]
["1月份","废包装桶",0,null,null,0,null,{"$f":"'2020年  '!H36","v":0.183},"方剑其","0吨",{"$f":"'2019年月度统计 '!H17","v":0.183}]
["2月份","废包装桶",0,null,null,0,null,{"$f":"H5","v":0.183},"方剑其"]
["3月份","废包装桶",0,null,null,0,null,{"$f":"H6","v":0.183},"方剑其"]
["4月份","废包装桶",{"$f":"'2020年  '!C137","v":0},null,null,{"$f":"'2020年  '!F137","v":0},null,{"$f":"'2020年  '!H137","v":0.183},"方剑其"]
["5月份","废包装桶",{"$f":"'2020年  '!C170","v":0.1},null,null,{"$f":"'2020年  '!F170","v":0},null,{"$f":"'2020年  '!H170","v":0.283},"方剑其"]
["6月份","废包装桶",{"$f":"'2020年  '!C203","v":0.795},null,null,{"$f":"'2020年  '!F203","v":0.883},"浙江润淼再生资源有限公司",{"$f":"'2020年  '!H203","v":0.195},"方剑其"]
["7月份","废包装桶",{"$f":"'2020年  '!C236","v":0},null,null,{"$f":"'2020年  '!F236","v":0},null,{"$f":"'2020年  '!H236","v":0.195},"方剑其"]
["8月份","废包装桶",{"$f":"'2020年  '!C269","v":0.018},null,null,{"$f":"'2020年  '!F269","v":0},null,{"$f":"'2020年  '!H269","v":0.213},"方剑其"]
["9月份","废包装桶",{"$f":"'2020年  '!C302","v":0.21},null,null,{"$f":"'2020年  '!F302","v":0},null,{"$f":"'2020年  '!H302","v":0.423},"方剑其"]
["10月份","废包装桶",{"$f":"'2020年  '!C335","v":0.694},null,null,{"$f":"'2020年  '!F335","v":1.117},"浙江润淼再生资源有限公司",{"$f":"'2020年  '!H335","v":0},"方剑其"]
["11月份","废包装桶",{"$f":"'2020年  '!C367","v":0},null,null,{"$f":"'2020年  '!F367","v":0},null,{"$f":"'2020年  '!H367","v":0},"诸美娟"]
["12月份","废包装桶",{"$f":"'2020年  '!C400","v":0},null,null,{"$f":"'2020年  '!F400","v":0},null,{"$f":"'2020年  '!H400","v":0},"诸美娟"]
["合计",null,{"$f":"SUM(C5:C16)","v":1.817},null,null,{"$f":"SUM(F5:F16)","v":2},null,{"$f":"H16","v":0}]
[]
["板纸废包装桶2019年1月份开始统计"]

{"sheet":"2021年 ","index":4,"n_rows":398,"n_cols":12,"rows_kept":398,"merged":[[0,0,0,8],[1,0,2,0],[1,1,2,1],[1,2,2,2],[1,3,2,3],[1,4,1,5],[1,6,2,6],[1,7,2,7],[1,8,2,8],[34,0,34,1],[35,0,35,5],[69,0,69,1],[102,0,102,1],[135,0,135,1],[168,0,168,1],[201,0,201,1],[234,0,234,1],[267,0,267,1],[300,0,300,1],[333,0,333,1],[365,0,365,1],[397,0,397,1]]}
["生产过程产生的固体废物利用及处置情况（按日填写）板纸"]
["日期","固 体 废 物 名 称","产生数量","自行处置数量","委托利用、处置情况",null,"累计贮存数量(吨)","备注","填表人"]
[{"$nulls":4},"委托利用数量","委托处置数量"]
["2021-01-01","废包装桶",{"$nulls":7},"2017年",null,"2018年"]
["2021-01-02","废包装桶",{"$nulls":7},"2吨",null,"0吨"]
["2021-01-03","废包装桶"]
["2021-01-04","废包装桶"]
["2021-01-05","废包装桶"]
["2021-01-06","废包装桶"]
["2021-01-07","废包装桶"]
["2021-01-08","废包装桶"]
["2021-01-09","废包装桶"]
["2021-01-10","废包装桶"]
["2021-01-11","废包装桶"]
["2021-01-12","废包装桶"]
["2021-01-13","废包装桶"]
["2021-01-14","废包装桶"]
["2021-01-15","废包装桶"]
["2021-01-16","废包装桶"]
["2021-01-17","废包装桶"]
["2021-01-18","废包装桶"]
["2021-01-19","废包装桶"]
["2021-01-20","废包装桶"]
["2021-01-21","废包装桶"]
["2021-01-22","废包装桶"]
["2021-01-23","废包装桶"]
["2021-01-24","废包装桶"]
["2021-01-25","废包装桶",0.086,{"$nulls":3},{"$f":"C28","v":0.086},null,"诸美娟"]
["2021-01-26","废包装桶"]
["2021-01-27","废包装桶"]
["2021-01-28","废包装桶"]
["2021-01-29","废包装桶"]
["2021-01-30","废包装桶"]
["2021-01-31","废包装桶"]
["合计",null,{"$f":"C28","v":0.086},null,null,{"$f":"F27","v":0},{"$f":"G28","v":0.086}]
["备注：2019年1月1日起开始统计"]
[]
[]
["2021-02-01","废包装桶"]
["2021-02-02","废包装桶"]
["2021-02-03","废包装桶"]
["2021-02-04","废包装桶"]
["2021-02-05","废包装桶"]
["2021-02-06","废包装桶"]
["2021-02-07","废包装桶"]
["2021-02-08","废包装桶"]
["2021-02-09","废包装桶"]
["2021-02-10","废包装桶"]
["2021-02-11","废包装桶"]
["2021-02-12","废包装桶"]
["2021-02-13","废包装桶"]
["2021-02-14","废包装桶"]
["2021-02-15","废包装桶"]
["2021-02-16","废包装桶"]
["2021-02-17","废包装桶"]
["2021-02-18","废包装桶"]
["2021-02-19","废包装桶"]
["2021-02-20","废包装桶"]
["2021-02-21","废包装桶"]
["2021-02-22","废包装桶"]
["2021-02-23","废包装桶"]
["2021-02-24","废包装桶"]
["2021-02-25","废包装桶"]
["2021-02-26","废包装桶"]
["2021-02-27","废包装桶"]
["2021-02-28","废包装桶"]
[]
[]
[]
["合计",null,{"$f":"SUM(C39:C69)","v":0},null,null,{"$f":"SUM(F39:F69)","v":0},{"$f":"G35","v":0.086}]
[]
["2021-03-01","废包装桶"]
["2021-03-02","废包装桶"]
["2021-03-03","废包装桶"]
["2021-03-04","废包装桶"]
["2021-03-05","废包装桶"]
["2021-03-06","废包装桶"]
["2021-03-07","废包装桶"]
["2021-03-08","废包装桶"]
["2021-03-09","废包装桶"]
["2021-03-10","废包装桶"]
["2021-03-11","废包装桶"]
["2021-03-12","废包装桶"]
["2021-03-13","废包装桶"]
["2021-03-14","废包装桶"]
["2021-03-15","废包装桶"]
["2021-03-16","废包装桶"]
["2021-03-17","废包装桶"]
["2021-03-18","废包装桶"]
["2021-03-19","废包装桶"]
["2021-03-20","废包装桶"]
["2021-03-21","废包装桶"]
["2021-03-22","废包装桶"]
["2021-03-23","废包装桶"]
["2021-03-24","废包装桶"]
["2021-03-25","废包装桶"]
["2021-03-26","废包装桶"]
["2021-03-27","废包装桶"]
["2021-03-28","废包装桶"]
["2021-03-29","废包装桶"]
["2021-03-30","废包装桶"]
["2021-03-31","废包装桶"]
["合计",null,0,null,null,0,{"$f":"G70","v":0.086}]
[]
["2021-04-01","废包装桶"]
["2021-04-02","废包装桶"]
["2021-04-03","废包装桶"]
["2021-04-04","废包装桶"]
["2021-04-05","废包装桶"]
["2021-04-06","废包装桶"]
["2021-04-07","废包装桶"]
["2021-04-08","废包装桶",0.049,{"$nulls":3},{"$f":"G103+C112","v":0.135},null,"诸美娟"]
["2021-04-09","废包装桶",{"$nulls":4},{"$f":"G112+C113-F113","v":0.135}]
["2021-04-10","废包装桶",{"$nulls":4},0.135]
["2021-04-11","废包装桶",{"$nulls":4},0.135]
["2021-04-12","废包装桶",{"$nulls":4},0.135]
["2021-04-13","废包装桶",{"$nulls":4},0.135]
["2021-04-14","废包装桶",{"$nulls":4},0.135]
["2021-04-15","废包装桶",{"$nulls":4},0.135]
["2021-04-16","废包装桶",{"$nulls":4},0.135]
["2021-04-17","废包装桶",{"$nulls":4},0.135]
["2021-04-18","废包装桶",{"$nulls":4},0.135]
["2021-04-19","废包装桶",{"$nulls":4},0.135]
["2021-04-20","废包装桶",{"$nulls":4},0.135]
["2021-04-21","废包装桶",{"$nulls":4},0.135]
["2021-04-22","废包装桶",0.033,{"$nulls":3},0.168,null,"诸美娟"]
["2021-04-23","废包装桶",{"$nulls":4},0.168]
["2021-04-24","废包装桶",{"$nulls":4},0.168]
["2021-04-25","废包装桶",{"$nulls":4},0.168]
["2021-04-26","废包装桶",{"$nulls":4},0.168]
["2021-04-27","废包装桶",{"$nulls":4},0.168]
["2021-04-28","废包装桶",{"$nulls":4},0.168]
["2021-04-29","废包装桶",{"$nulls":4},0.168]
["2021-04-30","废包装桶",{"$nulls":4},0.168]
[{"$nulls":6},0.168]
["合计",null,{"$f":"C112+C126","v":0.082},null,null,0,{"$f":"G135","v":0.168}]
[]
["2021-05-01","废包装桶",{"$nulls":4},{"$f":"G136+C138-F138","v":0.168}]
["2021-05-02","废包装桶",{"$nulls":4},{"$f":"G138+C139-F139","v":0.168}]
["2021-05-03","废包装桶",{"$nulls":4},{"$f":"G138+C140-F140","v":0.168}]
["2021-05-04","废包装桶",{"$nulls":4},0.168]
["2021-05-05","废包装桶",{"$nulls":4},0.168]
["2021-05-06","废包装桶",{"$nulls":4},0.168]
["2021-05-07","废包装桶",{"$nulls":4},0.168]
["2021-05-08","废包装桶",{"$nulls":4},0.168]
["2021-05-09","废包装桶",{"$nulls":4},0.168]
["2021-05-10","废包装桶",{"$nulls":4},0.168]
["2021-05-11","废包装桶",{"$nulls":4},0.168]
["2021-05-12","废包装桶",{"$nulls":4},0.168]
["2021-05-13","废包装桶",{"$nulls":4},0.168]
["2021-05-14","废包装桶",{"$nulls":4},0.168]
["2021-05-15","废包装桶",{"$nulls":4},0.168]
["2021-05-16","废包装桶",{"$nulls":4},0.168]
["2021-05-17","废包装桶",{"$nulls":4},0.168]
["2021-05-18","废包装桶",{"$nulls":4},0.168]
["2021-05-19","废包装桶",{"$nulls":4},0.168]
["2021-05-20","废包装桶",{"$nulls":4},0.168]
["2021-05-21","废包装桶",{"$nulls":4},0.168]
["2021-05-22","废包装桶",{"$nulls":4},0.168]
["2021-05-23","废包装桶",{"$nulls":4},0.168]
["2021-05-24","废包装桶",{"$nulls":4},0.168]
["2021-05-25","废包装桶",{"$nulls":4},0.168]
["2021-05-26","废包装桶",{"$nulls":4},0.168]
["2021-05-27","废包装桶",{"$nulls":4},0.168]
["2021-05-28","废包装桶",{"$nulls":4},0.168]
["2021-05-29","废包装桶",{"$nulls":4},0.168]
["2021-05-30","废包装桶",{"$nulls":4},0.168]
["2021-05-31","废包装桶",{"$nulls":4},0.168]
["合计",null,{"$f":"C158","v":0},null,null,{"$f":"F158","v":0},{"$f":"G136","v":0.168}]
[]
["2021-06-01","废包装桶",{"$nulls":4},{"$f":"G169+C171-F171","v":0.168}]
["2021-06-02","废包装桶",{"$nulls":4},{"$f":"G171+C172-F172","v":0.168}]
["2021-06-03","废包装桶",{"$nulls":4},{"$f":"G171+C173-F173","v":0.168}]
["2021-06-04","废包装桶",{"$nulls":4},0.168]
["2021-06-05","废包装桶",{"$nulls":4},0.168]
["2021-06-06","废包装桶",{"$nulls":4},0.168]
["2021-06-07","废包装桶",{"$nulls":4},0.168]
["2021-06-08","废包装桶",{"$nulls":4},0.168]
["2021-06-09","废包装桶",{"$nulls":4},0.168]
["2021-06-10","废包装桶",{"$nulls":4},0.168]
["2021-06-11","废包装桶",{"$nulls":4},0.168]
["2021-06-12","废包装桶",{"$nulls":4},0.168]
["2021-06-13","废包装桶",{"$nulls":4},0.168]
["2021-06-14","废包装桶",{"$nulls":4},0.168]
["2021-06-15","废包装桶",{"$nulls":4},0.168]
["2021-06-16","废包装桶",{"$nulls":4},0.168]
["2021-06-17","废包装桶",{"$nulls":4},0.168]
["2021-06-18","废包装桶",{"$nulls":4},0.168]
["2021-06-19","废包装桶",{"$nulls":4},0.168]
["2021-06-20","废包装桶",{"$nulls":4},0.168]
["2021-06-21","废包装桶",{"$nulls":4},0.168]
["2021-06-22","废包装桶",{"$nulls":4},0.168]
["2021-06-23","废包装桶",{"$nulls":4},0.168]
["2021-06-24","废包装桶",{"$nulls":4},0.168]
["2021-06-25","废包装桶",{"$nulls":4},0.168]
["2021-06-26","废包装桶",{"$nulls":4},0.168]
["2021-06-27","废包装桶",{"$nulls":4},0.168]
["2021-06-28","废包装桶",{"$nulls":4},0.168]
["2021-06-29","废包装桶",{"$nulls":4},0.168]
["2021-06-30","废包装桶",{"$nulls":4},0.168]
[]
["合计",null,{"$f":"SUM(C171:C201)","v":0},null,null,{"$f":"F174","v":0},{"$f":"G182","v":0.168}]
[]
["2021-07-01","废包装桶",{"$nulls":4},{"$f":"G202+C204-F204","v":0.168}]
["2021-07-02","废包装桶",{"$nulls":4},{"$f":"G204+C205-F205","v":0.168}]
["2021-07-03","废包装桶",{"$nulls":4},{"$f":"G204+C206-F206","v":0.168}]
["2021-07-04","废包装桶",{"$nulls":4},0.168]
["2021-07-05","废包装桶",{"$nulls":4},0.168]
["2021-07-06","废包装桶",{"$nulls":4},0.168]
["2021-07-07","废包装桶",{"$nulls":4},0.168]
["2021-07-08","废包装桶",{"$nulls":4},0.168]
["2021-07-09","废包装桶",0.072,null,null,0,{"$f":"G211+C212-F212","v":0.24},null,"诸美娟"]
["2021-07-10","废包装桶",{"$nulls":4},0.24]
["2021-07-11","废包装桶",{"$nulls":4},0.24]
["2021-07-12","废包装桶",{"$nulls":4},0.24]
["2021-07-13","废包装桶",{"$nulls":4},0.24]
["2021-07-14","废包装桶",{"$nulls":4},0.24]
["2021-07-15","废包装桶",{"$nulls":4},0.24]
["2021-07-16","废包装桶",{"$nulls":4},0.24]
["2021-07-17","废包装桶",{"$nulls":4},0.24]
["2021-07-18","废包装桶",{"$nulls":4},0.24]
["2021-07-19","废包装桶",{"$nulls":4},0.24]
["2021-07-20","废包装桶",{"$nulls":4},0.24]
["2021-07-21","废包装桶",{"$nulls":4},0.24]
["2021-07-22","废包装桶",{"$nulls":4},0.24]
["2021-07-23","废包装桶",{"$nulls":4},0.24]
["2021-07-24","废包装桶",{"$nulls":4},0.24]
["2021-07-25","废包装桶",{"$nulls":4},{"$f":"G226-C228-F228","v":0.24}]
["2021-07-26","废包装桶",{"$nulls":4},0.24]
["2021-07-27","废包装桶",{"$nulls":4},0.24]
["2021-07-28","废包装桶",{"$nulls":4},0.24]
["2021-07-29","废包装桶",{"$nulls":4},0.24]
["2021-07-30","废包装桶",{"$nulls":4},0.24]
["2021-07-31","废包装桶",{"$nulls":4},0.24]
["合计",null,{"$f":"SUM(C203:C234)","v":0.072},null,null,{"$f":"SUM(F203:F234)","v":0},{"$f":"G234","v":0.24}]
[]
["2021-08-01","废包装桶"]
["2021-08-02","废包装桶"]
["2021-08-03","废包装桶"]
["2021-08-04","废包装桶"]
["2021-08-05","废包装桶"]
["2021-08-06","废包装桶"]
["2021-08-07","废包装桶"]
["2021-08-08","废包装桶"]
["2021-08-09","废包装桶"]
["2021-08-10","废包装桶"]
["2021-08-11","废包装桶"]
["2021-08-12","废包装桶"]
["2021-08-13","废包装桶"]
["2021-08-14","废包装桶"]
["2021-08-15","废包装桶"]
["2021-08-16","废包装桶"]
["2021-08-17","废包装桶"]
["2021-08-18","废包装桶"]
["2021-08-19","废包装桶"]
["2021-08-20","废包装桶",0.034,{"$nulls":3},{"$f":"G235+C256","v":0.274},null,"诸美娟"]
["2021-08-21","废包装桶"]
["2021-08-22","废包装桶"]
["2021-08-23","废包装桶"]
["2021-08-24","废包装桶"]
["2021-08-25","废包装桶"]
["2021-08-26","废包装桶"]
["2021-08-27","废包装桶"]
["2021-08-28","废包装桶"]
["2021-08-29","废包装桶"]
["2021-08-30","废包装桶"]
["2021-08-31","废包装桶"]
["合计",null,{"$f":"SUM(C238:C267)","v":0.034},null,{"$f":"SUM(E238:E267)","v":0},0,{"$f":"G256","v":0.274}]
[]
["2021-09-01","废包装桶"]
["2021-09-02","废包装桶"]
["2021-09-03","废包装桶"]
["2021-09-04","废包装桶"]
["2021-09-05","废包装桶"]
["2021-09-06","废包装桶"]
["2021-09-07","废包装桶"]
["2021-09-08","废包装桶"]
["2021-09-09","废包装桶"]
["2021-09-10","废包装桶"]
["2021-09-11","废包装桶"]
["2021-09-12","废包装桶"]
["2021-09-13","废包装桶"]
["2021-09-14","废包装桶"]
["2021-09-15","废包装桶"]
["2021-09-16","废包装桶"]
["2021-09-17","废包装桶"]
["2021-09-18","废包装桶"]
["2021-09-19","废包装桶"]
["2021-09-20","废包装桶"]
["2021-09-21","废包装桶"]
["2021-09-22","废包装桶"]
["2021-09-23","废包装桶"]
["2021-09-24","废包装桶"]
["2021-09-25","废包装桶"]
["2021-09-26","废包装桶"]
["2021-09-27","废包装桶"]
["2021-09-28","废包装桶"]
["2021-09-29","废包装桶"]
["2021-09-30","废包装桶"]
[]
["合计",null,{"$f":"SUM(C270:C300)","v":0},null,null,{"$f":"SUM(F270:F300)","v":0},{"$f":"G268","v":0.274}]
[]
["2021-10-01","废包装桶"]
["2021-10-02","废包装桶"]
["2021-10-03","废包装桶"]
["2021-10-04","废包装桶"]
["2021-10-05","废包装桶"]
["2021-10-06","废包装桶"]
["2021-10-07","废包装桶"]
["2021-10-08","废包装桶"]
["2021-10-09","废包装桶"]
["2021-10-10","废包装桶"]
["2021-10-11","废包装桶"]
["2021-10-12","废包装桶"]
["2021-10-13","废包装桶"]
["2021-10-14","废包装桶"]
["2021-10-15","废包装桶"]
["2021-10-16","废包装桶"]
["2021-10-17","废包装桶"]
["2021-10-18","废包装桶",0.3369,null,null,{"$f":"G301+C320","v":0.6109},{"$f":"G301+C320-F320","v":0},"浙江润淼再生资源有限公司","诸美娟"]
["2021-10-19","废包装桶"]
["2021-10-20","废包装桶"]
["2021-10-21","废包装桶"]
["2021-10-22","废包装桶"]
["2021-10-23","废包装桶"]
["2021-10-24","废包装桶"]
["2021-10-25","废包装桶"]
["2021-10-26","废包装桶"]
["2021-10-27","废包装桶"]
["2021-10-28","废包装桶"]
["2021-10-29","废包装桶",0.133,{"$nulls":3},0.133,null,"诸美娟"]
["2021-10-30","废包装桶"]
["2021-10-31","废包装桶"]
["合计",null,{"$f":"C320+C331","v":0.4699},null,null,{"$f":"F320","v":0.6109},{"$f":"G331","v":0.133}]
[]
["2021-11-01","废包装桶"]
["2021-11-02","废包装桶"]
["2021-11-03","废包装桶"]
["2021-11-04","废包装桶"]
["2021-11-05","废包装桶"]
["2021-11-06","废包装桶"]
["2021-11-07","废包装桶"]
["2021-11-08","废包装桶"]
["2021-11-09","废包装桶"]
["2021-11-10","废包装桶"]
["2021-11-11","废包装桶"]
["2021-11-12","废包装桶"]
["2021-11-13","废包装桶"]
["2021-11-14","废包装桶"]
["2021-11-15","废包装桶"]
["2021-11-16","废包装桶"]
["2021-11-17","废包装桶"]
["2021-11-18","废包装桶"]
["2021-11-19","废包装桶"]
["2021-11-20","废包装桶"]
["2021-11-21","废包装桶"]
["2021-11-22","废包装桶"]
["2021-11-23","废包装桶"]
["2021-11-24","废包装桶"]
["2021-11-25","废包装桶"]
["2021-11-26","废包装桶"]
["2021-11-27","废包装桶"]
["2021-11-28","废包装桶"]
["2021-11-29","废包装桶"]
["2021-11-30","废包装桶"]
["合计",null,{"$f":"C364","v":0},null,null,{"$f":"F364","v":0},{"$f":"G334","v":0.133}]
["2021-12-01","废包装桶"]
["2021-12-02","废包装桶"]
["2021-12-03","废包装桶"]
["2021-12-04","废包装桶"]
["2021-12-05","废包装桶"]
["2021-12-06","废包装桶"]
["2021-12-07","废包装桶"]
["2021-12-08","废包装桶"]
["2021-12-09","废包装桶"]
["2021-12-10","废包装桶"]
["2021-12-11","废包装桶"]
["2021-12-12","废包装桶"]
["2021-12-13","废包装桶"]
["2021-12-14","废包装桶"]
["2021-12-15","废包装桶"]
["2021-12-16","废包装桶",0,null,null,0.133,0,"浙江润淼再生资源有限公司","诸美娟"]
["2021-12-17","废包装桶"]
["2021-12-18","废包装桶"]
["2021-12-19","废包装桶"]
["2021-12-20","废包装桶"]
["2021-12-21","废包装桶"]
["2021-12-22","废包装桶"]
["2021-12-23","废包装桶"]
["2021-12-24","废包装桶"]
["2021-12-25","废包装桶"]
["2021-12-26","废包装桶"]
["2021-12-27","废包装桶"]
["2021-12-28","废包装桶"]
["2021-12-29","废包装桶"]
["2021-12-30","废包装桶"]
["2021-12-31","废包装桶"]
["合计",null,{"$f":"C366","v":0},null,null,{"$f":"F382","v":0.133},0]

{"sheet":"2021年月度统计 ","index":5,"n_rows":18,"n_cols":10,"rows_kept":18,"merged":[[0,0,0,8],[1,0,2,0],[1,1,2,1],[1,2,2,2],[1,3,2,3],[1,4,1,5],[1,6,2,6],[1,7,2,7],[1,8,2,8],[17,0,17,5]]}
["生产过程产生的固体废物利用及处置情况（按日填写）板纸     ( 2021)"]
["日期","固 体 废 物 名 称","产生数量","自行处置数量","委托利用、处置情况",null,"累计贮存数量（吨）","备注","填表人"]
[{"$nulls":4},"委托利用数量","委托处置数量"]
["1月份","废包装桶",{"$f":"'2021年 '!C35","v":0.086},null,null,{"$f":"'2021年 '!F35","v":0},{"$f":"'2021年 '!G35","v":0.086},null,"诸美娟","0吨"]
["2月份","废包装桶",{"$f":"'2021年 '!C70","v":0},null,null,{"$f":"'2021年 '!F70","v":0},{"$f":"'2021年 '!G70","v":0.086},null,"诸美娟"]
["3月份","废包装桶",{"$f":"'2021年 '!C103","v":0},null,null,{"$f":"'2021年 '!F103","v":0},{"$f":"'2021年 '!G103","v":0.086},null,"诸美娟"]
["4月份","废包装桶",{"$f":"'2021年 '!C136","v":0.082},null,null,{"$f":"'2021年 '!F136","v":0},{"$f":"'2021年 '!G136","v":0.168},null,"诸美娟"]
["5月份","废包装桶",{"$f":"'2021年 '!C169","v":0},null,null,{"$f":"'2021年 '!F169","v":0},{"$f":"'2021年 '!G169","v":0.168},null,"诸美娟"]
["6月份","废包装桶",{"$f":"'2021年 '!C202","v":0},null,null,{"$f":"'2021年 '!F202","v":0},{"$f":"'2021年 '!G202","v":0.168},null,"诸美娟"]
["7月份","废包装桶",{"$f":"'2021年 '!C235","v":0.072},null,null,{"$f":"'2021年 '!F235","v":0},{"$f":"'2021年 '!G235","v":0.24},null,"诸美娟"]
["8月份","废包装桶",{"$f":"'2021年 '!C268","v":0.034},null,null,{"$f":"'2021年 '!F268","v":0},{"$f":"'2021年 '!G268","v":0.274},null,"诸美娟"]
["9月份","废包装桶",{"$f":"'2021年 '!C301","v":0},null,null,{"$f":"'2021年 '!F301","v":0},{"$f":"'2021年 '!G301","v":0.274},null,"诸美娟"]
["10月份","废包装桶",{"$f":"'2021年 '!C334","v":0.4699},null,null,{"$f":"'2021年 '!F334","v":0.6109},{"$f":"'2021年 '!G334","v":0.133},"浙江润淼再生资源有限公司","诸美娟"]
["11月份","废包装桶",{"$f":"'2021年 '!C366","v":0},null,null,{"$f":"'2021年 '!F366","v":0},{"$f":"'2021年 '!G366","v":0.133},null,"诸美娟"]
["12月份","废包装桶",{"$f":"'2021年 '!C398","v":0},null,null,{"$f":"'2021年 '!F398","v":0.133},{"$f":"'2021年 '!G398","v":0},"浙江润淼再生资源有限公司","诸美娟"]
["合计",null,{"$f":"SUM(C4:C15)","v":0.7439},null,null,{"$f":"SUM(F4:F15)","v":0.7439},{"$f":"G15","v":0}]
[]
["板纸废包装桶2019年1月份开始统计"]

{"sheet":"2022年  ","index":6,"n_rows":397,"n_cols":12,"rows_kept":397,"merged":[[0,0,0,8],[1,0,2,0],[1,1,2,1],[1,2,2,2],[1,3,2,3],[1,4,1,5],[1,6,2,6],[1,7,2,7],[1,8,2,8],[34,0,34,1],[35,0,35,5],[69,0,69,1],[102,0,102,1],[135,0,135,1],[168,0,168,1],[201,0,201,1],[234,0,234,1],[267,0,267,1],[300,0,300,1],[332,0,332,1],[364,0,364,1],[396,0,396,1]]}
["生产过程产生的固体废物利用及处置情况（按日填写）板纸"]
["日期","固 体 废 物 名 称","产生数量","自行处置数量","委托利用、处置情况",null,"累计贮存数量(吨)","备注","填表人"]
[{"$nulls":4},"委托利用数量","委托处置数量"]
["2022-01-01","废包装桶",{"$nulls":7},"2017年",null,"2018年"]
["2022-01-02","废包装桶",{"$nulls":7},"2吨",null,"0吨"]
["2022-01-03","废包装桶"]
["2022-01-04","废包装桶"]
["2022-01-05","废包装桶"]
["2022-01-06","废包装桶"]
["2022-01-07","废包装桶"]
["2022-01-08","废包装桶"]
["2022-01-09","废包装桶"]
["2022-01-10","废包装桶"]
["2022-01-11","废包装桶"]
["2022-01-12","废包装桶"]
["2022-01-13","废包装桶"]
["2022-01-14","废包装桶"]
["2022-01-15","废包装桶"]
["2022-01-16","废包装桶"]
["2022-01-17","废包装桶"]
["2022-01-18","废包装桶"]
["2022-01-19","废包装桶"]
["2022-01-20","废包装桶"]
["2022-01-21","废包装桶"]
["2022-01-22","废包装桶"]
["2022-01-23","废包装桶"]
["2022-01-24","废包装桶"]
["2022-01-25","废包装桶"]
["2022-01-26","废包装桶"]
["2022-01-27","废包装桶"]
["2022-01-28","废包装桶"]
["2022-01-29","废包装桶"]
["2022-01-30","废包装桶"]
["2022-01-31","废包装桶"]
["合计",null,{"$f":"C28","v":0},null,null,{"$f":"F27","v":0},{"$f":"G28","v":0}]
["备注：2019年1月1日起开始统计"]
[]
[]
["2022-02-01","废包装桶"]
["2022-02-02","废包装桶"]
["2022-02-03","废包装桶"]
["2022-02-04","废包装桶"]
["2022-02-05","废包装桶"]
["2022-02-06","废包装桶"]
["2022-02-07","废包装桶"]
["2022-02-08","废包装桶"]
["2022-02-09","废包装桶"]
["2022-02-10","废包装桶"]
["2022-02-11","废包装桶"]
["2022-02-12","废包装桶"]
["2022-02-13","废包装桶"]
["2022-02-14","废包装桶"]
["2022-02-15","废包装桶"]
["2022-02-16","废包装桶"]
["2022-02-17","废包装桶"]
["2022-02-18","废包装桶"]
["2022-02-19","废包装桶"]
["2022-02-20","废包装桶"]
["2022-02-21","废包装桶"]
["2022-02-22","废包装桶"]
["2022-02-23","废包装桶"]
["2022-02-24","废包装桶"]
["2022-02-25","废包装桶"]
["2022-02-26","废包装桶"]
["2022-02-27","废包装桶"]
["2022-02-28","废包装桶"]
[]
[]
[]
["合计",null,{"$f":"SUM(C39:C69)","v":0},null,null,{"$f":"SUM(F39:F69)","v":0},{"$f":"G35","v":0}]
[]
["2022-03-01","废包装桶"]
["2022-03-02","废包装桶"]
["2022-03-03","废包装桶"]
["2022-03-04","废包装桶"]
["2022-03-05","废包装桶"]
["2022-03-06","废包装桶"]
["2022-03-07","废包装桶"]
["2022-03-08","废包装桶"]
["2022-03-09","废包装桶"]
["2022-03-10","废包装桶"]
["2022-03-11","废包装桶"]
["2022-03-12","废包装桶"]
["2022-03-13","废包装桶"]
["2022-03-14","废包装桶"]
["2022-03-15","废包装桶"]
["2022-03-16","废包装桶"]
["2022-03-17","废包装桶"]
["2022-03-18","废包装桶"]
["2022-03-19","废包装桶"]
["2022-03-20","废包装桶"]
["2022-03-21","废包装桶"]
["2022-03-22","废包装桶"]
["2022-03-23","废包装桶"]
["2022-03-24","废包装桶"]
["2022-03-25","废包装桶"]
["2022-03-26","废包装桶"]
["2022-03-27","废包装桶"]
["2022-03-28","废包装桶"]
["2022-03-29","废包装桶"]
["2022-03-30","废包装桶"]
["2022-03-31","废包装桶",0.212,{"$nulls":3},{"$f":"C102","v":0.212},null,"诸美娟"]
["合计",null,{"$f":"C102","v":0.212},null,null,0,{"$f":"C102","v":0.212}]
[]
["2022-04-01","废包装桶",{"$nulls":4},{"$f":"G103+C105-F105","v":0.212}]
["2022-04-02","废包装桶",{"$nulls":4},{"$f":"G105+C106-F106","v":0.212}]
["2022-04-03","废包装桶",{"$nulls":4},{"$f":"G106+C107-F107","v":0.212}]
["2022-04-04","废包装桶",{"$nulls":4},{"$f":"G107+C108-F108","v":0.212}]
["2022-04-05","废包装桶",{"$nulls":4},{"$f":"G108+C109-F109","v":0.212}]
["2022-04-06","废包装桶",{"$nulls":4},{"$f":"G109+C110-F110","v":0.212}]
["2022-04-07","废包装桶",{"$nulls":4},{"$f":"G102+C111","v":0.212}]
["2022-04-08","废包装桶",{"$nulls":4},{"$f":"G103+C112","v":0.212}]
["2022-04-09","废包装桶",{"$nulls":4},{"$f":"G112+C113-F113","v":0.212}]
["2022-04-10","废包装桶",{"$nulls":4},0.212]
["2022-04-11","废包装桶",{"$nulls":4},0.212]
["2022-04-12","废包装桶",{"$nulls":4},0.212]
["2022-04-13","废包装桶",{"$nulls":4},0.212]
["2022-04-14","废包装桶",{"$nulls":4},0.212]
["2022-04-15","废包装桶",{"$nulls":4},0.212]
["2022-04-16","废包装桶",{"$nulls":4},0.212]
["2022-04-17","废包装桶",{"$nulls":4},0.212]
["2022-04-18","废包装桶",{"$nulls":4},0.212]
["2022-04-19","废包装桶",{"$nulls":4},0.212]
["2022-04-20","废包装桶",0.112,{"$nulls":3},0.324,null,"诸美娟"]
["2022-04-21","废包装桶",{"$nulls":4},0.324]
["2022-04-22","废包装桶",{"$nulls":4},0.324]
["2022-04-23","废包装桶",{"$nulls":4},0.324]
["2022-04-24","废包装桶",{"$nulls":4},0.324]
["2022-04-25","废包装桶",{"$nulls":4},0.324]
["2022-04-26","废包装桶",{"$nulls":4},0.324]
["2022-04-27","废包装桶",{"$nulls":4},0.324]
["2022-04-28","废包装桶",{"$nulls":4},0.324]
["2022-04-29","废包装桶",{"$nulls":4},0.324]
["2022-04-30","废包装桶",{"$nulls":4},0.324]
[{"$nulls":6},0.324]
["合计",null,{"$f":"C124","v":0.112},null,null,0,{"$f":"G135","v":0.324}]
[]
["2022-05-01","废包装桶",{"$nulls":4},{"$f":"G136+C138-F138","v":0.324}]
["2022-05-02","废包装桶",{"$nulls":4},{"$f":"G138+C139-F139","v":0.324}]
["2022-05-03","废包装桶",{"$nulls":4},0.324]
["2022-05-04","废包装桶",{"$nulls":4},0.324]
["2022-05-05","废包装桶",{"$nulls":4},0.324]
["2022-05-06","废包装桶",{"$nulls":4},0.324]
["2022-05-07","废包装桶",{"$nulls":4},0.324]
["2022-05-08","废包装桶",{"$nulls":4},0.324]
["2022-05-09","废包装桶",{"$nulls":4},0.324]
["2022-05-10","废包装桶",{"$nulls":4},0.324]
["2022-05-11","废包装桶",{"$nulls":4},0.324]
["2022-05-12","废包装桶",{"$nulls":4},0.324]
["2022-05-13","废包装桶",{"$nulls":4},0.324]
["2022-05-14","废包装桶",{"$nulls":4},0.324]
["2022-05-15","废包装桶",{"$nulls":4},0.324]
["2022-05-16","废包装桶",null,null,0.324,null,{"$f":"G151+C153-E153","v":0},"浙江润淼再生资源有限公司","诸美娟/胡才法"]
["2022-05-17","废包装桶",{"$nulls":4},{"$f":"G153","v":0}]
["2022-05-18","废包装桶",{"$nulls":4},0]
["2022-05-19","废包装桶",{"$nulls":4},0]
["2022-05-20","废包装桶",{"$nulls":4},0]
["2022-05-21","废包装桶",{"$nulls":4},0]
["2022-05-22","废包装桶",{"$nulls":4},0]
["2022-05-23","废包装桶",{"$nulls":4},0]
["2022-05-24","废包装桶",{"$nulls":4},0]
["2022-05-25","废包装桶",{"$nulls":4},0]
["2022-05-26","废包装桶",0.08,{"$nulls":3},0.08,null,"诸美娟"]
["2022-05-27","废包装桶",{"$nulls":4},{"$f":"G163+C164-F164","v":0.08}]
["2022-05-28","废包装桶",{"$nulls":4},0.08]
["2022-05-29","废包装桶",{"$nulls":4},0.08]
["2022-05-30","废包装桶",{"$nulls":4},0.08]
["2022-05-31","废包装桶",{"$nulls":4},0.08]
["合计",null,{"$f":"SUM(C138:C168)","v":0.08},{"$f":"SUM(D138:D168)","v":0},{"$f":"SUM(E138:E168)","v":0.324},null,{"$f":"G168","v":0.08}]
[]
["2022-06-01","废包装桶",{"$nulls":4},{"$f":"G169+C171-F171","v":0.08}]
["2022-06-02","废包装桶",{"$nulls":4},{"$f":"G171+C172-F172","v":0.08}]
["2022-06-03","废包装桶",{"$nulls":4},0.08]
["2022-06-04","废包装桶",{"$nulls":4},0.08]
["2022-06-05","废包装桶",{"$nulls":4},0.08]
["2022-06-06","废包装桶",{"$nulls":4},0.08]
["2022-06-07","废包装桶",{"$nulls":4},0.08]
["2022-06-08","废包装桶",{"$nulls":4},0.08]
["2022-06-09","废包装桶",{"$nulls":4},0.08]
["2022-06-10","废包装桶",{"$nulls":4},0.08]
["2022-06-11","废包装桶",{"$nulls":4},0.08]
["2022-06-12","废包装桶",{"$nulls":4},0.08]
["2022-06-13","废包装桶",{"$nulls":4},0.08]
["2022-06-14","废包装桶",{"$nulls":4},0.08]
["2022-06-15","废包装桶",{"$nulls":4},0.08]
["2022-06-16","废包装桶",{"$nulls":4},0.08]
["2022-06-17","废包装桶",{"$nulls":4},0.08]
["2022-06-18","废包装桶",{"$nulls":4},0.08]
["2022-06-19","废包装桶",{"$nulls":4},0.08]
["2022-06-20","废包装桶",{"$nulls":4},0.08]
["2022-06-21","废包装桶",{"$nulls":4},0.08]
["2022-06-22","废包装桶",{"$nulls":4},0.08]
["2022-06-23","废包装桶",{"$nulls":4},0.08]
["2022-06-24","废包装桶",{"$nulls":4},0.08]
["2022-06-25","废包装桶",{"$nulls":4},0.08]
["2022-06-26","废包装桶",{"$nulls":4},0.08]
["2022-06-27","废包装桶",{"$nulls":4},0.08]
["2022-06-28","废包装桶",{"$nulls":4},0.08]
["2022-06-29","废包装桶",0.094,{"$nulls":3},{"$f":"G198+C199-F199","v":0.174},null,"诸美娟"]
["2022-06-30","废包装桶",{"$nulls":4},{"$f":"G199+C200-F200","v":0.174}]
[]
["合计",null,{"$f":"SUM(C171:C201)","v":0.094},{"$f":"SUM(D171:D201)","v":0},{"$f":"SUM(E171:E201)","v":0},{"$f":"F174","v":0},{"$f":"G200","v":0.174}]
[]
["2022-07-01","废包装桶",{"$nulls":4},{"$f":"G202+C204-F204","v":0.174}]
["2022-07-02","废包装桶",{"$nulls":4},{"$f":"G204+C205-F205","v":0.174}]
["2022-07-03","废包装桶",{"$nulls":4},0.174]
["2022-07-04","废包装桶",{"$nulls":4},0.174]
["2022-07-05","废包装桶",{"$nulls":4},0.174]
["2022-07-06","废包装桶",{"$nulls":4},0.174]
["2022-07-07","废包装桶",{"$nulls":4},0.174]
["2022-07-08","废包装桶",{"$nulls":4},0.174]
["2022-07-09","废包装桶",{"$nulls":4},0.174]
["2022-07-10","废包装桶",{"$nulls":4},{"$f":"G212+C213-F213","v":0.174}]
["2022-07-11","废包装桶",{"$nulls":4},0.174]
["2022-07-12","废包装桶",{"$nulls":4},0.174]
["2022-07-13","废包装桶",{"$nulls":4},0.174]
["2022-07-14","废包装桶",{"$nulls":4},0.174]
["2022-07-15","废包装桶",{"$nulls":4},0.174]
["2022-07-16","废包装桶",{"$nulls":4},0.174]
["2022-07-17","废包装桶",{"$nulls":4},0.174]
["2022-07-18","废包装桶",0.048,{"$nulls":3},0.222,null,"诸美娟"]
["2022-07-19","废包装桶",{"$nulls":4},0.222]
["2022-07-20","废包装桶",{"$nulls":4},0.222]
["2022-07-21","废包装桶",{"$nulls":4},0.222]
["2022-07-22","废包装桶",{"$nulls":4},0.222]
["2022-07-23","废包装桶",{"$nulls":4},0.222]
["2022-07-24","废包装桶",{"$nulls":4},0.222]
["2022-07-25","废包装桶",{"$nulls":4},{"$f":"G226-C228-F228","v":0.222}]
["2022-07-26","废包装桶",{"$nulls":4},0.222]
["2022-07-27","废包装桶",{"$nulls":4},0.222]
["2022-07-28","废包装桶",0.048,{"$nulls":3},{"$f":"G230+C231-E231","v":0.27},null,"诸美娟"]
["2022-07-29","废包装桶",{"$nulls":4},{"$f":"G231+C232-E232","v":0.27}]
["2022-07-30","废包装桶",{"$nulls":4},{"$f":"G232+C233-E233","v":0.27}]
["2022-07-31","废包装桶",{"$nulls":4},{"$f":"G233+C234-E234","v":0.27}]
["合计",null,{"$f":"SUM(C203:C234)","v":0.096},{"$f":"SUM(D203:D234)","v":0},{"$f":"SUM(E203:E234)","v":0},{"$f":"SUM(F203:F234)","v":0},{"$f":"G234","v":0.27}]
[]
["2022-08-01","废包装桶"]
["2022-08-02","废包装桶"]
["2022-08-03","废包装桶"]
["2022-08-04","废包装桶"]
["2022-08-05","废包装桶"]
["2022-08-06","废包装桶"]
["2022-08-07","废包装桶"]
["2022-08-08","废包装桶"]
["2022-08-09","废包装桶"]
["2022-08-10","废包装桶"]
["2022-08-11","废包装桶",0.0775,{"$nulls":3},{"$f":"G235+C247-E247","v":0.3475},null,"方剑其"]
["2022-08-12","废包装桶"]
["2022-08-13","废包装桶"]
["2022-08-14","废包装桶"]
["2022-08-15","废包装桶"]
["2022-08-16","废包装桶"]
["2022-08-17","废包装桶"]
["2022-08-18","废包装桶"]
["2022-08-19","废包装桶"]
["2022-08-20","废包装桶"]
["2022-08-21","废包装桶"]
["2022-08-22","废包装桶"]
["2022-08-23","废包装桶"]
["2022-08-24","废包装桶"]
["2022-08-25","废包装桶",0.033,{"$nulls":3},{"$f":"C261+G247","v":0.3805},null,"诸美娟"]
["2022-08-26","废包装桶"]
["2022-08-27","废包装桶"]
["2022-08-28","废包装桶"]
["2022-08-29","废包装桶"]
["2022-08-30","废包装桶"]
["2022-08-31","废包装桶"]
["合计",null,{"$f":"SUM(C238:C267)","v":0.1105},null,0,0,{"$f":"G261","v":0.3805}]
[]
["2022-09-01","废包装桶"]
["2022-09-02","废包装桶"]
["2022-09-03","废包装桶"]
["2022-09-04","废包装桶"]
["2022-09-05","废包装桶"]
["2022-09-06","废包装桶"]
["2022-09-07","废包装桶"]
["2022-09-08","废包装桶"]
["2022-09-09","废包装桶"]
["2022-09-10","废包装桶"]
["2022-09-11","废包装桶"]
["2022-09-12","废包装桶"]
["2022-09-13","废包装桶"]
["2022-09-14","废包装桶"]
["2022-09-15","废包装桶",0.378,{"$nulls":3},{"$f":"G268+C284","v":0.7585},null,"诸美娟"]
["2022-09-16","废包装桶"]
["2022-09-17","废包装桶"]
["2022-09-18","废包装桶"]
["2022-09-19","废包装桶",null,null,{"$f":"G284+C288","v":0.7585},null,{"$f":"G284+C288-E288","v":0},"浙江润淼再生资源有限公司","诸美娟"]
["2022-09-20","废包装桶",{"$nulls":4},{"$f":"G285+C289-E289","v":0}]
["2022-09-21","废包装桶",{"$nulls":4},{"$f":"G286+C290-E290","v":0}]
["2022-09-22","废包装桶",0.045,{"$nulls":3},{"$f":"G287+C291-E291","v":0.045},null,"诸美娟"]
["2022-09-23","废包装桶",{"$nulls":4},{"$f":"G290+C291-E291","v":0.045}]
["2022-09-24","废包装桶",{"$nulls":4},{"$f":"G291+C292-E292","v":0.045}]
["2022-09-25","废包装桶",{"$nulls":4},0.045]
["2022-09-26","废包装桶",{"$nulls":4},0.045]
["2022-09-27","废包装桶",{"$nulls":4},0.045]
["2022-09-28","废包装桶",{"$nulls":4},0.045]
["2022-09-29","废包装桶",0.08,{"$nulls":3},{"$f":"C298+G297-E298","v":0.125},null,"诸美娟"]
["2022-09-30","废包装桶",{"$nulls":4},0.125]
[]
["合计",null,{"$f":"SUM(C270:C300)","v":0.503},{"$f":"SUM(D270:D300)","v":0},{"$f":"SUM(E270:E300)","v":0.7585},{"$f":"SUM(F270:F300)","v":0},{"$f":"G299","v":0.125}]
["2022-10-01","废包装桶",{"$nulls":4},{"$f":"G301+C302-E302","v":0.125}]
["2022-10-02","废包装桶",{"$nulls":4},{"$f":"G302+C303-E303","v":0.125}]
["2022-10-03","废包装桶",{"$nulls":4},0.125]
["2022-10-04","废包装桶",{"$nulls":4},0.125]
["2022-10-05","废包装桶",{"$nulls":4},0.125]
["2022-10-06","废包装桶",{"$nulls":4},0.125]
["2022-10-07","废包装桶",{"$nulls":4},0.125]
["2022-10-08","废包装桶",{"$nulls":4},0.125]
["2022-10-09","废包装桶",{"$nulls":4},0.125]
["2022-10-10","废包装桶",{"$nulls":4},0.125]
["2022-10-11","废包装桶",{"$nulls":4},0.125]
["2022-10-12","废包装桶",{"$nulls":4},0.125]
["2022-10-13","废包装桶",{"$nulls":4},0.125]
["2022-10-14","废包装桶",{"$nulls":4},0.125]
["2022-10-15","废包装桶",{"$nulls":4},0.125]
["2022-10-16","废包装桶",{"$nulls":4},0.125]
["2022-10-17","废包装桶",{"$nulls":4},0.125]
["2022-10-18","废包装桶",{"$nulls":4},0.125]
["2022-10-19","废包装桶",{"$nulls":4},0.125]
["2022-10-20","废包装桶",0.093,{"$nulls":3},0.218,null,"诸美娟"]
["2022-10-21","废包装桶",{"$nulls":4},0.218]
["2022-10-22","废包装桶",{"$nulls":4},0.218]
["2022-10-23","废包装桶",{"$nulls":4},0.218]
["2022-10-24","废包装桶",{"$nulls":4},0.218]
["2022-10-25","废包装桶",{"$nulls":4},0.218]
["2022-10-26","废包装桶",{"$nulls":4},0.218]
["2022-10-27","废包装桶",0.163,{"$nulls":3},0.381,null,"诸美娟"]
["2022-10-28","废包装桶",{"$nulls":4},0.381]
["2022-10-29","废包装桶",{"$nulls":4},0.381]
["2022-10-30","废包装桶",{"$nulls":4},0.381]
["2022-10-31","废包装桶",{"$nulls":4},0.381]
["合计",null,{"$f":"SUM(C302:C332)","v":0.256},{"$f":"SUM(D302:D332)","v":0},{"$f":"SUM(E302:E332)","v":0},{"$f":"SUM(F302:F332)","v":0},{"$f":"G332","v":0.381}]
[]
["2022-11-01","废包装桶"]
["2022-11-02","废包装桶"]
["2022-11-03","废包装桶"]
["2022-11-04","废包装桶"]
["2022-11-05","废包装桶"]
["2022-11-06","废包装桶"]
["2022-11-07","废包装桶"]
["2022-11-08","废包装桶"]
["2022-11-09","废包装桶"]
["2022-11-10","废包装桶"]
["2022-11-11","废包装桶"]
["2022-11-12","废包装桶"]
["2022-11-13","废包装桶"]
["2022-11-14","废包装桶"]
["2022-11-15","废包装桶"]
["2022-11-16","废包装桶",0.145,{"$nulls":3},{"$f":"G333+C350","v":0.526},null,"诸美娟"]
["2022-11-17","废包装桶",{"$nulls":4},{"$f":"G350+C351-E351","v":0.526}]
["2022-11-18","废包装桶",{"$nulls":4},{"$f":"G351+C352-E352","v":0.526}]
["2022-11-19","废包装桶",{"$nulls":4},0.526]
["2022-11-20","废包装桶",{"$nulls":4},0.526]
["2022-11-21","废包装桶",{"$nulls":4},0.526]
["2022-11-22","废包装桶",{"$nulls":4},0.526]
["2022-11-23","废包装桶",{"$nulls":4},0.526]
["2022-11-24","废包装桶",{"$nulls":4},0.526]
["2022-11-25","废包装桶",{"$nulls":4},0.526]
["2022-11-26","废包装桶",{"$nulls":4},0.526]
["2022-11-27","废包装桶",{"$nulls":4},0.526]
["2022-11-28","废包装桶",{"$nulls":4},0.526]
["2022-11-29","废包装桶",null,null,0.526,null,0,"浙江润淼再生资源有限公司","诸美娟"]
["2022-11-30","废包装桶",{"$nulls":4},0]
["合计",null,0.145,{"$f":"D363","v":0},{"$f":"E363","v":0.526},{"$f":"F363","v":0},{"$f":"G364","v":0}]
["2022-12-01","废包装桶"]
["2022-12-02","废包装桶"]
["2022-12-03","废包装桶"]
["2022-12-04","废包装桶"]
["2022-12-05","废包装桶"]
["2022-12-06","废包装桶"]
["2022-12-07","废包装桶"]
["2022-12-08","废包装桶"]
["2022-12-09","废包装桶"]
["2022-12-10","废包装桶"]
["2022-12-11","废包装桶"]
["2022-12-12","废包装桶"]
["2022-12-13","废包装桶"]
["2022-12-14","废包装桶"]
["2022-12-15","废包装桶"]
["2022-12-16","废包装桶"]
["2022-12-17","废包装桶"]
["2022-12-18","废包装桶"]
["2022-12-19","废包装桶"]
["2022-12-20","废包装桶"]
["2022-12-21","废包装桶"]
["2022-12-22","废包装桶"]
["2022-12-23","废包装桶"]
["2022-12-24","废包装桶"]
["2022-12-25","废包装桶"]
["2022-12-26","废包装桶"]
["2022-12-27","废包装桶"]
["2022-12-28","废包装桶"]
["2022-12-29","废包装桶"]
["2022-12-30","废包装桶"]
["2022-12-31","废包装桶"]
["合计",{"$nulls":5},0]

{"sheet":"2022年月度统计  ","index":7,"n_rows":18,"n_cols":10,"rows_kept":18,"merged":[[0,0,0,8],[1,0,2,0],[1,1,2,1],[1,2,2,2],[1,3,2,3],[1,4,1,5],[1,6,2,6],[1,7,2,7],[1,8,2,8],[17,0,17,5]]}
["生产过程产生的固体废物利用及处置情况（按日填写）板纸     ( 2022)"]
["日期","固 体 废 物 名 称","产生数量","自行处置数量","委托利用、处置情况",null,"累计贮存数量（吨）","备注","填表人"]
[{"$nulls":4},"委托利用数量","委托处置数量"]
["1月份","废包装桶",0,null,0,0,0,null,"诸美娟","0吨"]
["2月份","废包装桶",{"$f":"'2022年  '!C70","v":0},null,0,{"$f":"'2022年  '!F70","v":0},{"$f":"'2022年  '!G70","v":0},null,"诸美娟"]
["3月份","废包装桶",{"$f":"'2022年  '!C103","v":0.212},null,0,{"$f":"'2022年  '!F103","v":0},{"$f":"'2022年  '!G103","v":0.212},null,"诸美娟"]
["4月份","废包装桶",{"$f":"'2022年  '!C136","v":0.112},null,0,{"$f":"'2022年  '!F136","v":0},{"$f":"'2022年  '!G136","v":0.324},null,"诸美娟"]
["5月份","废包装桶",{"$f":"'2022年  '!C169","v":0.08},null,{"$f":"'2022年  '!E169","v":0.324},{"$f":"'2022年  '!F169","v":0},{"$f":"'2022年  '!G169","v":0.08},"浙江润淼再生资源有限公司","诸美娟/胡才法"]
["6月份","废包装桶",{"$f":"'2022年  '!C202","v":0.094},null,0,{"$f":"'2022年  '!F202","v":0},{"$f":"'2022年  '!G202","v":0.174},null,"诸美娟"]
["7月份","废包装桶",{"$f":"'2022年  '!C235","v":0.096},null,{"$f":"'2022年  '!E235","v":0},{"$f":"'2022年  '!F235","v":0},{"$f":"'2022年  '!G235","v":0.27},null,"诸美娟"]
["8月份","废包装桶",{"$f":"'2022年  '!C268","v":0.1105},null,{"$f":"'2022年  '!E268","v":0},{"$f":"'2022年  '!F268","v":0},{"$f":"'2022年  '!G268","v":0.3805},null,"诸美娟/方剑其"]
["9月份","废包装桶",{"$f":"'2022年  '!C301","v":0.503},null,{"$f":"'2022年  '!E301","v":0.7585},{"$f":"'2022年  '!F301","v":0},{"$f":"'2022年  '!G301","v":0.125},"浙江润淼再生资源有限公司","诸美娟"]
["10月份","废包装桶",{"$f":"'2022年  '!C333","v":0.256},null,{"$f":"'2022年  '!E333","v":0},{"$f":"'2022年  '!F333","v":0},{"$f":"'2022年  '!G333","v":0.381},null,"诸美娟"]
["11月份","废包装桶",{"$f":"'2022年  '!C365","v":0.145},null,{"$f":"'2022年  '!E365","v":0.526},{"$f":"'2022年  '!F365","v":0},{"$f":"'2022年  '!G365","v":0},"浙江润淼再生资源有限公司","诸美娟","0只"]
["12月份","废包装桶",{"$f":"'2022年  '!C397","v":0},null,{"$f":"'2022年  '!E397","v":0},{"$f":"'2022年  '!F397","v":0},{"$f":"'2022年  '!G397","v":0},null,"诸美娟"]
["合计",null,{"$f":"SUM(C4:C15)","v":1.6085},{"$f":"SUM(D4:D15)","v":0},{"$f":"SUM(E4:E15)","v":1.6085},{"$f":"SUM(F4:F15)","v":0},{"$f":"G14","v":0}]
[]
["板纸废包装桶2019年1月份开始统计"]

{"sheet":"2023年   ","index":8,"n_rows":389,"n_cols":13,"rows_kept":389,"merged":[[0,0,0,8],[1,0,2,0],[1,1,2,1],[1,2,2,2],[1,3,2,3],[1,4,1,5],[1,6,2,6],[1,7,2,7],[1,8,2,8],[34,0,34,1],[35,0,35,5],[66,0,66,1],[98,0,98,1],[130,0,130,1],[162,0,162,1],[194,0,194,1],[226,0,226,1],[259,0,259,1],[292,0,292,1],[324,0,324,1],[356,0,356,1],[388,0,388,1]]}
["生产过程产生的固体废物利用及处置情况（按日填写）板纸"]
["日期","固 体 废 物 名 称","产生数量","自行处置数量","委托利用、处置情况",null,"累计贮存数量(吨)","备注","填表人"]
[{"$nulls":4},"委托利用数量","委托处置数量",{"$nulls":6},0]
["2023-01-01","废包装桶",{"$nulls":7},"2017年",null,"2018年"]
["2023-01-02","废包装桶",{"$nulls":7},"2吨",null,"0吨"]
["2023-01-03","废包装桶"]
["2023-01-04","废包装桶"]
["2023-01-05","废包装桶",0.405,{"$nulls":3},0.405,null,"诸美娟"]
["2023-01-06","废包装桶",{"$nulls":4},{"$f":"G8+C9-E9","v":0.405}]
["2023-01-07","废包装桶",{"$nulls":4},{"$f":"G9+C10-E10","v":0.405}]
["2023-01-08","废包装桶",{"$nulls":4},0.405]
["2023-01-09","废包装桶",{"$nulls":4},0.405]
["2023-01-10","废包装桶",{"$nulls":4},0.405]
["2023-01-11","废包装桶",{"$nulls":4},0.405]
["2023-01-12","废包装桶",0.066,{"$nulls":3},0.471,null,"诸美娟"]
["2023-01-13","废包装桶",{"$nulls":4},0.471]
["2023-01-14","废包装桶",{"$nulls":4},0.471]
["2023-01-15","废包装桶",{"$nulls":4},0.471]
["2023-01-16","废包装桶",{"$nulls":4},0.471]
["2023-01-17","废包装桶",{"$nulls":4},0.471]
["2023-01-18","废包装桶",{"$nulls":4},0.471]
["2023-01-19","废包装桶",{"$nulls":4},0.471]
["2023-01-20","废包装桶",{"$nulls":4},0.471]
["2023-01-21","废包装桶",{"$nulls":4},0.471]
["2023-01-22","废包装桶",{"$nulls":4},0.471]
["2023-01-23","废包装桶",{"$nulls":4},0.471]
["2023-01-24","废包装桶",{"$nulls":4},0.471]
["2023-01-25","废包装桶",{"$nulls":4},0.471]
["2023-01-26","废包装桶",{"$nulls":4},0.471]
["2023-01-27","废包装桶",{"$nulls":4},0.471]
["2023-01-28","废包装桶",{"$nulls":4},0.471]
["2023-01-29","废包装桶",{"$nulls":4},0.471]
["2023-01-30","废包装桶",{"$nulls":4},0.471]
["2023-01-31","废包装桶",{"$nulls":4},0.471]
["合计",null,{"$f":"SUM(C4:C34)","v":0.471},{"$f":"SUM(D4:D34)","v":0},{"$f":"SUM(E4:E34)","v":0},{"$f":"SUM(F4:F34)","v":0},{"$f":"G34","v":0.471}]
["备注：2019年1月1日起开始统计"]
[]
[]
["2023-02-01","废包装桶"]
["2023-02-02","废包装桶"]
["2023-02-03","废包装桶"]
["2023-02-04","废包装桶"]
["2023-02-05","废包装桶"]
["2023-02-06","废包装桶"]
["2023-02-07","废包装桶"]
["2023-02-08","废包装桶"]
["2023-02-09","废包装桶"]
["2023-02-10","废包装桶"]
["2023-02-11","废包装桶"]
["2023-02-12","废包装桶"]
["2023-02-13","废包装桶"]
["2023-02-14","废包装桶"]
["2023-02-15","废包装桶",0.15,{"$nulls":3},{"$f":"G35+C53-F53","v":0.621},null,"诸美娟"]
["2023-02-16","废包装桶",{"$nulls":4},{"$f":"G53+C54-F54","v":0.621}]
["2023-02-17","废包装桶",{"$nulls":4},{"$f":"G54+C55-F55","v":0.621}]
["2023-02-18","废包装桶",{"$nulls":4},0.621]
["2023-02-19","废包装桶",{"$nulls":4},0.621]
["2023-02-20","废包装桶",0.479,null,{"v":1.1,"d":"1.10"},null,{"$f":"G57+C58-E58","v":0},"嘉兴市固体废物处置有限责任公司","诸美娟"]
["2023-02-21","废包装桶",{"$nulls":4},0]
["2023-02-22","废包装桶",{"$nulls":4},0]
["2023-02-23","废包装桶",{"$nulls":4},0]
["2023-02-24","废包装桶",{"$nulls":4},0]
["2023-02-25","废包装桶",{"$nulls":4},0]
["2023-02-26","废包装桶",{"$nulls":4},0]
["2023-02-27","废包装桶",{"$nulls":4},0]
["2023-02-28","废包装桶",{"$nulls":4},0]
["合计",null,{"$f":"SUM(C39:C66)","v":0.629},{"$f":"SUM(D39:D66)","v":0},{"$f":"SUM(E39:E66)","v":{"v":1.1,"d":"1.10"}},null,{"$f":"G66","v":0}]
["2023-03-01","废包装桶"]
["2023-03-02","废包装桶"]
["2023-03-03","废包装桶"]
["2023-03-04","废包装桶"]
["2023-03-05","废包装桶"]
["2023-03-06","废包装桶"]
["2023-03-07","废包装桶"]
["2023-03-08","废包装桶"]
["2023-03-09","废包装桶"]
["2023-03-10","废包装桶"]
["2023-03-11","废包装桶"]
["2023-03-12","废包装桶"]
["2023-03-13","废包装桶"]
["2023-03-14","废包装桶",0.017,{"$nulls":3},0.017,null,"诸美娟"]
["2023-03-15","废包装桶",{"$nulls":4},{"$f":"G81+C82-E82","v":0.017}]
["2023-03-16","废包装桶",{"$nulls":4},{"$f":"G82+C83-E83","v":0.017}]
["2023-03-17","废包装桶",{"$nulls":4},0.017]
["2023-03-18","废包装桶",{"$nulls":4},0.017]
["2023-03-19","废包装桶",{"$nulls":4},0.017]
["2023-03-20","废包装桶",0.119,{"$nulls":3},0.136,null,"诸美娟"]
["2023-03-21","废包装桶",{"$nulls":4},0.136]
["2023-03-22","废包装桶",{"$nulls":4},0.136]
["2023-03-23","废包装桶",{"$nulls":4},0.136]
["2023-03-24","废包装桶",{"$nulls":4},0.136]
["2023-03-25","废包装桶",{"$nulls":4},0.136]
["2023-03-26","废包装桶",{"$nulls":4},0.136]
["2023-03-27","废包装桶",{"$nulls":4},0.136]
["2023-03-28","废包装桶",{"$nulls":4},0.136]
["2023-03-29","废包装桶",{"$nulls":4},0.136]
["2023-03-30","废包装桶",{"$nulls":4},0.136]
["2023-03-31","废包装桶",{"$nulls":4},0.136]
["合计",null,{"$f":"SUM(C68:C98)","v":0.136},null,{"$f":"SUM(E68:E98)","v":{"v":0,"d":"0.00"}},null,{"$f":"G98","v":0.136}]
["2023-04-01","废包装桶"]
["2023-04-02","废包装桶"]
["2023-04-03","废包装桶"]
["2023-04-04","废包装桶"]
["2023-04-05","废包装桶"]
["2023-04-06","废包装桶"]
["2023-04-07","废包装桶"]
["2023-04-08","废包装桶"]
["2023-04-09","废包装桶"]
["2023-04-10","废包装桶"]
["2023-04-11","废包装桶"]
["2023-04-12","废包装桶"]
["2023-04-13","废包装桶"]
["2023-04-14","废包装桶"]
["2023-04-15","废包装桶"]
["2023-04-16","废包装桶"]
["2023-04-17","废包装桶"]
["2023-04-18","废包装桶"]
["2023-04-19","废包装桶",0.192,{"$nulls":3},{"$f":"G99+C118-E118","v":0.328},null,"诸美娟"]
["2023-04-20","废包装桶"]
["2023-04-21","废包装桶"]
["2023-04-22","废包装桶"]
["2023-04-23","废包装桶"]
["2023-04-24","废包装桶"]
["2023-04-25","废包装桶"]
["2023-04-26","废包装桶"]
["2023-04-27","废包装桶"]
["2023-04-28","废包装桶"]
["2023-04-29","废包装桶"]
["2023-04-30","废包装桶"]
[{"$nulls":6},{"$f":"G129+C130-F130","v":0}]
["合计",null,{"$f":"SUM(C100:C129)","v":0.192},null,{"$f":"SUM(E100:E129)","v":0},null,{"$f":"G118","v":0.328}]
["2023-05-01","废包装桶",{"$nulls":4},{"$f":"G131+C132-E132","v":0.328}]
["2023-05-02","废包装桶",{"$nulls":4},{"$f":"G132+C133-E133","v":0.328}]
["2023-05-03","废包装桶",{"$nulls":4},0.328]
["2023-05-04","废包装桶",{"$nulls":4},0.328]
["2023-05-05","废包装桶",{"$nulls":4},0.328]
["2023-05-06","废包装桶",{"$nulls":4},0.328]
["2023-05-07","废包装桶",{"$nulls":4},0.328]
["2023-05-08","废包装桶",{"$nulls":4},0.328]
["2023-05-09","废包装桶",{"$nulls":4},0.328]
["2023-05-10","废包装桶",{"$nulls":4},0.328]
["2023-05-11","废包装桶",{"$nulls":4},0.328]
["2023-05-12","废包装桶",{"$nulls":4},0.328]
["2023-05-13","废包装桶",{"$nulls":4},0.328]
["2023-05-14","废包装桶",{"$nulls":4},0.328]
["2023-05-15","废包装桶",{"$nulls":4},0.328]
["2023-05-16","废包装桶",{"$nulls":4},0.328]
["2023-05-17","废包装桶",null,null,0.328,null,0,"嘉兴市固体废物处置有限责任公司","诸美娟"]
["2023-05-18","废包装桶",{"$nulls":4},0]
["2023-05-19","废包装桶",{"$nulls":4},0]
["2023-05-20","废包装桶",{"$nulls":4},0]
["2023-05-21","废包装桶",{"$nulls":4},0]
["2023-05-22","废包装桶",{"$nulls":4},0]
["2023-05-23","废包装桶",{"$nulls":4},0]
["2023-05-24","废包装桶",{"$nulls":4},0]
["2023-05-25","废包装桶",{"$nulls":4},0]
["2023-05-26","废包装桶",{"$nulls":4},0]
["2023-05-27","废包装桶",{"$nulls":4},0]
["2023-05-28","废包装桶",{"$nulls":4},0]
["2023-05-29","废包装桶",{"$nulls":4},0]
["2023-05-30","废包装桶",{"$nulls":4},0]
["2023-05-31","废包装桶",{"$nulls":4},0]
["合计",null,{"$f":"SUM(C132:C162)","v":0},{"$f":"SUM(D132:D162)","v":0},{"$f":"SUM(E132:E162)","v":0.328},null,{"$f":"G162","v":0}]
["2023-06-01","废包装桶",0.142,{"$nulls":3},{"$f":"G163+C164-F164","v":0.142},null,"诸美娟"]
["2023-06-02","废包装桶",{"$nulls":4},{"$f":"G164+C165-F165","v":0.142}]
["2023-06-03","废包装桶",{"$nulls":4},{"$f":"G164+C166-F166","v":0.142}]
["2023-06-04","废包装桶",{"$nulls":4},0.142]
["2023-06-05","废包装桶",{"$nulls":4},0.142]
["2023-06-06","废包装桶",{"$nulls":4},0.142]
["2023-06-07","废包装桶",{"$nulls":4},0.142]
["2023-06-08","废包装桶",{"$nulls":4},0.142]
["2023-06-09","废包装桶",{"$nulls":4},0.142]
["2023-06-10","废包装桶",{"$nulls":4},0.142]
["2023-06-11","废包装桶",{"$nulls":4},0.142]
["2023-06-12","废包装桶",{"$nulls":4},0.142]
["2023-06-13","废包装桶",{"$nulls":4},0.142]
["2023-06-14","废包装桶",{"$nulls":4},0.142]
["2023-06-15","废包装桶",{"$nulls":4},0.142]
["2023-06-16","废包装桶",{"$nulls":4},0.142]
["2023-06-17","废包装桶",{"$nulls":4},0.142]
["2023-06-18","废包装桶",{"$nulls":4},0.142]
["2023-06-19","废包装桶",{"$nulls":4},0.142]
["2023-06-20","废包装桶",{"$nulls":4},0.142]
["2023-06-21","废包装桶",{"$nulls":4},0.142]
["2023-06-22","废包装桶",{"$nulls":4},0.142]
["2023-06-23","废包装桶",{"$nulls":4},0.142]
["2023-06-24","废包装桶",{"$nulls":4},0.142]
["2023-06-25","废包装桶",{"$nulls":4},0.142]
["2023-06-26","废包装桶",{"$nulls":4},0.142]
["2023-06-27","废包装桶",{"$nulls":4},0.142]
["2023-06-28","废包装桶",0.208,{"$nulls":3},{"$f":"G190+C191-E191","v":0.35},null,"诸美娟"]
["2023-06-29","废包装桶",null,null,0.35,null,{"$f":"G191+C192-E192","v":0},"嘉兴市固体废物处置有限责任公司","诸美娟"]
["2023-06-30","废包装桶",{"$nulls":4},{"$f":"G192+C193-E193","v":0}]
[]
["合计",null,{"$f":"SUM(C164:C194)","v":0.35},{"$f":"SUM(D164:D194)","v":0},{"$f":"SUM(E164:E194)","v":0.35},{"$f":"F167","v":0},{"$f":"G193","v":0}]
["2023-07-01","废包装桶"]
["2023-07-02","废包装桶"]
["2023-07-03","废包装桶"]
["2023-07-04","废包装桶"]
["2023-07-05","废包装桶"]
["2023-07-06","废包装桶",0.112,{"$nulls":3},0.112,null,"诸美娟"]
["2023-07-07","废包装桶"]
["2023-07-08","废包装桶"]
["2023-07-09","废包装桶"]
["2023-07-10","废包装桶"]
["2023-07-11","废包装桶"]
["2023-07-12","废包装桶"]
["2023-07-13","废包装桶"]
["2023-07-14","废包装桶"]
["2023-07-15","废包装桶"]
["2023-07-16","废包装桶"]
["2023-07-17","废包装桶"]
["2023-07-18","废包装桶"]
["2023-07-19","废包装桶"]
["2023-07-20","废包装桶"]
["2023-07-21","废包装桶"]
["2023-07-22","废包装桶"]
["2023-07-23","废包装桶"]
["2023-07-24","废包装桶"]
["2023-07-25","废包装桶"]
["2023-07-26","废包装桶"]
["2023-07-27","废包装桶"]
["2023-07-28","废包装桶"]
["2023-07-29","废包装桶"]
["2023-07-30","废包装桶"]
["2023-07-31","废包装桶"]
["合计",null,{"$f":"SUM(C196:C226)","v":0.112},{"$f":"SUM(D196:D226)","v":0},{"$f":"SUM(E196:E226)","v":0},{"$f":"SUM(F196:F226)","v":0},{"$f":"G201","v":0.112}]
[]
["2023-08-01","废包装桶"]
["2023-08-02","废包装桶"]
["2023-08-03","废包装桶"]
["2023-08-04","废包装桶"]
["2023-08-05","废包装桶"]
["2023-08-06","废包装桶"]
["2023-08-07","废包装桶"]
["2023-08-08","废包装桶"]
["2023-08-09","废包装桶"]
["2023-08-10","废包装桶"]
["2023-08-11","废包装桶"]
["2023-08-12","废包装桶"]
["2023-08-13","废包装桶"]
["2023-08-14","废包装桶"]
["2023-08-15","废包装桶"]
["2023-08-16","废包装桶"]
["2023-08-17","废包装桶"]
["2023-08-18","废包装桶"]
["2023-08-19","废包装桶"]
["2023-08-20","废包装桶"]
["2023-08-21","废包装桶"]
["2023-08-22","废包装桶"]
["2023-08-23","废包装桶"]
["2023-08-24","废包装桶"]
["2023-08-25","废包装桶"]
["2023-08-26","废包装桶"]
["2023-08-27","废包装桶"]
["2023-08-28","废包装桶"]
["2023-08-29","废包装桶"]
["2023-08-30","废包装桶"]
["2023-08-31","废包装桶"]
["合计",null,{"$f":"SUM(C230:C259)","v":0},null,0,0,{"$f":"G253","v":0}]
[]
["2023-09-01","废包装桶"]
["2023-09-02","废包装桶"]
["2023-09-03","废包装桶"]
["2023-09-04","废包装桶"]
["2023-09-05","废包装桶"]
["2023-09-06","废包装桶"]
["2023-09-07","废包装桶"]
["2023-09-08","废包装桶"]
["2023-09-09","废包装桶"]
["2023-09-10","废包装桶"]
["2023-09-11","废包装桶"]
["2023-09-12","废包装桶"]
["2023-09-13","废包装桶"]
["2023-09-14","废包装桶"]
["2023-09-15","废包装桶"]
["2023-09-16","废包装桶"]
["2023-09-17","废包装桶"]
["2023-09-18","废包装桶"]
["2023-09-19","废包装桶"]
["2023-09-20","废包装桶"]
["2023-09-21","废包装桶"]
["2023-09-22","废包装桶"]
["2023-09-23","废包装桶"]
["2023-09-24","废包装桶"]
["2023-09-25","废包装桶"]
["2023-09-26","废包装桶"]
["2023-09-27","废包装桶"]
["2023-09-28","废包装桶"]
["2023-09-29","废包装桶"]
["2023-09-30","废包装桶",{"$nulls":4},{"$f":"G289+C290-E290","v":0}]
[]
["合计",null,{"$f":"SUM(C262:C292)","v":0},0,0,0,{"$f":"G291","v":0}]
["2023-10-01","废包装桶",{"$nulls":4},{"$f":"G293+C294-E294","v":0}]
["2023-10-02","废包装桶"]
["2023-10-03","废包装桶"]
["2023-10-04","废包装桶"]
["2023-10-05","废包装桶"]
["2023-10-06","废包装桶"]
["2023-10-07","废包装桶"]
["2023-10-08","废包装桶"]
["2023-10-09","废包装桶"]
["2023-10-10","废包装桶"]
["2023-10-11","废包装桶"]
["2023-10-12","废包装桶"]
["2023-10-13","废包装桶"]
["2023-10-14","废包装桶"]
["2023-10-15","废包装桶"]
["2023-10-16","废包装桶"]
["2023-10-17","废包装桶"]
["2023-10-18","废包装桶"]
["2023-10-19","废包装桶"]
["2023-10-20","废包装桶"]
["2023-10-21","废包装桶"]
["2023-10-22","废包装桶"]
["2023-10-23","废包装桶"]
["2023-10-24","废包装桶"]
["2023-10-25","废包装桶"]
["2023-10-26","废包装桶"]
["2023-10-27","废包装桶"]
["2023-10-28","废包装桶"]
["2023-10-29","废包装桶"]
["2023-10-30","废包装桶"]
["2023-10-31","废包装桶"]
["合计",null,{"$f":"SUM(C294:C324)","v":0},0,0,0,{"$f":"G324","v":0}]
[]
["2023-11-01","废包装桶"]
["2023-11-02","废包装桶"]
["2023-11-03","废包装桶"]
["2023-11-04","废包装桶"]
["2023-11-05","废包装桶"]
["2023-11-06","废包装桶"]
["2023-11-07","废包装桶"]
["2023-11-08","废包装桶"]
["2023-11-09","废包装桶"]
["2023-11-10","废包装桶"]
["2023-11-11","废包装桶"]
["2023-11-12","废包装桶"]
["2023-11-13","废包装桶"]
["2023-11-14","废包装桶"]
["2023-11-15","废包装桶"]
["2023-11-16","废包装桶"]
["2023-11-17","废包装桶"]
["2023-11-18","废包装桶"]
["2023-11-19","废包装桶"]
["2023-11-20","废包装桶"]
["2023-11-21","废包装桶"]
["2023-11-22","废包装桶"]
["2023-11-23","废包装桶"]
["2023-11-24","废包装桶"]
["2023-11-25","废包装桶"]
["2023-11-26","废包装桶"]
["2023-11-27","废包装桶"]
["2023-11-28","废包装桶"]
["2023-11-29","废包装桶"]
["2023-11-30","废包装桶"]
["合计"]
["2023-12-01","废包装桶"]
["2023-12-02","废包装桶"]
["2023-12-03","废包装桶"]
["2023-12-04","废包装桶"]
["2023-12-05","废包装桶"]
["2023-12-06","废包装桶"]
["2023-12-07","废包装桶"]
["2023-12-08","废包装桶"]
["2023-12-09","废包装桶"]
["2023-12-10","废包装桶"]
["2023-12-11","废包装桶"]
["2023-12-12","废包装桶"]
["2023-12-13","废包装桶"]
["2023-12-14","废包装桶"]
["2023-12-15","废包装桶"]
["2023-12-16","废包装桶"]
["2023-12-17","废包装桶"]
["2023-12-18","废包装桶"]
["2023-12-19","废包装桶"]
["2023-12-20","废包装桶"]
["2023-12-21","废包装桶"]
["2023-12-22","废包装桶"]
["2023-12-23","废包装桶"]
["2023-12-24","废包装桶"]
["2023-12-25","废包装桶"]
["2023-12-26","废包装桶"]
["2023-12-27","废包装桶"]
["2023-12-28","废包装桶"]
["2023-12-29","废包装桶"]
["2023-12-30","废包装桶"]
["2023-12-31","废包装桶"]
["合计",{"$nulls":5},0]

{"sheet":"2023年月度统计   ","index":9,"n_rows":18,"n_cols":10,"rows_kept":18,"merged":[[0,0,0,8],[1,0,2,0],[1,1,2,1],[1,2,2,2],[1,3,2,3],[1,4,1,5],[1,6,2,6],[1,7,2,7],[1,8,2,8],[17,0,17,5]]}
["生产过程产生的固体废物利用及处置情况（按日填写）板纸     ( 2023)"]
["日期","固 体 废 物 名 称","产生数量","自行处置数量","委托利用、处置情况",null,"累计贮存数量（吨）","备注","填表人"]
[{"$nulls":4},"委托利用数量","委托处置数量",{"$nulls":3},0]
["1月份","废包装桶",{"$f":"'2023年   '!C35","v":0.471},null,{"$f":"'2023年   '!E35","v":0},null,{"$f":"'2023年   '!G35","v":0.471},null,"诸美娟"]
["2月份","废包装桶",{"$f":"'2023年   '!C67","v":0.629},null,{"$f":"'2023年   '!E67","v":1.1},null,{"$f":"'2023年   '!G67","v":0},"嘉兴市固体废物处置有限责任公司","诸美娟"]
["3月份","废包装桶",{"$f":"'2023年   '!C99","v":0.136},null,{"$f":"'2023年   '!E99","v":{"v":0,"d":"0.00"}},null,{"$f":"'2023年   '!G99","v":0.136},null,"诸美娟"]
["4月份","废包装桶",{"$f":"'2023年   '!C131","v":0.192},null,{"$f":"'2023年   '!E131","v":0},null,{"$f":"'2023年   '!G131","v":0.328},null,"诸美娟"]
["5月份","废包装桶",{"$f":"'2023年   '!C163","v":0},null,{"$f":"'2023年   '!E163","v":0.328},null,{"$f":"'2023年   '!G163","v":0},"嘉兴市固体废物处置有限责任公司","诸美娟"]
["6月份","废包装桶",{"$f":"'2023年   '!C195","v":0.35},null,{"$f":"'2023年   '!E195","v":0.35},null,{"$f":"'2023年   '!G195","v":0},"嘉兴市固体废物处置有限责任公司","诸美娟"]
["7月份","废包装桶",{"$f":"'2023年   '!C227","v":0.112},null,{"$f":"'2023年   '!E227","v":0},null,{"$f":"'2023年   '!G227","v":0.112},null,"诸美娟","7只"]
["8月份","废包装桶"]
["9月份","废包装桶"]
["10月份","废包装桶"]
["11月份","废包装桶"]
["12月份","废包装桶"]
["合计",null,{"$f":"SUM(C4:C15)","v":{"v":1.89,"d":"1.890"}},null,1.778,null,{"$f":"G10","v":0.112}]
[]
["板纸废包装桶2019年1月份开始统计"]

{"sheet":"Sheet3","index":10,"n_rows":0,"n_cols":0,"rows_kept":0}