{"text_format":"3","workbook":"xlsx","n_sheets":9,"sheets":["2018年汞灯","2018年月度统计","2021年废灯管 ","2021年月度统计 ","2022年废灯管  ","2022年月度统计 ","2023年废灯管  ","2023年月度统计  ","空白表"],"read":"whole","date_system":"1900"}

{"sheet":"2018年汞灯","index":0,"n_rows":385,"n_cols":9,"rows_kept":385,"merged":[[0,0,0,8],[1,0,2,0],[1,1,2,1],[1,2,2,2],[1,3,1,5],[1,6,2,6],[1,7,2,7],[1,8,2,8]]}
["                                 废物管理记录表                                    单位（KG ）"]
["日期","产生数量","自行处置数量","委托贮存、处理处置情况",null,null,"累计贮存数量","备注","填表人"]
[{"$nulls":3},"贮存数量","利用数量","处置数量"]
["2018-01-01",{"$nulls":5},{"v":20,"d":"20.00"},"2017年上半年累计储存","方剑其"]
["2018-01-02"]
["2018-01-03"]
["2018-01-04"]
["2018-01-05"]
["2018-01-06"]
["2018-01-07"]
["2018-01-08"]
["2018-01-09"]
["2018-01-10"]
["2018-01-11"]
["2018-01-12"]
["2018-01-13"]
["2018-01-14"]
["2018-01-15"]
["2018-01-16"]
["2018-01-17"]
["2018-01-18"]
["2018-01-19"]
["2018-01-20"]
["2018-01-21"]
["2018-01-22"]
["2018-01-23"]
["2018-01-24"]
["2018-01-25"]
["2018-01-26"]
["2018-01-27"]
["2018-01-28"]
["2018-01-29"]
["2018-01-30"]
["2018-01-31"]
["合计",{"v":0,"d":"0.00"},{"$nulls":3},{"v":0,"d":"0.00"},{"$f":"G4","v":{"v":20,"d":"20.00"}}]
["2018-02-01"]
["2018-02-02"]
["2018-02-03"]
["2018-02-04"]
["2018-02-05"]
["2018-02-06"]
["2018-02-07"]
["2018-02-08"]
["2018-02-09"]
["2018-02-10"]
["2018-02-11"]
["2018-02-12"]
["2018-02-13"]
["2018-02-14"]
["2018-02-15"]
["2018-02-16"]
["2018-02-17"]
["2018-02-18"]
["2018-02-19"]
["2018-02-20"]
["2018-02-21"]
["2018-02-22"]
["2018-02-23"]
["2018-02-24"]
["2018-02-25"]
["2018-02-26"]
["2018-02-27"]
["2018-02-28"]
["合计",{"v":0,"d":"0.00"},{"$nulls":3},{"v":0,"d":"0.00"},{"$f":"G35","v":{"v":20,"d":"20.00"}}]
["2018-03-01"]
["2018-03-02"]
["2018-03-03"]
["2018-03-04"]
["2018-03-05"]
["2018-03-06"]
["2018-03-07"]
["2018-03-08"]
["2018-03-09"]
["2018-03-10"]
["2018-03-11"]
["2018-03-12"]
["2018-03-13"]
["2018-03-14"]
["2018-03-15"]
["2018-03-16"]
["2018-03-17"]
["2018-03-18"]
["2018-03-19"]
["2018-03-20"]
["2018-03-21"]
["2018-03-22"]
["2018-03-23"]
["2018-03-24"]
["2018-03-25"]
["2018-03-26"]
["2018-03-27"]
["2018-03-28"]
["2018-03-29"]
["2018-03-30"]
["2018-03-31"]
["合计",{"v":0,"d":"0.00"},{"$nulls":3},{"v":0,"d":"0.00"},{"$f":"G64","v":{"v":20,"d":"20.00"}}]
["2018-04-01"]
["2018-04-02"]
["2018-04-03"]
["2018-04-04"]
["2018-04-05"]
["2018-04-06"]
["2018-04-07"]
["2018-04-08"]
["2018-04-09"]
["2018-04-10"]
["2018-04-11"]
["2018-04-12"]
["2018-04-13"]
["2018-04-14"]
["2018-04-15"]
["2018-04-16"]
["2018-04-17"]
["2018-04-18"]
["2018-04-19"]
["2018-04-20"]
["2018-04-21"]
["2018-04-22"]
["2018-04-23"]
["2018-04-24"]
["2018-04-25"]
["2018-04-26"]
["2018-04-27"]
["2018-04-28"]
["2018-04-29"]
["2018-04-30"]
[]
["合计",{"v":0,"d":"0.00"},{"$nulls":3},{"v":0,"d":"0.00"},{"$f":"G96","v":{"v":20,"d":"20.00"}}]
["2018-05-01"]
["2018-05-02"]
["2018-05-03"]
["2018-05-04"]
["2018-05-05"]
["2018-05-06"]
["2018-05-07"]
["2018-05-08"]
["2018-05-09"]
["2018-05-10"]
["2018-05-11"]
["2018-05-12"]
["2018-05-13"]
["2018-05-14"]
["2018-05-15"]
["2018-05-16"]
["2018-05-17"]
["2018-05-18"]
["2018-05-19"]
["2018-05-20"]
["2018-05-21"]
["2018-05-22"]
["2018-05-23"]
["2018-05-24"]
["2018-05-25"]
["2018-05-26"]
["2018-05-27"]
["2018-05-28"]
["2018-05-29"]
["2018-05-30"]
["2018-05-31"]
["合计",{"v":0,"d":"0.00"},{"$nulls":3},{"v":0,"d":"0.00"},{"$f":"G128","v":{"v":20,"d":"20.00"}}]
["2018-06-01"]
["2018-06-02"]
["2018-06-03"]
["2018-06-04"]
["2018-06-05"]
["2018-06-06"]
["2018-06-07"]
["2018-06-08"]
["2018-06-09"]
["2018-06-10"]
["2018-06-11"]
["2018-06-12"]
["2018-06-13"]
["2018-06-14"]
["2018-06-15"]
["2018-06-16"]
["2018-06-17"]
["2018-06-18"]
["2018-06-19"]
["2018-06-20"]
["2018-06-21"]
["2018-06-22"]
["2018-06-23"]
["2018-06-24"]
["2018-06-25"]
["2018-06-26"]
["2018-06-27"]
["2018-06-28"]
["2018-06-29"]
["2018-06-30"]
[]
["合计",{"v":0,"d":"0.00"},{"$nulls":3},{"v":0,"d":"0.00"},{"$f":"G160","v":{"v":20,"d":"20.00"}}]
["2018-07-01"]
["2018-07-02"]
["2018-07-03"]
["2018-07-04"]
["2018-07-05"]
["2018-07-06"]
["2018-07-07"]
["2018-07-08"]
["2018-07-09"]
["2018-07-10"]
["2018-07-11"]
["2018-07-12"]
["2018-07-13"]
["2018-07-14"]
["2018-07-15"]
["2018-07-16"]
["2018-07-17"]
["2018-07-18"]
["2018-07-19"]
["2018-07-20"]
["2018-07-21"]
["2018-07-22"]
["2018-07-23"]
["2018-07-24"]
["2018-07-25"]
["2018-07-26"]
["2018-07-27"]
["2018-07-28"]
["2018-07-29"]
["2018-07-30"]
["2018-07-31"]
["合计",{"v":0,"d":"0.00"},{"$nulls":3},{"v":0,"d":"0.00"},{"$f":"G192","v":{"v":20,"d":"20.00"}}]
["2018-08-01"]
["2018-08-02"]
["2018-08-03"]
["2018-08-04"]
["2018-08-05"]
["2018-08-06"]
["2018-08-07"]
["2018-08-08"]
["2018-08-09"]
["2018-08-10"]
["2018-08-11"]
["2018-08-12"]
["2018-08-13"]
["2018-08-14"]
["2018-08-15"]
["2018-08-16"]
["2018-08-17"]
["2018-08-18"]
["2018-08-19"]
["2018-08-20"]
["2018-08-21"]
["2018-08-22"]
["2018-08-23"]
["2018-08-24"]
["2018-08-25"]
["2018-08-26"]
["2018-08-27"]
["2018-08-28"]
["2018-08-29"]
["2018-08-30"]
["2018-08-31"]
["合计",{"v":0,"d":"0.00"},{"$nulls":3},{"v":0,"d":"0.00"},{"$f":"G224","v":{"v":20,"d":"20.00"}}]
["2018-09-01"]
["2018-09-02"]
["2018-09-03"]
["2018-09-04"]
["2018-09-05"]
["2018-09-06"]
["2018-09-07"]
["2018-09-08"]
["2018-09-09"]
["2018-09-10"]
["2018-09-11"]
["2018-09-12"]
["2018-09-13"]
["2018-09-14"]
["2018-09-15"]
["2018-09-16"]
["2018-09-17"]
["2018-09-18"]
["2018-09-19"]
["2018-09-20"]
["2018-09-21"]
["2018-09-22"]
["2018-09-23"]
["2018-09-24"]
["2018-09-25"]
["2018-09-26"]
["2018-09-27"]
["2018-09-28"]
["2018-09-29"]
["2018-09-30"]
[]
["合计",{"v":0,"d":"0.00"},{"$nulls":3},{"v":0,"d":"0.00"},{"$f":"G256","v":{"v":20,"d":"20.00"}}]
["2018-10-01"]
["2018-10-02"]
["2018-10-03"]
["2018-10-04"]
["2018-10-05"]
["2018-10-06"]
["2018-10-07"]
["2018-10-08"]
["2018-10-09"]
["2018-10-10"]
["2018-10-11"]
["2018-10-12"]
["2018-10-13"]
["2018-10-14"]
["2018-10-15"]
["2018-10-16"]
["2018-10-17"]
["2018-10-18"]
["2018-10-19"]
["2018-10-20"]
["2018-10-21"]
["2018-10-22"]
["2018-10-23"]
["2018-10-24"]
["2018-10-25"]
["2018-10-26"]
["2018-10-27"]
["2018-10-28"]
["2018-10-29"]
["2018-10-30"]
["2018-10-31"]
["合计",{"v":0,"d":"0.00"},{"$nulls":3},{"v":0,"d":"0.00"},{"$f":"G288","v":{"v":20,"d":"20.00"}}]
["2018-11-01"]
["2018-11-02"]
["2018-11-03"]
["2018-11-04"]
["2018-11-05"]
["2018-11-06",{"v":15,"d":"15.00"},{"$nulls":4},{"$f":"G320+B326","v":{"v":35,"d":"35.00"}}]
["2018-11-07"]
["2018-11-08"]
["2018-11-09"]
["2018-11-10"]
["2018-11-11"]
["2018-11-12"]
["2018-11-13"]
["2018-11-14"]
["2018-11-15",{"$nulls":4},{"v":35,"d":"35.00"},{"v":0,"d":"0.00"},{"$f":"'2018年月度统计'!H14","v":"宜兴市苏南固废处理有限公司"},"方剑其"]
["2018-11-16"]
["2018-11-17"]
["2018-11-18"]
["2018-11-19"]
["2018-11-20"]
["2018-11-21"]
["2018-11-22"]
["2018-11-23"]
["2018-11-24"]
["2018-11-25"]
["2018-11-26"]
["2018-11-27"]
["2018-11-28"]
["2018-11-29"]
["2018-11-30"]
[]
["合计",{"$f":"B326","v":{"v":15,"d":"15.00"}},{"$nulls":3},{"$f":"F335","v":{"v":35,"d":"35.00"}},{"$f":"G3350","v":{"v":0,"d":"0.00"}}]
["2018-12-01"]
["2018-12-02"]
["2018-12-03"]
["2018-12-04"]
["2018-12-05"]
["2018-12-06"]
["2018-12-07"]
["2018-12-08"]
["2018-12-09"]
["2018-12-10"]
["2018-12-11"]
["2018-12-12"]
["2018-12-13"]
["2018-12-14"]
["2018-12-15"]
["2018-12-16"]
["2018-12-17"]
["2018-12-18"]
["2018-12-19"]
["2018-12-20"]
["2018-12-21"]
["2018-12-22"]
["2018-12-23"]
["2018-12-24"]
["2018-12-25"]
["2018-12-26"]
["2018-12-27"]
["2018-12-28"]
["2018-12-29"]
["2018-12-30"]
["2018-12-31"]
["合计",{"$f":"B358","v":{"v":0,"d":"0.00"}},{"$nulls":3},{"$f":"F367","v":{"v":0,"d":"0.00"}},{"$f":"G3382","v":{"v":0,"d":"0.00"}}]
["2018年12月份开始汞灯不在产生，该报表不统计"]

{"sheet":"2018年月度统计","index":1,"n_rows":17,"n_cols":9,"rows_kept":17,"merged":[[0,0,0,8],[1,0,2,0],[1,1,2,1],[1,2,2,2],[1,3,1,5],[1,6,2,6],[1,7,2,7],[1,8,2,8]]}
["                                 废物管理记录表                                    单位（KG）"]
["日期","产生数量","自行处置数量","委托贮存、处理处置情况",null,null,"累计贮存数量","备注","填表人"]
[{"$nulls":3},"贮存数量","利用数量","处置数量"]
["1月份",{"$f":"'2018年汞灯'!B35","v":{"v":0,"d":"0.00"}},{"$nulls":3},{"$f":"H22","v":0},{"$f":"'2018年汞灯'!G35","v":{"v":20,"d":"20.00"}},"2017年上半年累计储存","方剑其"]
["2月份",{"$f":"'2018年汞灯'!B64","v":{"v":0,"d":"0.00"}},{"$nulls":3},{"$f":"'2018年汞灯'!F64","v":0},{"$f":"G4","v":{"v":20,"d":"20.00"}},null,"方剑其"]
["3月份",{"$f":"'2018年汞灯'!B96","v":{"v":0,"d":"0.00"}},{"$nulls":3},{"$f":"'2018年汞灯'!F96","v":0},{"$f":"G5","v":{"v":20,"d":"20.00"}},null,"方剑其"]
["4月份",{"$f":"'2018年汞灯'!B128","v":{"v":0,"d":"0.00"}},{"$nulls":3},{"$f":"'2018年汞灯'!F128","v":0},{"$f":"G6","v":{"v":20,"d":"20.00"}},null,"方剑其"]
["5月份",{"$f":"'2018年汞灯'!B160","v":{"v":0,"d":"0.00"}},{"$nulls":3},{"$f":"'2018年汞灯'!F160","v":0},{"$f":"G7","v":{"v":20,"d":"20.00"}},null,"方剑其"]
["6月份",{"$f":"'2018年汞灯'!B192","v":{"v":0,"d":"0.00"}},{"$nulls":3},{"$f":"'2018年汞灯'!F192","v":0},{"$f":"G8","v":{"v":20,"d":"20.00"}},null,"方剑其"]
["7月份",{"$f":"'2018年汞灯'!B224","v":{"v":0,"d":"0.00"}},{"$nulls":3},{"$f":"'2018年汞灯'!F224","v":0},{"$f":"'2018年汞灯'!G224","v":{"v":20,"d":"20.00"}},null,"方剑其"]
["8月份",{"$f":"'2018年汞灯'!B256","v":{"v":0,"d":"0.00"}},{"$nulls":3},{"$f":"'2018年汞灯'!F256","v":0},{"$f":"'2018年汞灯'!G256","v":{"v":20,"d":"20.00"}},null,"方剑其"]
["9月份",{"$f":"'2018年汞灯'!B288","v":{"v":0,"d":"0.00"}},{"$nulls":3},{"$f":"'2018年汞灯'!F288","v":0},{"$f":"'2018年汞灯'!G288","v":{"v":20,"d":"20.00"}},null,"方剑其"]
["10月份",{"$f":"'2018年汞灯'!B320","v":{"v":0,"d":"0.00"}},{"$nulls":3},{"$f":"'2018年汞灯'!F320","v":0},{"$f":"'2018年汞灯'!G320","v":{"v":20,"d":"20.00"}},null,"方剑其"]
["11月份",{"$f":"'2018年汞灯'!B352","v":{"v":15,"d":"15.00"}},{"$nulls":3},{"$f":"'2018年汞灯'!F352","v":35},{"$f":"'2018年汞灯'!G352","v":{"v":0,"d":"0.00"}},"宜兴市苏南固废处理有限公司","方剑其"]
["12月份",{"$f":"'2018年汞灯'!B384","v":{"v":0,"d":"0.00"}},{"$nulls":3},{"$f":"'2018年汞灯'!F384","v":0},{"$f":"'2018年汞灯'!G384","v":{"v":0,"d":"0.00"}}]
["合计",{"$f":"SUM(B4:B15)","v":{"v":15,"d":"15.00"}},{"$nulls":3},{"$f":"SUM(F4:F15)","v":35},{"$f":"G15","v":{"v":0,"d":"0.00"}}]
["2018年12月份开始汞灯不在产生，该报表不统计"]

{"sheet":"2021年废灯管 ","index":2,"n_rows":385,"n_cols":8,"rows_kept":385,"merged":[[0,0,0,7],[1,0,2,0],[1,1,2,1],[1,2,2,2],[1,3,1,4],[1,5,2,5],[1,6,2,6],[1,7,2,7]]}
["                                 废物管理记录表                                    单位（吨）"]
["日期","产生数量","自行处置数量","委托利用、处置情况",null,"累计贮存数量","备注","填表人"]
[{"$nulls":3},"委托利用数量","委托处置数量"]
["2021-01-01"]
["2021-01-02"]
["2021-01-03"]
["2021-01-04"]
["2021-01-05"]
["2021-01-06"]
["2021-01-07"]
["2021-01-08"]
["2021-01-09"]
["2021-01-10"]
["2021-01-11"]
["2021-01-12"]
["2021-01-13"]
["2021-01-14"]
["2021-01-15"]
["2021-01-16"]
["2021-01-17"]
["2021-01-18"]
["2021-01-19"]
["2021-01-20"]
["2021-01-21"]
["2021-01-22"]
["2021-01-23"]
["2021-01-24"]
["2021-01-25"]
["2021-01-26"]
["2021-01-27"]
["2021-01-28"]
["2021-01-29"]
["2021-01-30"]
["2021-01-31"]
["合计",{"v":0,"d":"0.00"},null,null,{"v":0,"d":"0.00"},{"$f":"F4","v":{"v":0,"d":"0.00"}}]
["2021-02-01"]
["2021-02-02"]
["2021-02-03"]
["2021-02-04"]
["2021-02-05"]
["2021-02-06"]
["2021-02-07"]
["2021-02-08"]
["2021-02-09"]
["2021-02-10"]
["2021-02-11"]
["2021-02-12"]
["2021-02-13"]
["2021-02-14"]
["2021-02-15"]
["2021-02-16"]
["2021-02-17"]
["2021-02-18"]
["2021-02-19"]
["2021-02-20"]
["2021-02-21"]
["2021-02-22"]
["2021-02-23"]
["2021-02-24"]
["2021-02-25"]
["2021-02-26"]
["2021-02-27"]
["2021-02-28"]
["合计",{"v":0,"d":"0.00"},null,null,{"v":0,"d":"0.00"},{"$f":"F35","v":{"v":0,"d":"0.00"}}]
["2021-03-01"]
["2018-03-02"]
["2018-03-03"]
["2018-03-04"]
["2018-03-05"]
["2018-03-06"]
["2018-03-07"]
["2018-03-08"]
["2018-03-09"]
["2018-03-10"]
["2018-03-11"]
["2018-03-12"]
["2018-03-13"]
["2018-03-14"]
["2018-03-15"]
["2018-03-16"]
["2018-03-17"]
["2018-03-18"]
["2018-03-19"]
["2018-03-20"]
["2018-03-21"]
["2018-03-22"]
["2018-03-23",0.84,null,null,{"$f":"B87","v":0.84},{"$f":"B87-E87","v":{"v":0,"d":"0.00"}},"嘉兴市众源环境科技有限公司","方剑其"]
["2018-03-24"]
["2018-03-25"]
["2018-03-26"]
["2018-03-27"]
["2018-03-28"]
["2018-03-29"]
["2018-03-30"]
["2018-03-31"]
["合计",0.84,null,null,0.84,{"$f":"F64","v":{"v":0,"d":"0.00"}}]
["2021-04-01"]
["2021-04-02"]
["2021-04-03"]
["2021-04-04"]
["2021-04-05"]
["2021-04-06"]
["2021-04-07"]
["2021-04-08"]
["2021-04-09"]
["2021-04-10"]
["2021-04-11"]
["2021-04-12"]
["2021-04-13"]
["2021-04-14"]
["2021-04-15"]
["2021-04-16"]
["2021-04-17"]
["2021-04-18"]
["2021-04-19"]
["2021-04-20"]
["2021-04-21"]
["2021-04-22"]
["2021-04-23"]
["2021-04-24"]
["2021-04-25"]
["2021-04-26"]
["2021-04-27"]
["2021-04-28"]
["2021-04-29"]
["2021-04-30"]
[]
["合计",{"v":0,"d":"0.00"},null,null,{"v":0,"d":"0.00"},{"$f":"F96","v":{"v":0,"d":"0.00"}}]
["2021-05-01"]
["2021-05-02"]
["2021-05-03"]
["2021-05-04"]
["2021-05-05"]
["2021-05-06"]
["2021-05-07"]
["2021-05-08"]
["2021-05-09"]
["2021-05-10"]
["2021-05-11"]
["2021-05-12"]
["2021-05-13"]
["2021-05-14"]
["2021-05-15"]
["2021-05-16"]
["2021-05-17"]
["2021-05-18"]
["2021-05-19"]
["2021-05-20"]
["2021-05-21"]
["2021-05-22"]
["2021-05-23"]
["2021-05-24"]
["2021-05-25"]
["2021-05-26"]
["2021-05-27"]
["2021-05-28"]
["2021-05-29"]
["2021-05-30"]
["2021-05-31"]
["合计",{"v":0,"d":"0.00"},null,null,{"v":0,"d":"0.00"},{"$f":"F128","v":{"v":0,"d":"0.00"}}]
["2021-06-01"]
["2021-06-02"]
["2021-06-03"]
["2021-06-04"]
["2021-06-05"]
["2021-06-06"]
["2021-06-07"]
["2021-06-08"]
["2021-06-09"]
["2021-06-10"]
["2021-06-11"]
["2021-06-12"]
["2021-06-13"]
["2021-06-14"]
["2021-06-15"]
["2021-06-16"]
["2021-06-17"]
["2021-06-18"]
["2021-06-19"]
["2021-06-20"]
["2021-06-21"]
["2021-06-22"]
["2021-06-23"]
["2021-06-24"]
["2021-06-25"]
["2021-06-26"]
["2021-06-27"]
["2021-06-28"]
["2021-06-29"]
["2021-06-30"]
[]
["合计",{"v":0,"d":"0.00"},null,null,{"v":0,"d":"0.00"},{"$f":"F160","v":{"v":0,"d":"0.00"}}]
["2021-07-01"]
["2021-07-02"]
["2021-07-03"]
["2021-07-04"]
["2021-07-05"]
["2021-07-06"]
["2021-07-07"]
["2021-07-08"]
["2021-07-09"]
["2021-07-10"]
["2021-07-11"]
["2021-07-12"]
["2021-07-13"]
["2021-07-14"]
["2021-07-15"]
["2021-07-16"]
["2021-07-17"]
["2021-07-18"]
["2021-07-19"]
["2021-07-20"]
["2021-07-21"]
["2021-07-22"]
["2021-07-23"]
["2021-07-24"]
["2021-07-25"]
["2021-07-26"]
["2021-07-27"]
["2021-07-28"]
["2021-07-29"]
["2021-07-30"]
["2021-07-31"]
["合计",{"v":0,"d":"0.00"},null,null,{"v":0,"d":"0.00"},{"$f":"F192","v":{"v":0,"d":"0.00"}}]
["2021-08-01"]
["2021-08-02"]
["2021-08-03"]
["2021-08-04"]
["2021-08-05"]
["2021-08-06"]
["2021-08-07"]
["2021-08-08"]
["2021-08-09"]
["2021-08-10"]
["2021-08-11"]
["2021-08-12"]
["2021-08-13"]
["2021-08-14"]
["2021-08-15"]
["2021-08-16"]
["2021-08-17"]
["2021-08-18"]
["2021-08-19"]
["2021-08-20"]
["2021-08-21"]
["2021-08-22"]
["2021-08-23"]
["2021-08-24"]
["2021-08-25"]
["2021-08-26"]
["2021-08-27"]
["2021-08-28"]
["2021-08-29"]
["2021-08-30"]
["2021-08-31"]
["合计",{"v":0,"d":"0.00"},null,null,{"v":0,"d":"0.00"},{"$f":"F224","v":{"v":0,"d":"0.00"}}]
["2021-09-01"]
["2021-09-02"]
["2021-09-03"]
["2021-09-04"]
["2021-09-05"]
["2021-09-06"]
["2021-09-07"]
["2021-09-08"]
["2021-09-09"]
["2021-09-10"]
["2021-09-11"]
["2021-09-12"]
["2021-09-13"]
["2021-09-14"]
["2021-09-15"]
["2021-09-16"]
["2021-09-17"]
["2021-09-18"]
["2021-09-19"]
["2021-09-20"]
["2021-09-21"]
["2021-09-22"]
["2021-09-23"]
["2021-09-24"]
["2021-09-25"]
["2021-09-26"]
["2021-09-27"]
["2021-09-28"]
["2021-09-29"]
["2021-09-30"]
[]
["合计",{"v":0,"d":"0.00"},null,null,{"v":0,"d":"0.00"},{"$f":"F256","v":{"v":0,"d":"0.00"}}]
["2021-10-01"]
["2021-10-02"]
["2021-10-03"]
["2021-10-04"]
["2021-10-05"]
["2021-10-06"]
["2021-10-07"]
["2021-10-08",0.0035,{"$nulls":3},{"$f":"B296","v":0.0035},null,"诸美娟"]
["2021-10-09"]
["2021-10-10"]
["2021-10-11"]
["2021-10-12"]
["2021-10-13"]
["2021-10-14"]
["2021-10-15"]
["2021-10-16"]
["2021-10-17"]
["2021-10-18"]
["2021-10-19"]
["2021-10-20"]
["2021-10-21"]
["2021-10-22"]
["2021-10-23"]
["2021-10-24"]
["2021-10-25"]
["2021-10-26"]
["2021-10-27"]
["2021-10-28"]
["2021-10-29"]
["2021-10-30"]
["2021-10-31"]
["合计",{"$f":"B296","v":0.0035},null,null,{"v":0,"d":"0.0000"},{"$f":"F296","v":0.0035}]
["2021-11-01"]
["2021-11-02"]
["2021-11-03"]
["2021-11-04"]
["2021-11-05"]
["2021-11-06"]
["2021-11-07"]
["2021-11-08"]
["2021-11-09"]
["2021-11-10"]
["2021-11-11"]
["2021-11-12"]
["2021-11-13"]
["2021-11-14"]
["2021-11-15"]
["2021-11-16"]
["2021-11-17"]
["2021-11-18"]
["2021-11-19"]
["2021-11-20"]
["2021-11-21"]
["2021-11-22"]
["2021-11-23"]
["2021-11-24"]
["2021-11-25"]
["2021-11-26"]
["2021-11-27"]
["2021-11-28"]
["2021-11-29"]
["2021-11-30"]
[]
["合计",{"$f":"B326","v":{"v":0,"d":"0.00"}},null,null,{"$f":"E335","v":{"v":0,"d":"0.00"}},{"$f":"F320","v":0.0035}]
["2021-12-01"]
["2021-12-02"]
["2021-12-03"]
["2021-12-04"]
["2021-12-05"]
["2021-12-06"]
["2021-12-07"]
["2021-12-08"]
["2021-12-09"]
["2021-12-10"]
["2021-12-11"]
["2021-12-12"]
["2021-12-13"]
["2021-12-14"]
["2021-12-15"]
["2021-12-16"]
["2021-12-17"]
["2021-12-18"]
["2021-12-19"]
["2021-12-20"]
["2021-12-21"]
["2021-12-22"]
["2021-12-23"]
["2021-12-24"]
["2021-12-25"]
["2021-12-26"]
["2021-12-27"]
["2021-12-28"]
["2021-12-29"]
["2021-12-30"]
["2021-12-31"]
["合计",{"$f":"B358","v":{"v":0,"d":"0.00"}},null,null,{"$f":"E367","v":{"v":0,"d":"0.00"}},{"$f":"F352","v":{"v":0.0035,"d":"0.00350"}}]
["2021年3月份开始汞灯产生，该报表统计"]

{"sheet":"2021年月度统计 ","index":3,"n_rows":16,"n_cols":8,"rows_kept":16,"merged":[[0,0,0,7],[1,0,2,0],[1,1,2,1],[1,2,2,2],[1,3,1,4],[1,5,2,5],[1,6,2,6],[1,7,2,7]]}
["                                 废物管理记录表                                    单位（吨）"]
["日期","产生数量","自行处置数量","委托利用、处置情况",null,"累计贮存数量","备注","填表人"]
[{"$nulls":3},"委托利用数量","委托处置数量"]
["1月份",{"v":0,"d":"0.00"},null,null,{"$f":"G22","v":0},{"v":0,"d":"0.00"},null,"方剑其"]
["2月份",{"v":0,"d":"0.00"},null,null,{"$f":"'2018年汞灯'!F64","v":0},{"v":0,"d":"0.00"},null,"方剑其"]
["3月份",{"$f":"'2021年废灯管 '!B96","v":0.84},null,null,{"$f":"'2021年废灯管 '!E96","v":0.84},{"v":0,"d":"0.00"},{"$f":"'2021年废灯管 '!G87","v":"嘉兴市众源环境科技有限公司"},"方剑其"]
["4月份",{"$f":"'2021年废灯管 '!B128","v":{"v":0,"d":"0.00"}},null,null,{"$f":"'2021年废灯管 '!E128","v":0},{"$f":"'2021年废灯管 '!F128","v":{"v":0,"d":"0.00"}},null,"诸美娟"]
["5月份",{"$f":"'2021年废灯管 '!B160","v":{"v":0,"d":"0.00"}},null,null,{"$f":"'2021年废灯管 '!E160","v":0},{"$f":"'2021年废灯管 '!F160","v":{"v":0,"d":"0.00"}},null,"诸美娟"]
["6月份",{"v":0,"d":"0.00"},null,null,0,{"v":0,"d":"0.00"},null,"诸美娟"]
["7月份",{"$f":"'2021年废灯管 '!B224","v":{"v":0,"d":"0.00"}},null,null,{"$f":"'2021年废灯管 '!E224","v":0},{"$f":"'2021年废灯管 '!F224","v":{"v":0,"d":"0.00"}},null,"诸美娟"]
["8月份",{"$f":"'2021年废灯管 '!B256","v":{"v":0,"d":"0.00"}},null,null,{"$f":"'2021年废灯管 '!E256","v":0},{"$f":"'2021年废灯管 '!F256","v":{"v":0,"d":"0.00"}},null,"诸美娟"]
["9月份",{"$f":"'2021年废灯管 '!B288","v":{"v":0,"d":"0.00"}},null,null,{"$f":"'2021年废灯管 '!E288","v":0},{"$f":"'2021年废灯管 '!F288","v":{"v":0,"d":"0.00"}},null,"诸美娟"]
["10月份",{"$f":"'2021年废灯管 '!B320","v":0.0035},null,null,{"v":0,"d":"0.0000"},{"$f":"'2021年废灯管 '!F320","v":0.0035},null,"方剑其"]
["11月份",{"$f":"'2021年废灯管 '!B352","v":{"v":0,"d":"0.00"}},null,null,{"$f":"'2021年废灯管 '!E352","v":0},{"$f":"'2021年废灯管 '!F352","v":0.0035},null,"诸美娟"]
["12月份",{"$f":"'2021年废灯管 '!B384","v":{"v":0,"d":"0.00"}},null,null,{"$f":"'2021年废灯管 '!E384","v":0},{"$f":"'2021年废灯管 '!F384","v":{"v":0.0035,"d":"0.00"}},null,"诸美娟"]
["合计",{"$f":"SUM(B4:B15)","v":0.8435},null,null,{"$f":"SUM(E4:E15)","v":0.84},{"$f":"F15","v":0.0035}]

{"sheet":"2022年废灯管  ","index":4,"n_rows":385,"n_cols":9,"rows_kept":385,"merged":[[0,0,0,7],[1,0,2,0],[1,1,2,1],[1,2,2,2],[1,3,1,4],[1,5,2,5],[1,6,2,6],[1,7,2,7]]}
["                                 废物管理记录表                                    单位（吨）"]
["日期","产生数量","自行处置数量","委托利用、处置情况",null,"累计贮存数量","备注","填表人"]
[{"$nulls":3},"委托利用数量","委托处置数量"]
["2022-01-01",{"$nulls":7},0.0035]
["2022-01-02"]
["2022-01-03"]
["2022-01-04"]
["2022-01-05"]
["2022-01-06"]
["2022-01-07"]
["2022-01-08"]
["2022-01-09"]
["2022-01-10"]
["2022-01-11"]
["2022-01-12"]
["2022-01-13"]
["2022-01-14"]
["2022-01-15"]
["2022-01-16"]
["2022-01-17"]
["2022-01-18"]
["2022-01-19"]
["2022-01-20"]
["2022-01-21"]
["2022-01-22"]
["2022-01-23"]
["2022-01-24"]
["2022-01-25"]
["2022-01-26"]
["2022-01-27"]
["2022-01-28"]
["2022-01-29"]
["2022-01-30"]
["2022-01-31"]
["合计",{"v":0,"d":"0.00"},null,null,{"v":0,"d":"0.00"},0.0035]
["2022-02-01"]
["2022-02-02"]
["2022-02-03"]
["2022-02-04"]
["2022-02-05"]
["2022-02-06"]
["2022-02-07"]
["2022-02-08"]
["2022-02-09"]
["2022-02-10"]
["2022-02-11"]
["2022-02-12"]
["2022-02-13"]
["2022-02-14"]
["2022-02-15"]
["2022-02-16"]
["2022-02-17"]
["2022-02-18"]
["2022-02-19"]
["2022-02-20"]
["2022-02-21"]
["2022-02-22"]
["2022-02-23"]
["2022-02-24"]
["2022-02-25"]
["2022-02-26"]
["2022-02-27"]
["2022-02-28"]
["合计",{"v":0,"d":"0.00"},null,null,{"v":0,"d":"0.00"},{"$f":"F35","v":0.0035}]
["2022-03-01"]
["2022-03-02"]
["2022-03-03"]
["2022-03-04"]
["2022-03-05"]
["2022-03-06"]
["2022-03-07"]
["2022-03-08"]
["2022-03-09"]
["2022-03-10"]
["2022-03-11"]
["2022-03-12"]
["2022-03-13"]
["2022-03-14"]
["2022-03-15"]
["2022-03-16"]
["2022-03-17"]
["2022-03-18"]
["2022-03-19"]
["2022-03-20"]
["2022-03-21"]
["2022-03-22"]
["2022-03-23"]
["2022-03-24"]
["2022-03-25"]
["2022-03-26"]
["2022-03-27"]
["2022-03-28"]
["2022-03-29"]
["2022-03-30"]
["2022-03-31"]
["合计",{"$nulls":4},{"$f":"F64","v":0.0035}]
["2022-04-01"]
["2022-04-02"]
["2022-04-03"]
["2022-04-04"]
["2022-04-05"]
["2022-04-06"]
["2022-04-07"]
["2022-04-08"]
["2022-04-09"]
["2022-04-10"]
["2022-04-11"]
["2022-04-12"]
["2022-04-13"]
["2022-04-14"]
["2022-04-15"]
["2022-04-16"]
["2022-04-17"]
["2022-04-18"]
["2022-04-19"]
["2022-04-20"]
["2022-04-21"]
["2022-04-22"]
["2022-04-23"]
["2022-04-24"]
["2022-04-25"]
["2022-04-26"]
["2022-04-27"]
["2022-04-28"]
["2022-04-29"]
["2022-04-30"]
[]
["合计",{"v":0,"d":"0.00"},null,null,{"v":0,"d":"0.00"},{"$f":"F96","v":0.0035}]
["2022-05-01"]
["2022-05-02"]
["2022-05-03"]
["2022-05-04"]
["2022-05-05"]
["2022-05-06"]
["2022-05-07"]
["2022-05-08"]
["2022-05-09"]
["2022-05-10"]
["2022-05-11"]
["2022-05-12"]
["2022-05-13"]
["2022-05-14"]
["2022-05-15"]
["2022-05-16"]
["2022-05-17"]
["2022-05-18"]
["2022-05-19"]
["2022-05-20"]
["2022-05-21"]
["2022-05-22"]
["2022-05-23"]
["2022-05-24"]
["2022-05-25"]
["2022-05-26"]
["2022-05-27"]
["2022-05-28"]
["2022-05-29"]
["2022-05-30"]
["2022-05-31"]
["合计",{"v":0,"d":"0.00"},null,null,{"v":0,"d":"0.00"},{"$f":"F128","v":0.0035}]
["2022-06-01"]
["2022-06-02"]
["2022-06-03"]
["2022-06-04"]
["2022-06-05"]
["2022-06-06"]
["2022-06-07"]
["2022-06-08"]
["2022-06-09"]
["2022-06-10"]
["2022-06-11"]
["2022-06-12"]
["2022-06-13"]
["2022-06-14"]
["2022-06-15"]
["2022-06-16"]
["2022-06-17"]
["2022-06-18"]
["2022-06-19"]
["2022-06-20"]
["2022-06-21"]
["2022-06-22"]
["2022-06-23"]
["2022-06-24"]
["2022-06-25"]
["2022-06-26"]
["2022-06-27"]
["2022-06-28"]
["2022-06-29"]
["2022-06-30"]
[]
["合计",{"v":0,"d":"0.00"},null,null,{"v":0,"d":"0.00"},{"$f":"F160","v":0.0035}]
["2022-07-01"]
["2022-07-02"]
["2022-07-03"]
["2022-07-04"]
["2022-07-05"]
["2022-07-06"]
["2022-07-07"]
["2022-07-08"]
["2022-07-09"]
["2022-07-10"]
["2022-07-11"]
["2022-07-12"]
["2022-07-13"]
["2022-07-14"]
["2022-07-15"]
["2022-07-16"]
["2022-07-17"]
["2022-07-18"]
["2022-07-19"]
["2022-07-20"]
["2022-07-21"]
["2022-07-22"]
["2022-07-23"]
["2022-07-24"]
["2022-07-25"]
["2022-07-26"]
["2022-07-27"]
["2022-07-28"]
["2022-07-29"]
["2022-07-30"]
["2022-07-31"]
["合计",{"v":0,"d":"0.00"},null,null,{"v":0,"d":"0.00"},{"$f":"F192","v":0.0035}]
["2022-08-01"]
["2022-08-02"]
["2022-08-03"]
["2022-08-04"]
["2022-08-05"]
["2022-08-06"]
["2022-08-07"]
["2022-08-08"]
["2022-08-09"]
["2022-08-10"]
["2022-08-11"]
["2022-08-12"]
["2022-08-13"]
["2022-08-14"]
["2022-08-15"]
["2022-08-16"]
["2022-08-17"]
["2022-08-18"]
["2022-08-19"]
["2022-08-20"]
["2022-08-21"]
["2022-08-22"]
["2022-08-23"]
["2022-08-24"]
["2022-08-25"]
["2022-08-26"]
["2022-08-27"]
["2022-08-28"]
["2022-08-29"]
["2022-08-30"]
["2022-08-31"]
["合计",{"v":0,"d":"0.00"},null,null,{"v":0,"d":"0.00"},{"$f":"F224","v":0.0035}]
["2022-09-01"]
["2022-09-02"]
["2022-09-03"]
["2022-09-04"]
["2022-09-05"]
["2022-09-06"]
["2022-09-07"]
["2022-09-08"]
["2022-09-09"]
["2022-09-10"]
["2022-09-11"]
["2022-09-12"]
["2022-09-13"]
["2022-09-14"]
["2022-09-15"]
["2022-09-16"]
["2022-09-17"]
["2022-09-18"]
["2022-09-19"]
["2022-09-20"]
["2022-09-21"]
["2022-09-22"]
["2022-09-23"]
["2022-09-24"]
["2022-09-25"]
["2022-09-26"]
["2022-09-27"]
["2022-09-28"]
["2022-09-29"]
["2022-09-30"]
[]
["合计",{"v":0,"d":"0.00"},null,null,{"v":0,"d":"0.00"},{"$f":"F256","v":0.0035}]
["2022-10-01"]
["2022-10-02"]
["2022-10-03"]
["2022-10-04"]
["2022-10-05"]
["2022-10-06"]
["2022-10-07"]
["2022-10-08"]
["2022-10-09"]
["2022-10-10"]
["2022-10-11"]
["2022-10-12"]
["2022-10-13"]
["2022-10-14"]
["2022-10-15"]
["2022-10-16"]
["2022-10-17"]
["2022-10-18"]
["2022-10-19"]
["2022-10-20"]
["2022-10-21"]
["2022-10-22"]
["2022-10-23"]
["2022-10-24"]
["2022-10-25"]
["2022-10-26"]
["2022-10-27"]
["2022-10-28"]
["2022-10-29"]
["2022-10-30"]
["2022-10-31"]
["合计",{"$f":"SUM(B319:B319)","v":{"v":0,"d":"0.0000"}},{"$f":"SUM(C319:C319)","v":{"v":0,"d":"0.0000"}},{"$f":"SUM(D319:D319)","v":{"v":0,"d":"0.0000"}},{"$f":"SUM(E319:E319)","v":{"v":0,"d":"0.0000"}},{"$f":"F288","v":0.0035}]
["2022-11-01"]
["2022-11-02"]
["2022-11-03"]
["2022-11-04"]
["2022-11-05"]
["2022-11-06"]
["2022-11-07"]
["2022-11-08"]
["2022-11-09"]
["2022-11-10"]
["2022-11-11"]
["2022-11-12"]
["2022-11-13"]
["2022-11-14"]
["2022-11-15"]
["2022-11-16"]
["2022-11-17"]
["2022-11-18"]
["2022-11-19"]
["2022-11-20"]
["2022-11-21"]
["2022-11-22"]
["2022-11-23"]
["2022-11-24"]
["2022-11-25"]
["2022-11-26"]
["2022-11-27"]
["2022-11-28"]
["2022-11-29"]
["2022-11-30"]
["2022-12-01"]
["合计",{"$f":"B326","v":{"v":0,"d":"0.00"}},null,null,{"$f":"E335","v":{"v":0,"d":"0.00"}},{"$f":"F320","v":0.0035}]
["2022-12-01"]
["2022-12-02"]
["2022-12-03"]
["2022-12-04"]
["2022-12-05"]
["2022-12-06"]
["2022-12-07"]
["2022-12-08"]
["2022-12-09"]
["2022-12-10"]
["2022-12-11"]
["2022-12-12"]
["2022-12-13"]
["2022-12-14"]
["2022-12-15"]
["2022-12-16"]
["2022-12-17"]
["2022-12-18"]
["2022-12-19",0.0005,null,null,{"v":0.004,"d":"0.0040"},{"$f":"F352+B371-E371","v":{"v":0,"d":"0.0000"}},"嘉兴市众源环境科技有限公司","诸美娟"]
["2022-12-20"]
["2022-12-21"]
["2022-12-22"]
["2022-12-23"]
["2022-12-24"]
["2022-12-25"]
["2022-12-26"]
["2022-12-27"]
["2022-12-28"]
["2022-12-29"]
["2022-12-30"]
["2022-12-31"]
["合计",{"$f":"B371","v":{"v":0.0005,"d":"0.00050"}},null,null,{"$f":"E371","v":{"v":0.004,"d":"0.0040"}},{"v":0,"d":"0.0000"}]
["2021年3月份开始汞灯产生，该报表统计"]

{"sheet":"2022年月度统计 ","index":5,"n_rows":16,"n_cols":9,"rows_kept":16,"merged":[[0,0,0,7],[1,0,2,0],[1,1,2,1],[1,2,2,2],[1,3,1,4],[1,5,2,5],[1,6,2,6],[1,7,2,7]]}
["                                 废物管理记录表   (2022年)                                 单位（吨）"]
["日期","产生数量","自行处置数量","委托利用、处置情况",null,"累计贮存数量","备注","填表人"]
[{"$nulls":3},"委托利用数量","委托处置数量"]
["1月份",{"v":0,"d":"0.00"},null,null,{"v":0,"d":"0.00"},0.0035,null,"诸美娟",0.0035]
["2月份",{"$f":"'2022年废灯管  '!B64","v":{"v":0,"d":"0.00"}},null,null,{"$f":"'2022年废灯管  '!E64","v":{"v":0,"d":"0.00"}},{"$f":"'2022年废灯管  '!F64","v":0.0035},null,"诸美娟"]
["3月份",{"$f":"'2022年废灯管  '!B96","v":{"v":0,"d":"0.00"}},null,null,{"$f":"'2022年废灯管  '!E96","v":{"v":0,"d":"0.00"}},{"$f":"'2022年废灯管  '!F96","v":0.0035},null,"诸美娟"]
["4月份",{"$f":"'2022年废灯管  '!B128","v":{"v":0,"d":"0.00"}},null,null,{"$f":"'2022年废灯管  '!E128","v":{"v":0,"d":"0.00"}},{"$f":"'2022年废灯管  '!F128","v":0.0035},null,"诸美娟"]
["5月份",{"$f":"'2022年废灯管  '!B160","v":{"v":0,"d":"0.00"}},null,null,{"$f":"'2022年废灯管  '!E160","v":{"v":0,"d":"0.00"}},{"$f":"'2022年废灯管  '!F160","v":0.0035},null,"诸美娟"]
["6月份",{"$f":"'2022年废灯管  '!B192","v":{"v":0,"d":"0.00"}},null,null,{"$f":"'2022年废灯管  '!E192","v":{"v":0,"d":"0.00"}},{"$f":"'2022年废灯管  '!F192","v":0.0035},null,"诸美娟"]
["7月份",{"$f":"'2022年废灯管  '!B224","v":{"v":0,"d":"0.00"}},null,null,{"$f":"'2022年废灯管  '!E224","v":{"v":0,"d":"0.00"}},{"$f":"'2022年废灯管  '!F224","v":0.0035},null,"诸美娟"]
["8月份",{"$f":"'2022年废灯管  '!B256","v":{"v":0,"d":"0.00"}},null,null,{"$f":"'2022年废灯管  '!E256","v":{"v":0,"d":"0.00"}},{"$f":"'2022年废灯管  '!F256","v":0.0035},null,"诸美娟"]
["9月份",{"$f":"'2022年废灯管  '!B288","v":{"v":0,"d":"0.00"}},null,null,{"$f":"'2022年废灯管  '!E288","v":{"v":0,"d":"0.00"}},{"$f":"'2022年废灯管  '!F288","v":0.0035},null,"诸美娟"]
["10月份",{"$f":"'2022年废灯管  '!B320","v":{"v":0,"d":"0.00"}},null,null,{"$f":"'2022年废灯管  '!E320","v":{"v":0,"d":"0.00"}},{"$f":"'2022年废灯管  '!F320","v":0.0035},null,"诸美娟"]
["11月份",{"$f":"'2022年废灯管  '!B352","v":{"v":0,"d":"0.00"}},null,null,{"$f":"'2022年废灯管  '!E352","v":{"v":0,"d":"0.00"}},{"$f":"'2022年废灯管  '!F352","v":0.0035},null,"诸美娟"]
["12月份",{"$f":"'2022年废灯管  '!B384","v":0.0005},null,null,{"$f":"'2022年废灯管  '!E384","v":{"v":0.004,"d":"0.0040"}},{"$f":"'2022年废灯管  '!F384","v":{"v":0,"d":"0.0000"}},"嘉兴市众源环境科技有限公司","诸美娟"]
["合计",{"$f":"SUM(B4:B15)","v":0.0005},null,null,{"$f":"SUM(E4:E15)","v":{"v":0.004,"d":"0.0040"}},{"$f":"F15","v":{"v":0,"d":"0.000000"}}]

{"sheet":"2023年废灯管  ","index":6,"n_rows":385,"n_cols":9,"rows_kept":385,"merged":[[0,0,0,7],[1,0,2,0],[1,1,2,1],[1,2,2,2],[1,3,1,4],[1,5,2,5],[1,6,2,6],[1,7,2,7]]}
["                                 废物管理记录表                                    单位（吨）"]
["日期","产生数量","自行处置数量","委托利用、处置情况",null,"累计贮存数量","备注","填表人"]
[{"$nulls":3},"委托利用数量","委托处置数量",{"$nulls":3},0]
["2023-01-01"]
["2023-01-02"]
["2023-01-03"]
["2023-01-04"]
["2023-01-05"]
["2023-01-06"]
["2023-01-07"]
["2023-01-08"]
["2023-01-09"]
["2023-01-10"]
["2023-01-11"]
["2023-01-12"]
["2023-01-13"]
["2023-01-14"]
["2023-01-15"]
["2023-01-16"]
["2023-01-17"]
["2023-01-18"]
["2023-01-19"]
["2023-01-20"]
["2023-01-21"]
["2023-01-22"]
["2023-01-23"]
["2023-01-24"]
["2023-01-25"]
["2023-01-26"]
["2023-01-27"]
["2023-01-28"]
["2023-01-29"]
["2023-01-30"]
["2023-01-31"]
["合计",{"v":0,"d":"0.00"},null,null,{"v":0,"d":"0.00"},{"v":0,"d":"0.0000"}]
["2023-02-01"]
["2023-02-02"]
["2023-02-03"]
["2023-02-04"]
["2023-02-05"]
["2023-02-06"]
["2023-02-07"]
["2023-02-08",0.089,{"$nulls":3},0.089,null,"诸美娟"]
["2023-02-09"]
["2023-02-10"]
["2023-02-11"]
["2023-02-12"]
["2023-02-13"]
["2023-02-14"]
["2023-02-15"]
["2023-02-16"]
["2023-02-17"]
["2023-02-18"]
["2023-02-19"]
["2023-02-20"]
["2023-02-21"]
["2023-02-22"]
["2023-02-23"]
["2023-02-24"]
["2023-02-25"]
["2023-02-26"]
["2023-02-27"]
["2023-02-28"]
["合计",{"$f":"B43","v":0.089},null,null,{"v":0,"d":"0.00"},{"$f":"F43","v":0.089}]
["2023-03-01"]
["2023-03-02"]
["2023-03-03"]
["2023-03-04"]
["2023-03-05"]
["2023-03-06"]
["2023-03-07"]
["2023-03-08"]
["2023-03-09"]
["2023-03-10"]
["2023-03-11"]
["2023-03-12"]
["2023-03-13"]
["2023-03-14"]
["2023-03-15"]
["2023-03-16"]
["2023-03-17"]
["2023-03-18"]
["2023-03-19"]
["2023-03-20"]
["2023-03-21"]
["2023-03-22"]
["2023-03-23"]
["2023-03-24"]
["2023-03-25"]
["2023-03-26"]
["2023-03-27"]
["2023-03-28"]
["2023-03-29"]
["2023-03-30"]
["2023-03-31"]
["合计",{"$f":"SUM(B65:B95)","v":{"v":0,"d":"0.00"}},{"$f":"SUM(C65:C95)","v":{"v":0,"d":"0.00"}},{"$f":"SUM(D65:D95)","v":{"v":0,"d":"0.00"}},{"$f":"SUM(E65:E95)","v":{"v":0,"d":"0.00"}},{"$f":"F64","v":0.089}]
["2023-04-01"]
["2023-04-02"]
["2023-04-03"]
["2023-04-04"]
["2023-04-05"]
["2023-04-06"]
["2023-04-07"]
["2023-04-08"]
["2023-04-09"]
["2023-04-10"]
["2023-04-11"]
["2023-04-12"]
["2023-04-13"]
["2023-04-14"]
["2023-04-15"]
["2023-04-16"]
["2023-04-17"]
["2023-04-18"]
["2023-04-19"]
["2023-04-20"]
["2023-04-21"]
["2023-04-22"]
["2023-04-23"]
["2023-04-24"]
["2023-04-25"]
["2023-04-26"]
["2023-04-27"]
["2023-04-28"]
["2023-04-29"]
["2023-04-30"]
[]
["合计",{"v":0,"d":"0.00"},null,null,{"v":0,"d":"0.00"},{"$f":"F96","v":0.089}]
["2023-05-01"]
["2023-05-02"]
["2023-05-03"]
["2023-05-04"]
["2023-05-05"]
["2023-05-06"]
["2023-05-07"]
["2023-05-08"]
["2023-05-09"]
["2023-05-10"]
["2023-05-11"]
["2023-05-12"]
["2023-05-13"]
["2023-05-14"]
["2023-05-15"]
["2023-05-16"]
["2023-05-17"]
["2023-05-18"]
["2023-05-19"]
["2023-05-20"]
["2023-05-21"]
["2023-05-22"]
["2023-05-23"]
["2023-05-24"]
["2023-05-25"]
["2023-05-26"]
["2023-05-27"]
["2023-05-28"]
["2023-05-29"]
["2023-05-30"]
["2023-05-31"]
["合计",{"v":0,"d":"0.00"},null,null,{"v":0,"d":"0.00"},{"$f":"F128","v":0.089}]
["2023-06-01"]
["2023-06-02"]
["2023-06-03"]
["2023-06-04"]
["2023-06-05"]
["2023-06-06"]
["2023-06-07"]
["2023-06-08"]
["2023-06-09"]
["2023-06-10"]
["2023-06-11"]
["2023-06-12"]
["2023-06-13"]
["2023-06-14"]
["2023-06-15"]
["2023-06-16"]
["2023-06-17"]
["2023-06-18"]
["2023-06-19"]
["2023-06-20"]
["2023-06-21"]
["2023-06-22"]
["2023-06-23"]
["2023-06-24"]
["2023-06-25"]
["2023-06-26"]
["2023-06-27"]
["2023-06-28",0.111,null,null,{"v":0.2,"d":"0.200"},{"v":0,"d":"0.00"},"嘉兴市众源环境科技有限公司   ","诸美娟"]
["2023-06-29"]
["2023-06-30"]
[]
["合计",{"$f":"B188","v":0.111},null,null,{"$f":"E188","v":{"v":0.2,"d":"0.200"}},{"v":0,"d":"0.00"}]
["2023-07-01"]
["2023-07-02"]
["2023-07-03"]
["2023-07-04"]
["2023-07-05"]
["2023-07-06"]
["2023-07-07"]
["2023-07-08"]
["2023-07-09"]
["2023-07-10"]
["2023-07-11"]
["2023-07-12"]
["2023-07-13"]
["2023-07-14"]
["2023-07-15"]
["2023-07-16"]
["2023-07-17"]
["2023-07-18"]
["2023-07-19"]
["2023-07-20"]
["2023-07-21"]
["2023-07-22"]
["2023-07-23"]
["2023-07-24"]
["2023-07-25"]
["2023-07-26"]
["2023-07-27"]
["2023-07-28"]
["2023-07-29"]
["2023-07-30"]
["2023-07-31"]
["合计",{"v":0,"d":"0.00"},null,null,{"v":0,"d":"0.00"}]
["2023-08-01"]
["2023-08-02"]
["2023-08-03"]
["2023-08-04"]
["2023-08-05"]
["2023-08-06"]
["2023-08-07"]
["2023-08-08"]
["2023-08-09"]
["2023-08-10"]
["2023-08-11"]
["2023-08-12"]
["2023-08-13"]
["2023-08-14"]
["2023-08-15"]
["2023-08-16"]
["2023-08-17"]
["2023-08-18"]
["2023-08-19"]
["2023-08-20"]
["2023-08-21"]
["2023-08-22"]
["2023-08-23"]
["2023-08-24"]
["2023-08-25"]
["2023-08-26"]
["2023-08-27"]
["2023-08-28"]
["2023-08-29"]
["2023-08-30"]
["2023-08-31"]
["合计",{"v":0,"d":"0.00"},null,null,{"v":0,"d":"0.00"}]
["2023-09-01"]
["2023-09-02"]
["2023-09-03"]
["2023-09-04"]
["2023-09-05"]
["2023-09-06"]
["2023-09-07"]
["2023-09-08"]
["2023-09-09"]
["2023-09-10"]
["2023-09-11"]
["2023-09-12"]
["2023-09-13"]
["2023-09-14"]
["2023-09-15"]
["2023-09-16"]
["2023-09-17"]
["2023-09-18"]
["2023-09-19"]
["2023-09-20"]
["2023-09-21"]
["2023-09-22"]
["2023-09-23"]
["2023-09-24"]
["2023-09-25"]
["2023-09-26"]
["2023-09-27"]
["2023-09-28"]
["2023-09-29"]
["2023-09-30"]
[]
["合计",{"v":0,"d":"0.00"},null,null,{"v":0,"d":"0.00"}]
["2023-10-01"]
["2023-10-02"]
["2023-10-03"]
["2023-10-04"]
["2023-10-05"]
["2023-10-06"]
["2023-10-07"]
["2023-10-08"]
["2023-10-09"]
["2023-10-10"]
["2023-10-11"]
["2023-10-12"]
["2023-10-13"]
["2023-10-14"]
["2023-10-15"]
["2023-10-16"]
["2023-10-17"]
["2023-10-18"]
["2023-10-19"]
["2023-10-20"]
["2023-10-21"]
["2023-10-22"]
["2023-10-23"]
["2023-10-24"]
["2023-10-25"]
["2023-10-26"]
["2023-10-27"]
["2023-10-28"]
["2023-10-29"]
["2023-10-30"]
["2023-10-31"]
["合计",{"$f":"SUM(B319:B319)","v":{"v":0,"d":"0.0000"}},{"$f":"SUM(C319:C319)","v":{"v":0,"d":"0.0000"}},{"$f":"SUM(D319:D319)","v":{"v":0,"d":"0.0000"}},{"$f":"SUM(E319:E319)","v":{"v":0,"d":"0.0000"}}]
["2023-11-01"]
["2023-11-02"]
["2023-11-03"]
["2023-11-04"]
["2023-11-05"]
["2023-11-06"]
["2023-11-07"]
["2023-11-08"]
["2023-11-09"]
["2023-11-10"]
["2023-11-11"]
["2023-11-12"]
["2023-11-13"]
["2023-11-14"]
["2023-11-15"]
["2023-11-16"]
["2023-11-17"]
["2023-11-18"]
["2023-11-19"]
["2023-11-20"]
["2023-11-21"]
["2023-11-22"]
["2023-11-23"]
["2023-11-24"]
["2023-11-25"]
["2023-11-26"]
["2023-11-27"]
["2023-11-28"]
["2023-11-29"]
["2023-11-30"]
["2022-12-01"]
["合计",{"$f":"B326","v":{"v":0,"d":"0.00"}},null,null,{"$f":"E335","v":{"v":0,"d":"0.00"}}]
["2023-12-01"]
["2023-12-02"]
["2023-12-03"]
["2023-12-04"]
["2023-12-05"]
["2023-12-06"]
["2023-12-07"]
["2023-12-08"]
["2023-12-09"]
["2023-12-10"]
["2023-12-11"]
["2023-12-12"]
["2023-12-13"]
["2023-12-14"]
["2023-12-15"]
["2023-12-16"]
["2023-12-17"]
["2023-12-18"]
["2023-12-19"]
["2023-12-20"]
["2023-12-21"]
["2023-12-22"]
["2023-12-23"]
["2023-12-24"]
["2023-12-25"]
["2023-12-26"]
["2023-12-27"]
["2023-12-28"]
["2023-12-29"]
["2023-12-30"]
["2023-12-31"]
["合计",{"$f":"B371","v":{"v":0,"d":"0.00000"}},null,null,{"$f":"E371","v":{"v":0,"d":"0.0000"}},{"v":0,"d":"0.0000"}]
["2021年3月份开始汞灯产生，该报表统计"]

{"sheet":"2023年月度统计  ","index":7,"n_rows":16,"n_cols":9,"rows_kept":16,"merged":[[0,0,0,7],[1,0,2,0],[1,1,2,1],[1,2,2,2],[1,3,1,4],[1,5,2,5],[1,6,2,6],[1,7,2,7]]}
["                                 废物管理记录表   (2023年)                                 单位（吨）"]
["日期","产生数量","自行处置数量","委托利用、处置情况",null,"累计贮存数量","备注","填表人"]
[{"$nulls":3},"委托利用数量","委托处置数量",{"$nulls":3},0]
["1月份",{"$f":"'2023年废灯管  '!B35","v":{"v":0,"d":"0.00"}},null,null,{"$f":"'2023年废灯管  '!E35","v":{"v":0,"d":"0.00"}},{"$f":"'2023年废灯管  '!F35","v":{"v":0,"d":"0.0000"}},null,"诸美娟"]
["2月份",{"$f":"'2023年废灯管  '!B64","v":0.089},null,null,{"$f":"'2023年废灯管  '!E64","v":{"v":0,"d":"0.00"}},{"$f":"'2023年废灯管  '!F64","v":0.089},null,"诸美娟"]
["3月份",{"$f":"'2023年废灯管  '!B96","v":{"v":0,"d":"0.00"}},null,null,{"$f":"'2023年废灯管  '!E96","v":{"v":0,"d":"0.00"}},{"$f":"'2023年废灯管  '!F96","v":0.089},null,"诸美娟"]
["4月份",{"$f":"'2023年废灯管  '!B128","v":{"v":0,"d":"0.00"}},null,null,{"$f":"'2023年废灯管  '!E128","v":{"v":0,"d":"0.00"}},{"$f":"'2023年废灯管  '!F128","v":0.089},null,"诸美娟"]
["5月份",{"$f":"'2023年废灯管  '!B160","v":{"v":0,"d":"0.00"}},null,null,{"$f":"'2023年废灯管  '!E160","v":{"v":0,"d":"0.00"}},{"$f":"'2023年废灯管  '!F160","v":0.089},null,"诸美娟"]
["6月份",{"$f":"'2023年废灯管  '!B192","v":0.111},null,null,{"$f":"'2023年废灯管  '!E192","v":{"v":0.2,"d":"0.200"}},{"$f":"'2023年废灯管  '!F192","v":{"v":0,"d":"0.000"}},"嘉兴市众源环境科技有限公司   ","诸美娟"]
["7月份"]
["8月份"]
["9月份"]
["10月份"]
["11月份"]
["12月份"]
["合计",{"$f":"SUM(B4:B15)","v":{"v":0.2,"d":"0.200"}},{"$f":"SUM(C4:C15)","v":{"v":0,"d":"0.0000"}},{"$f":"SUM(D4:D15)","v":{"v":0,"d":"0.0000"}},{"$f":"SUM(E4:E15)","v":{"v":0.2,"d":"0.2000"}},{"$f":"F9","v":{"v":0,"d":"0.000"}}]

{"sheet":"空白表","index":8,"n_rows":3,"n_cols":8,"rows_kept":3,"merged":[[0,0,0,7],[1,0,2,0],[1,1,2,1],[1,2,2,2],[1,3,1,4],[1,5,2,5],[1,6,2,6],[1,7,2,7]]}
["                                 废物管理记录表                                            单位（吨）"]
["日期","产生数量","自行处置数量","委托利用、处置情况",null,"累计贮存数量","备注","填表人"]
[{"$nulls":3},"委托利用数量","委托处置数量"]