{"text_format":"3","workbook":"xlsx","n_sheets":13,"sheets":["2018年 ","2018年月度统计 ","2019年  ","2019年月度统计 ","2020年  ","2020年月度统计","2021年   ","2021年月度统计 ","2022年   ","2022年月度统计  ","2023年   ","2023年月度统计  ","Sheet3"],"not_rendered":{"images":4,"comments":2},"read":"whole","date_system":"1900"}

{"sheet":"2018年 ","index":0,"n_rows":393,"n_cols":12,"rows_kept":393,"merged":[[0,0,0,8],[1,0,3,0],[1,1,3,1],[1,2,3,2],[1,3,1,4],[1,5,1,6],[1,7,3,7],[1,8,3,8],[2,4,3,4],[2,6,3,6],[35,0,35,1],[36,0,36,6],[70,0,70,1],[103,0,103,1],[136,0,136,1],[168,0,168,1],[200,0,200,1],[232,0,232,1],[264,0,264,1],[296,0,296,1],[328,0,328,1],[360,0,360,1],[392,0,392,1]]}
["生产过程产生的固体废物利用及处置情况（按日填写）股份"]
["日期","固 体 废 物 名 称","数量（吨）","利 用 情 况",null,"处 置 情 况",null,"累计存储数量（吨）","记录人签字"]
[{"$nulls":3},"利用数量","去  向","处置数量","去  向"]
[{"$nulls":3},"（吨）",null,"（吨）"]
["2018-01-01","废包装桶",{"$nulls":7},"2017年",null,"2017年"]
["2018-01-02","废包装桶",{"$nulls":7},"2吨",null,"2吨"]
["2018-01-03","废包装桶"]
["2018-01-04","废包装桶"]
["2018-01-05","废包装桶"]
["2018-01-06","废包装桶"]
["2018-01-07","废包装桶"]
["2018-01-08","废包装桶"]
["2018-01-09","废包装桶"]
["2018-01-10","废包装桶"]
["2018-01-11","废包装桶"]
["2018-01-12","废包装桶"]
["2018-01-13","废包装桶"]
["2018-01-14","废包装桶"]
["2018-01-15","废包装桶"]
["2018-01-16","废包装桶"]
["2018-01-17","废包装桶"]
["2018-01-18","废包装桶"]
["2018-01-19","废包装桶"]
["2018-01-20","废包装桶"]
["2018-01-21","废包装桶"]
["2018-01-22","废包装桶"]
["2018-01-23","废包装桶"]
["2018-01-24","废包装桶"]
["2018-01-25","废包装桶"]
["2018-01-26","废包装桶"]
["2018-01-27","废包装桶"]
["2018-01-28","废包装桶"]
["2018-01-29","废包装桶"]
["2018-01-30","废包装桶",0.355,null,null,2.1,"湖州南太湖资源回收有限公司",{"$f":"2+0.355-2.1","v":0.255},"方剑其"]
["2018-01-31","废包装桶"]
["合计",null,{"$f":"C34","v":0.355},null,null,{"$f":"F34","v":2.1},null,{"$f":"H34","v":0.255}]
["备注：2017年7月24日起开始统计"]
[]
[]
["2018-02-01","废包装桶"]
["2018-02-02","废包装桶"]
["2018-02-03","废包装桶"]
["2018-02-04","废包装桶"]
["2018-02-05","废包装桶"]
["2018-02-06","废包装桶"]
["2018-02-07","废包装桶"]
["2018-02-08","废包装桶"]
["2018-02-09","废包装桶"]
["2018-02-10","废包装桶"]
["2018-02-11","废包装桶"]
["2018-02-12","废包装桶"]
["2018-02-13","废包装桶"]
["2018-02-14","废包装桶"]
["2018-02-15","废包装桶"]
["2018-02-16","废包装桶"]
["2018-02-17","废包装桶"]
["2018-02-18","废包装桶"]
["2018-02-19","废包装桶"]
["2018-02-20","废包装桶"]
["2018-02-21","废包装桶"]
["2018-02-22","废包装桶"]
["2018-02-23","废包装桶"]
["2018-02-24","废包装桶"]
["2018-02-25","废包装桶"]
["2018-02-26","废包装桶"]
["2018-02-27","废包装桶"]
["2018-02-28","废包装桶"]
[null,"废包装桶"]
[null,"废包装桶"]
[null,"废包装桶"]
["合计",null,{"$f":"0","v":0},null,null,0,null,{"$f":"H36","v":0.255}]
[]
["2018-03-01","废包装桶"]
["2018-03-02","废包装桶"]
["2018-03-03","废包装桶"]
["2018-03-04","废包装桶"]
["2018-03-05","废包装桶"]
["2018-03-06","废包装桶"]
["2018-03-07","废包装桶"]
["2018-03-08","废包装桶"]
["2018-03-09","废包装桶"]
["2018-03-10","废包装桶"]
["2018-03-11","废包装桶"]
["2018-03-12","废包装桶"]
["2018-03-13","废包装桶"]
["2018-03-14","废包装桶"]
["2018-03-15","废包装桶"]
["2018-03-16","废包装桶"]
["2018-03-17","废包装桶"]
["2018-03-18","废包装桶"]
["2018-03-19","废包装桶"]
["2018-03-20","废包装桶"]
["2018-03-21","废包装桶"]
["2018-03-22","废包装桶"]
["2018-03-23","废包装桶"]
["2018-03-24","废包装桶"]
["2018-03-25","废包装桶"]
["2018-03-26","废包装桶"]
["2018-03-27","废包装桶"]
["2018-03-28","废包装桶"]
["2018-03-29","废包装桶"]
["2018-03-30","废包装桶"]
["2018-03-31","废包装桶"]
["合计",null,0,null,null,0,null,{"$f":"H71","v":0.255}]
[]
["2018-04-01","废包装桶"]
["2018-04-02","废包装桶"]
["2018-04-03","废包装桶"]
["2018-04-04","废包装桶"]
["2018-04-05","废包装桶"]
["2018-04-06","废包装桶"]
["2018-04-07","废包装桶"]
["2018-04-08","废包装桶"]
["2018-04-09","废包装桶"]
["2018-04-10","废包装桶"]
["2018-04-11","废包装桶"]
["2018-04-12","废包装桶"]
["2018-04-13","废包装桶"]
["2018-04-14","废包装桶"]
["2018-04-15","废包装桶"]
["2018-04-16","废包装桶"]
["2018-04-17","废包装桶"]
["2018-04-18","废包装桶"]
["2018-04-19","废包装桶",1.246,null,null,1.36,"湖州南太湖资源回收有限公司",0.141,"方剑其"]
["2018-04-20","废包装桶"]
["2018-04-21","废包装桶"]
["2018-04-22","废包装桶"]
["2018-04-23","废包装桶",2.45,null,null,2.45,"湖州南太湖资源回收有限公司",0.141,"方剑其"]
["2018-04-24","废包装桶"]
["2018-04-25","废包装桶"]
["2018-04-26","废包装桶"]
["2018-04-27","废包装桶"]
["2018-04-28","废包装桶"]
["2018-04-29","废包装桶"]
["2018-04-30","废包装桶"]
[]
["合计",null,{"$f":"SUM(C106:C136)","v":3.696},null,null,{"$f":"SUM(F106:F136)","v":3.81},null,{"$f":"H128","v":0.141}]
["2018-05-01","废包装桶"]
["2018-05-02","废包装桶"]
["2018-05-03","废包装桶"]
["2018-05-04","废包装桶"]
["2018-05-05","废包装桶"]
["2018-05-06","废包装桶"]
["2018-05-07","废包装桶"]
["2018-05-08","废包装桶"]
["2018-05-09","废包装桶"]
["2018-05-10","废包装桶"]
["2018-05-11","废包装桶"]
["2018-05-12","废包装桶"]
["2018-05-13","废包装桶"]
["2018-05-14","废包装桶"]
["2018-05-15","废包装桶"]
["2018-05-16","废包装桶"]
["2018-05-17","废包装桶"]
["2018-05-18","废包装桶"]
["2018-05-19","废包装桶"]
["2018-05-20","废包装桶"]
["2018-05-21","废包装桶"]
["2018-05-22","废包装桶"]
["2018-05-23","废包装桶"]
["2018-05-24","废包装桶"]
["2018-05-25","废包装桶"]
["2018-05-26","废包装桶"]
["2018-05-27","废包装桶"]
["2018-05-28","废包装桶"]
["2018-05-29","废包装桶"]
["2018-05-30","废包装桶"]
["2018-05-31","废包装桶"]
["合计",null,0,null,null,0,null,0.141]
["2018-06-01","废包装桶"]
["2018-06-02","废包装桶"]
["2018-06-03","废包装桶"]
["2018-06-04","废包装桶"]
["2018-06-05","废包装桶"]
["2018-06-06","废包装桶"]
["2018-06-07","废包装桶"]
["2018-06-08","废包装桶"]
["2018-06-09","废包装桶"]
["2018-06-10","废包装桶"]
["2018-06-11","废包装桶"]
["2018-06-12","废包装桶"]
["2018-06-13","废包装桶",0.631,{"$nulls":4},{"$f":"H169+C182","v":0.772},"方剑其"]
["2018-06-14","废包装桶"]
["2018-06-15","废包装桶"]
["2018-06-16","废包装桶"]
["2018-06-17","废包装桶"]
["2018-06-18","废包装桶"]
["2018-06-19","废包装桶"]
["2018-06-20","废包装桶"]
["2018-06-21","废包装桶"]
["2018-06-22","废包装桶"]
["2018-06-23","废包装桶"]
["2018-06-24","废包装桶"]
["2018-06-25","废包装桶"]
["2018-06-26","废包装桶"]
["2018-06-27","废包装桶"]
["2018-06-28","废包装桶"]
["2018-06-29","废包装桶"]
["2018-06-30","废包装桶"]
[]
["合计",null,{"$f":"SUM(C170:C200)","v":0.631},null,null,{"$f":"SUM(F170:F200)","v":0},null,{"$f":"H182","v":0.772}]
["2018-07-01","废包装桶"]
["2018-07-02","废包装桶"]
["2018-07-03","废包装桶"]
["2018-07-04","废包装桶"]
["2018-07-05","废包装桶"]
["2018-07-06","废包装桶"]
["2018-07-07","废包装桶"]
["2018-07-08","废包装桶"]
["2018-07-09","废包装桶"]
["2018-07-10","废包装桶"]
["2018-07-11","废包装桶"]
["2018-07-12","废包装桶"]
["2018-07-13","废包装桶"]
["2018-07-14","废包装桶"]
["2018-07-15","废包装桶"]
["2018-07-16","废包装桶"]
["2018-07-17","废包装桶"]
["2018-07-18","废包装桶"]
["2018-07-19","废包装桶"]
["2018-07-20","废包装桶",1.228,null,null,2,{"$f":"G128","v":"湖州南太湖资源回收有限公司"},{"$f":"H201+C221-F221","v":0},"方剑其"]
["2018-07-21","废包装桶"]
["2018-07-22","废包装桶"]
["2018-07-23","废包装桶"]
["2018-07-24","废包装桶"]
["2018-07-25","废包装桶",{"$f":"(16+16+15+17+16+17)/1000","v":0.097},{"$nulls":4},{"$f":"H221+C226-F226","v":0.097},"方剑其"]
["2018-07-26","废包装桶"]
["2018-07-27","废包装桶"]
["2018-07-28","废包装桶"]
["2018-07-29","废包装桶"]
["2018-07-30","废包装桶"]
["2018-07-31","废包装桶"]
["合计",null,{"$f":"SUM(C202:C232)","v":1.325},null,null,{"$f":"SUM(F202:F232)","v":2},null,{"$f":"H226","v":0.097}]
["2018-08-01","废包装桶"]
["2018-08-02","废包装桶"]
["2018-08-03","废包装桶"]
["2018-08-04","废包装桶"]
["2018-08-05","废包装桶"]
["2018-08-06","废包装桶"]
["2018-08-07","废包装桶"]
["2018-08-08","废包装桶"]
["2018-08-09","废包装桶"]
["2018-08-10","废包装桶"]
["2018-08-11","废包装桶"]
["2018-08-12","废包装桶"]
["2018-08-13","废包装桶"]
["2018-08-14","废包装桶",0.6675,{"$nulls":4},{"$f":"H233+C247-F247","v":0.7645},"方剑其",null,23]
["2018-08-15","废包装桶",{"$nulls":8},21.5]
["2018-08-16","废包装桶",{"$nulls":8},21.5]
["2018-08-17","废包装桶",{"$nulls":8},21.5]
["2018-08-18","废包装桶",{"$nulls":8},22]
["2018-08-19","废包装桶",{"$nulls":8},21.5]
["2018-08-20","废包装桶",{"$nulls":8},21.5]
["2018-08-21","废包装桶",{"$nulls":8},19]
["2018-08-22","废包装桶",{"$nulls":8},22]
["2018-08-23","废包装桶",{"$nulls":8},22]
["2018-08-24","废包装桶",{"$nulls":8},22]
["2018-08-25","废包装桶",{"$nulls":8},24]
["2018-08-26","废包装桶",{"$nulls":8},24]
["2018-08-27","废包装桶",{"$nulls":8},24]
["2018-08-28","废包装桶",{"$nulls":8},24]
["2018-08-29","废包装桶",{"$nulls":8},21.5]
["2018-08-30","废包装桶",{"$nulls":8},22]
["2018-08-31","废包装桶",0.6555,null,null,1.42,{"$f":"G221","v":"湖州南太湖资源回收有限公司"},{"$f":"H247+C264-F264","v":0},"方剑其",null,22]
["合计",null,{"$f":"SUM(C234:C264)","v":1.323},null,null,{"$f":"F264","v":1.42},null,{"$f":"H264","v":0},null,null,22]
["2018-09-01","废包装桶",{"$nulls":8},21.5]
["2018-09-02","废包装桶",{"$nulls":8},22]
["2018-09-03","废包装桶",{"$nulls":8},21.5]
["2018-09-04","废包装桶",{"$nulls":8},21.5]
["2018-09-05","废包装桶",{"$nulls":8},17]
["2018-09-06","废包装桶",{"$nulls":8},21]
["2018-09-07","废包装桶",{"$nulls":8},16.5]
["2018-09-08","废包装桶",{"$nulls":8},21.5]
["2018-09-09","废包装桶",{"$nulls":8},15]
["2018-09-10","废包装桶",{"$nulls":8},23]
["2018-09-11","废包装桶",{"$nulls":8},24]
["2018-09-12","废包装桶",{"$nulls":8},22]
["2018-09-13","废包装桶",{"$nulls":7},"合计",667.5]
["2018-09-14","废包装桶",{"$nulls":8},"31只空桶+上期余6只空桶=37只"]
["2018-09-15","废包装桶"]
["2018-09-16","废包装桶"]
["2018-09-17","废包装桶"]
["2018-09-18","废包装桶"]
["2018-09-19","废包装桶"]
["2018-09-20","废包装桶"]
["2018-09-21","废包装桶"]
["2018-09-22","废包装桶"]
["2018-09-23","废包装桶"]
["2018-09-24","废包装桶"]
["2018-09-25","废包装桶"]
["2018-09-26","废包装桶"]
["2018-09-27","废包装桶"]
["2018-09-28","废包装桶"]
["2018-09-29","废包装桶"]
["2018-09-30","废包装桶"]
[]
["合计",{"$nulls":6},{"$f":"H296","v":0}]
["2018-10-01","废包装桶"]
["2018-10-02","废包装桶"]
["2018-10-03","废包装桶"]
["2018-10-04","废包装桶"]
["2018-10-05","废包装桶"]
["2018-10-06","废包装桶"]
["2018-10-07","废包装桶"]
["2018-10-08","废包装桶"]
["2018-10-09","废包装桶"]
["2018-10-10","废包装桶"]
["2018-10-11","废包装桶"]
["2018-10-12","废包装桶"]
["2018-10-13","废包装桶"]
["2018-10-14","废包装桶"]
["2018-10-15","废包装桶"]
["2018-10-16","废包装桶"]
["2018-10-17","废包装桶"]
["2018-10-18","废包装桶"]
["2018-10-19","废包装桶"]
["2018-10-20","废包装桶"]
["2018-10-21","废包装桶"]
["2018-10-22","废包装桶"]
["2018-10-23","废包装桶"]
["2018-10-24","废包装桶"]
["2018-10-25","废包装桶"]
["2018-10-26","废包装桶"]
["2018-10-27","废包装桶"]
["2018-10-28","废包装桶"]
["2018-10-29","废包装桶"]
["2018-10-30","废包装桶"]
["2018-10-31","废包装桶"]
["合计",{"$nulls":6},{"$f":"H328","v":0}]
["2018-11-01","废包装桶",0.682,{"$nulls":4},{"$f":"C330","v":0.682},"方剑其"]
["2018-11-02","废包装桶"]
["2018-11-03","废包装桶"]
["2018-11-04","废包装桶"]
["2018-11-05","废包装桶"]
["2018-11-06","废包装桶"]
["2018-11-07","废包装桶"]
["2018-11-08","废包装桶"]
["2018-11-09","废包装桶"]
["2018-11-10","废包装桶"]
["2018-11-11","废包装桶"]
["2018-11-12","废包装桶"]
["2018-11-13","废包装桶"]
["2018-11-14","废包装桶"]
["2018-11-15","废包装桶",2.198,null,null,2.88,{"$f":"G264","v":"湖州南太湖资源回收有限公司"},0,"方剑其"]
["2018-11-16","废包装桶"]
["2018-11-17","废包装桶"]
["2018-11-18","废包装桶"]
["2018-11-19","废包装桶"]
["2018-11-20","废包装桶"]
["2018-11-21","废包装桶"]
["2018-11-22","废包装桶"]
["2018-11-23","废包装桶"]
["2018-11-24","废包装桶"]
["2018-11-25","废包装桶"]
["2018-11-26","废包装桶"]
["2018-11-27","废包装桶"]
["2018-11-28","废包装桶"]
["2018-11-29","废包装桶"]
["2018-11-30","废包装桶"]
[]
["合计",null,{"$f":"SUM(C330:C360)","v":2.88},null,null,{"$f":"SUM(F330:F360)","v":2.88},null,{"$f":"H344","v":0}]
["2018-12-01","废包装桶"]
["2018-12-02","废包装桶"]
["2018-12-03","废包装桶"]
["2018-12-04","废包装桶"]
["2018-12-05","废包装桶"]
["2018-12-06","废包装桶"]
["2018-12-07","废包装桶"]
["2018-12-08","废包装桶"]
["2018-12-09","废包装桶"]
["2018-12-10","废包装桶"]
["2018-12-11","废包装桶"]
["2018-12-12","废包装桶"]
["2018-12-13","废包装桶",0.306,{"$nulls":4},0.306,"方剑其"]
["2018-12-14","废包装桶"]
["2018-12-15","废包装桶"]
["2018-12-16","废包装桶"]
["2018-12-17","废包装桶"]
["2018-12-18","废包装桶"]
["2018-12-19","废包装桶"]
["2018-12-20","废包装桶"]
["2018-12-21","废包装桶"]
["2018-12-22","废包装桶"]
["2018-12-23","废包装桶"]
["2018-12-24","废包装桶"]
["2018-12-25","废包装桶"]
["2018-12-26","废包装桶"]
["2018-12-27","废包装桶"]
["2018-12-28","废包装桶"]
["2018-12-29","废包装桶"]
["2018-12-30","废包装桶"]
["2018-12-31","废包装桶"]
["合计",null,{"$f":"SUM(C362:C392)","v":0.306},null,null,{"$f":"SUM(F362:F392)","v":0},null,{"$f":"H374","v":0.306}]

{"sheet":"2018年月度统计 ","index":1,"n_rows":17,"n_cols":10,"rows_kept":17,"merged":[[0,0,0,8],[1,0,3,0],[1,1,3,1],[1,2,3,2],[1,3,1,4],[1,5,1,6],[1,7,3,7],[1,8,3,8],[2,4,3,4],[2,6,3,6]]}
["生产过程产生的固体废物利用及处置情况（按日填写）股份     ( 2018)"]
["日期","固 体 废 物 名 称","数量（吨）","利 用 情 况",null,"处 置 情 况",null,"累计存储数量（吨）","记录人签字"]
[{"$nulls":3},"利用数量","去  向","处置数量","去  向"]
[{"$nulls":3},"（吨）",null,"（吨）",{"$nulls":3},201712]
["1月份","废包装桶",{"$f":"'2018年 '!C36","v":0.355},null,null,{"$f":"'2018年 '!F36","v":2.1},{"$f":"'2018年 '!G34","v":"湖州南太湖资源回收有限公司"},{"$f":"'2018年 '!H36","v":0.255},"方剑其","2吨"]
["2月份","废包装桶",{"$f":"'2018年 '!C71","v":0},null,null,{"$f":"'2018年 '!F71","v":0},null,{"$f":"H5","v":0.255},"方剑其"]
["3月份","废包装桶",{"$f":"'2018年 '!D104","v":0},null,null,{"$f":"'2018年 '!F104","v":0},null,{"$f":"H6","v":0.255},"方剑其"]
["4月份","废包装桶",{"$f":"'2018年 '!C137","v":3.696},null,null,{"$f":"'2018年 '!F137","v":3.81},{"$f":"'2018年 '!G124","v":"湖州南太湖资源回收有限公司"},{"$f":"'2018年 '!H137","v":0.141},"方剑其"]
["5月份","废包装桶",{"$f":"'2018年 '!C169","v":0},null,null,{"$f":"'2018年 '!F169","v":0},null,{"$f":"'2018年 '!H169","v":0.141},"方剑其"]
["6月份","废包装桶",{"$f":"'2018年 '!C201","v":0.631},null,null,{"$f":"'2018年 '!F201","v":0},null,{"$f":"'2018年 '!H201","v":0.772},"方剑其"]
["7月份","废包装桶",{"$f":"'2018年 '!C233","v":1.325},null,null,{"$f":"'2018年 '!F233","v":2},{"$f":"'2018年 '!G221","v":"湖州南太湖资源回收有限公司"},{"$f":"'2018年 '!H233","v":0.097},"方剑其"]
["8月份","废包装桶",{"$f":"'2018年 '!C265","v":1.323},null,null,{"$f":"'2018年 '!F265","v":1.42},{"$f":"'2018年 '!G264","v":"湖州南太湖资源回收有限公司"},{"$f":"'2018年 '!H265","v":0},"方剑其"]
["9月份","废包装桶",{"$f":"'2018年 '!C297","v":0},null,null,{"$f":"'2018年 '!F297","v":0},null,{"$f":"'2018年 '!H297","v":0},"方剑其"]
["10月份","废包装桶",{"$f":"'2018年 '!C329","v":0},null,null,{"$f":"'2018年 '!F329","v":0},null,{"$f":"'2018年 '!H329","v":0},"方剑其"]
["11月份","废包装桶",{"$f":"'2018年 '!C361","v":2.88},null,null,{"$f":"'2018年 '!F361","v":2.88},{"$f":"G12","v":"湖州南太湖资源回收有限公司"},{"$f":"'2018年 '!H361","v":0},"方剑其"]
["12月份","废包装桶",{"$f":"'2018年 '!C393","v":0.306},null,null,{"$f":"'2018年 '!F393","v":0},null,{"$f":"'2018年 '!H393","v":0.306},"方剑其"]
["合计",null,{"$f":"SUM(C5:C16)","v":10.516},null,null,{"$f":"SUM(F5:F16)","v":12.21},null,{"$f":"H16","v":0.306}]

{"sheet":"2019年  ","index":2,"n_rows":390,"n_cols":11,"rows_kept":390,"merged":[[0,0,0,8],[1,0,3,0],[1,1,3,1],[1,2,3,2],[1,3,1,4],[1,5,1,6],[1,7,3,7],[1,8,3,8],[2,4,3,4],[2,6,3,6],[35,0,35,1],[36,0,36,6],[67,0,67,1],[100,0,100,1],[133,0,133,1],[165,0,165,1],[197,0,197,1],[229,0,229,1],[261,0,261,1],[293,0,293,1],[325,0,325,1],[357,0,357,1],[389,0,389,1]]}
["生产过程产生的固体废物利用及处置情况（按日填写）股份"]
["日期","固 体 废 物 名 称","数量（吨）","利 用 情 况",null,"处 置 情 况",null,"累计存储数量（吨）","记录人签字"]
[{"$nulls":3},"利用数量","去  向","处置数量","去  向"]
[{"$nulls":3},"（吨）",null,"（吨）"]
["2019-01-01","废包装桶",{"$nulls":5},0.306,"方剑其","2018年"]
["2019-01-02","废包装桶",{"$nulls":7},"0.306吨"]
["2019-01-03","废包装桶"]
["2019-01-04","废包装桶"]
["2019-01-05","废包装桶"]
["2019-01-06","废包装桶"]
["2019-01-07","废包装桶"]
["2019-01-08","废包装桶"]
["2019-01-09","废包装桶"]
["2019-01-10","废包装桶"]
["2019-01-11","废包装桶"]
["2019-01-12","废包装桶"]
["2019-01-13","废包装桶"]
["2019-01-14","废包装桶"]
["2019-01-15","废包装桶"]
["2019-01-16","废包装桶"]
["2019-01-17","废包装桶"]
["2019-01-18","废包装桶"]
["2019-01-19","废包装桶"]
["2019-01-20","废包装桶"]
["2019-01-21","废包装桶"]
["2019-01-22","废包装桶"]
["2019-01-23","废包装桶"]
["2019-01-24","废包装桶"]
["2019-01-25","废包装桶"]
["2019-01-26","废包装桶"]
["2019-01-27","废包装桶"]
["2019-01-28","废包装桶"]
["2019-01-29","废包装桶"]
["2019-01-30","废包装桶"]
["2019-01-31","废包装桶"]
["合计",null,{"$f":"C34","v":0},null,null,{"$f":"F34","v":0},null,{"$f":"H5","v":0.306},null,null,"危废填报截止时间"]
["备注：2017年7月24日起开始统计"]
[]
[]
["2019-02-01","废包装桶"]
["2019-02-02","废包装桶"]
["2019-02-03","废包装桶"]
["2019-02-04","废包装桶"]
["2019-02-05","废包装桶"]
["2019-02-06","废包装桶"]
["2019-02-07","废包装桶"]
["2019-02-08","废包装桶"]
["2019-02-09","废包装桶"]
["2019-02-10","废包装桶"]
["2019-02-11","废包装桶"]
["2019-02-12","废包装桶"]
["2019-02-13","废包装桶"]
["2019-02-14","废包装桶"]
["2019-02-15","废包装桶"]
["2019-02-16","废包装桶"]
["2019-02-17","废包装桶"]
["2019-02-18","废包装桶"]
["2019-02-19","废包装桶"]
["2019-02-20","废包装桶"]
["2019-02-21","废包装桶"]
["2019-02-22","废包装桶"]
["2019-02-23","废包装桶"]
["2019-02-24","废包装桶"]
["2019-02-25","废包装桶"]
["2019-02-26","废包装桶"]
["2019-02-27","废包装桶"]
["2019-02-28","废包装桶"]
["合计",null,{"$f":"SUM(C40:C67)","v":0},null,null,{"$f":"SUM(F40:F67)","v":0},null,{"$f":"H36","v":0.306},null,"危废填报截止时间"]
[]
["2019-03-01","废包装桶"]
["2019-03-02","废包装桶"]
["2019-03-03","废包装桶"]
["2019-03-04","废包装桶"]
["2019-03-05","废包装桶"]
["2019-03-06","废包装桶"]
["2019-03-07","废包装桶"]
["2019-03-08","废包装桶"]
["2019-03-09","废包装桶"]
["2019-03-10","废包装桶"]
["2019-03-11","废包装桶"]
["2019-03-12","废包装桶"]
["2019-03-13","废包装桶"]
["2019-03-14","废包装桶"]
["2019-03-15","废包装桶"]
["2019-03-16","废包装桶"]
["2019-03-17","废包装桶"]
["2019-03-18","废包装桶"]
["2019-03-19","废包装桶"]
["2019-03-20","废包装桶"]
["2019-03-21","废包装桶"]
["2019-03-22","废包装桶"]
["2019-03-23","废包装桶"]
["2019-03-24","废包装桶"]
["2019-03-25","废包装桶"]
["2019-03-26","废包装桶"]
["2019-03-27","废包装桶"]
["2019-03-28","废包装桶"]
["2019-03-29","废包装桶"]
["2019-03-30","废包装桶"]
["2019-03-31","废包装桶"]
["合计",null,{"$f":"SUM(C70:C100)","v":0},null,null,{"$f":"SUM(F70:F100)","v":0},null,{"$f":"H68","v":0.306}]
[]
["2019-04-01","废包装桶"]
["2019-04-02","废包装桶"]
["2019-04-03","废包装桶"]
["2019-04-04","废包装桶"]
["2019-04-05","废包装桶"]
["2019-04-06","废包装桶"]
["2019-04-07","废包装桶"]
["2019-04-08","废包装桶"]
["2019-04-09","废包装桶"]
["2019-04-10","废包装桶"]
["2019-04-11","废包装桶"]
["2019-04-12","废包装桶"]
["2019-04-13","废包装桶"]
["2019-04-14","废包装桶"]
["2019-04-15","废包装桶"]
["2019-04-16","废包装桶"]
["2019-04-17","废包装桶"]
["2019-04-18","废包装桶"]
["2019-04-19","废包装桶"]
["2019-04-20","废包装桶"]
["2019-04-21","废包装桶"]
["2019-04-22","废包装桶",1.714,null,null,2.02,"湖州南太湖资源回收有限公司",{"$f":"H101+C124-F124","v":0},"方剑其"]
["2019-04-23","废包装桶"]
["2019-04-24","废包装桶"]
["2019-04-25","废包装桶"]
["2019-04-26","废包装桶",0.06,{"$nulls":4},{"$f":"H124+C128-F128","v":0.06},"方剑其"]
["2019-04-27","废包装桶"]
["2019-04-28","废包装桶"]
["2019-04-29","废包装桶"]
["2019-04-30","废包装桶"]
[]
["合计",null,1.774,null,null,2.02,null,{"$f":"H128","v":0.06}]
["2019-05-01","废包装桶"]
["2019-05-02","废包装桶"]
["2019-05-03","废包装桶"]
["2019-05-04","废包装桶"]
["2019-05-05","废包装桶"]
["2019-05-06","废包装桶"]
["2019-05-07","废包装桶"]
["2019-05-08","废包装桶"]
["2019-05-09","废包装桶"]
["2019-05-10","废包装桶"]
["2019-05-11","废包装桶"]
["2019-05-12","废包装桶"]
["2019-05-13","废包装桶"]
["2019-05-14","废包装桶"]
["2019-05-15","废包装桶"]
["2019-05-16","废包装桶"]
["2019-05-17","废包装桶"]
["2019-05-18","废包装桶"]
["2019-05-19","废包装桶"]
["2019-05-20","废包装桶"]
["2019-05-21","废包装桶"]
["2019-05-22","废包装桶"]
["2019-05-23","废包装桶"]
["2019-05-24","废包装桶"]
["2019-05-25","废包装桶"]
["2019-05-26","废包装桶"]
["2019-05-27","废包装桶"]
["2019-05-28","废包装桶"]
["2019-05-29","废包装桶"]
["2019-05-30","废包装桶"]
["2019-05-31","废包装桶"]
["合计",null,0,null,null,0,null,{"$f":"H134","v":0.06}]
["2019-06-01","废包装桶"]
["2019-06-02","废包装桶"]
["2019-06-03","废包装桶"]
["2019-06-04","废包装桶"]
["2019-06-05","废包装桶"]
["2019-06-06","废包装桶"]
["2019-06-07","废包装桶"]
["2019-06-08","废包装桶"]
["2019-06-09","废包装桶"]
["2019-06-10","废包装桶"]
["2019-06-11","废包装桶"]
["2019-06-12","废包装桶"]
["2019-06-13","废包装桶"]
["2019-06-14","废包装桶"]
["2019-06-15","废包装桶"]
["2019-06-16","废包装桶"]
["2019-06-17","废包装桶"]
["2019-06-18","废包装桶"]
["2019-06-19","废包装桶"]
["2019-06-20","废包装桶"]
["2019-06-21","废包装桶"]
["2019-06-22","废包装桶"]
["2019-06-23","废包装桶"]
["2019-06-24","废包装桶"]
["2019-06-25","废包装桶"]
["2019-06-26","废包装桶"]
["2019-06-27","废包装桶"]
["2019-06-28","废包装桶"]
["2019-06-29","废包装桶"]
["2019-06-30","废包装桶"]
[]
["合计",null,{"$f":"SUM(C167:C197)","v":0},null,null,{"$f":"SUM(F167:F197)","v":0},null,{"$f":"H166","v":0.06}]
["2019-07-01","废包装桶"]
["2019-07-02","废包装桶"]
["2019-07-03","废包装桶"]
["2019-07-04","废包装桶"]
["2019-07-05","废包装桶"]
["2019-07-06","废包装桶"]
["2019-07-07","废包装桶"]
["2019-07-08","废包装桶"]
["2019-07-09","废包装桶"]
["2019-07-10","废包装桶"]
["2019-07-11","废包装桶"]
["2019-07-12","废包装桶"]
["2019-07-13","废包装桶"]
["2019-07-14","废包装桶"]
["2019-07-15","废包装桶"]
["2019-07-16","废包装桶"]
["2019-07-17","废包装桶"]
["2019-07-18","废包装桶"]
["2019-07-19","废包装桶"]
["2019-07-20","废包装桶"]
["2019-07-21","废包装桶"]
["2019-07-22","废包装桶"]
["2019-07-23","废包装桶"]
["2019-07-24","废包装桶"]
["2019-07-25","废包装桶"]
["2019-07-26","废包装桶"]
["2019-07-27","废包装桶"]
["2019-07-28","废包装桶"]
["2019-07-29","废包装桶"]
["2019-07-30","废包装桶"]
["2019-07-31","废包装桶"]
["合计",null,{"$f":"SUM(C199:C229)","v":0},null,null,{"$f":"SUM(F199:F229)","v":0},null,{"$f":"H198","v":0.06}]
["2019-08-01","废包装桶"]
["2019-08-02","废包装桶"]
["2019-08-03","废包装桶"]
["2019-08-04","废包装桶"]
["2019-08-05","废包装桶"]
["2019-08-06","废包装桶"]
["2019-08-07","废包装桶"]
["2019-08-08","废包装桶"]
["2019-08-09","废包装桶"]
["2019-08-10","废包装桶"]
["2019-08-11","废包装桶"]
["2019-08-12","废包装桶"]
["2019-08-13","废包装桶"]
["2019-08-14","废包装桶"]
["2019-08-15","废包装桶"]
["2019-08-16","废包装桶"]
["2019-08-17","废包装桶"]
["2019-08-18","废包装桶"]
["2019-08-19","废包装桶"]
["2019-08-20","废包装桶"]
["2019-08-21","废包装桶"]
["2019-08-22","废包装桶"]
["2019-08-23","废包装桶"]
["2019-08-24","废包装桶"]
["2019-08-25","废包装桶"]
["2019-08-26","废包装桶"]
["2019-08-27","废包装桶"]
["2019-08-28","废包装桶"]
["2019-08-29","废包装桶"]
["2019-08-30","废包装桶"]
["2019-08-31","废包装桶"]
["合计",null,{"$f":"SUM(C231:C261)","v":0},null,null,{"$f":"F261","v":0},null,0.06]
["2019-09-01","废包装桶"]
["2019-09-02","废包装桶"]
["2019-09-03","废包装桶"]
["2019-09-04","废包装桶"]
["2019-09-05","废包装桶",2.32,null,null,2.38,"湖州南太湖资源回收有限公司",{"$f":"H262+C267-F267","v":0},"方剑其"]
["2019-09-06","废包装桶"]
["2019-09-07","废包装桶"]
["2019-09-08","废包装桶"]
["2019-09-09","废包装桶"]
["2019-09-10","废包装桶"]
["2019-09-11","废包装桶"]
["2019-09-12","废包装桶"]
["2019-09-13","废包装桶"]
["2019-09-14","废包装桶"]
["2019-09-15","废包装桶"]
["2019-09-16","废包装桶"]
["2019-09-17","废包装桶"]
["2019-09-18","废包装桶"]
["2019-09-19","废包装桶"]
["2019-09-20","废包装桶"]
["2019-09-21","废包装桶"]
["2019-09-22","废包装桶"]
["2019-09-23","废包装桶"]
["2019-09-24","废包装桶"]
["2019-09-25","废包装桶"]
["2019-09-26","废包装桶"]
["2019-09-27","废包装桶"]
["2019-09-28","废包装桶"]
["2019-09-29","废包装桶"]
["2019-09-30","废包装桶"]
[]
["合计",null,2.32,null,null,2.38,null,{"$f":"H293","v":0}]
["2019-10-01","废包装桶"]
["2019-10-02","废包装桶"]
["2019-10-03","废包装桶"]
["2019-10-04","废包装桶"]
["2019-10-05","废包装桶"]
["2019-10-06","废包装桶"]
["2019-10-07","废包装桶"]
["2019-10-08","废包装桶"]
["2019-10-09","废包装桶"]
["2019-10-10","废包装桶"]
["2019-10-11","废包装桶"]
["2019-10-12","废包装桶"]
["2019-10-13","废包装桶"]
["2019-10-14","废包装桶"]
["2019-10-15","废包装桶"]
["2019-10-16","废包装桶"]
["2019-10-17","废包装桶"]
["2019-10-18","废包装桶"]
["2019-10-19","废包装桶"]
["2019-10-20","废包装桶"]
["2019-10-21","废包装桶"]
["2019-10-22","废包装桶"]
["2019-10-23","废包装桶"]
["2019-10-24","废包装桶"]
["2019-10-25","废包装桶"]
["2019-10-26","废包装桶"]
["2019-10-27","废包装桶"]
["2019-10-28","废包装桶"]
["2019-10-29","废包装桶"]
["2019-10-30","废包装桶"]
["2019-10-31","废包装桶"]
["合计",null,0,null,null,0,null,{"$f":"H325","v":0}]
["2019-11-01","废包装桶"]
["2019-11-02","废包装桶"]
["2019-11-03","废包装桶"]
["2019-11-04","废包装桶"]
["2019-11-05","废包装桶"]
["2019-11-06","废包装桶"]
["2019-11-07","废包装桶"]
["2019-11-08","废包装桶",1.89,null,null,1.89,"湖州南太湖资源回收有限公司",0,"方剑其"]
["2019-11-09","废包装桶"]
["2019-11-10","废包装桶"]
["2019-11-11","废包装桶"]
["2019-11-12","废包装桶"]
["2019-11-13","废包装桶"]
["2019-11-14","废包装桶"]
["2019-11-15","废包装桶"]
["2019-11-16","废包装桶"]
["2019-11-17","废包装桶"]
["2019-11-18","废包装桶"]
["2019-11-19","废包装桶"]
["2019-11-20","废包装桶"]
["2019-11-21","废包装桶"]
["2019-11-22","废包装桶"]
["2019-11-23","废包装桶"]
["2019-11-24","废包装桶"]
["2019-11-25","废包装桶"]
["2019-11-26","废包装桶"]
["2019-11-27","废包装桶"]
["2019-11-28","废包装桶"]
["2019-11-29","废包装桶"]
["2019-11-30","废包装桶"]
[]
["合计",null,{"$f":"SUM(C327:C357)","v":1.89},null,null,{"$f":"SUM(F327:F357)","v":1.89},null,{"$f":"H341","v":0}]
["2019-12-01","废包装桶"]
["2019-12-02","废包装桶"]
["2019-12-03","废包装桶"]
["2019-12-04","废包装桶"]
["2019-12-05","废包装桶"]
["2019-12-06","废包装桶"]
["2019-12-07","废包装桶"]
["2019-12-08","废包装桶"]
["2019-12-09","废包装桶"]
["2019-12-10","废包装桶"]
["2019-12-11","废包装桶"]
["2019-12-12","废包装桶"]
["2019-12-13","废包装桶"]
["2019-12-14","废包装桶"]
["2019-12-15","废包装桶"]
["2019-12-16","废包装桶"]
["2019-12-17","废包装桶"]
["2019-12-18","废包装桶"]
["2019-12-19","废包装桶"]
["2019-12-20","废包装桶"]
["2019-12-21","废包装桶"]
["2019-12-22","废包装桶"]
["2019-12-23","废包装桶"]
["2019-12-24","废包装桶"]
["2019-12-25","废包装桶"]
["2019-12-26","废包装桶"]
["2019-12-27","废包装桶"]
["2019-12-28","废包装桶"]
["2019-12-29","废包装桶"]
["2019-12-30","废包装桶"]
["2019-12-31","废包装桶"]
["合计",null,{"$f":"SUM(C359:C389)","v":0},null,null,{"$f":"SUM(F359:F389)","v":0},null,{"$f":"H371","v":0}]

{"sheet":"2019年月度统计 ","index":3,"n_rows":17,"n_cols":10,"rows_kept":17,"merged":[[0,0,0,8],[1,0,3,0],[1,1,3,1],[1,2,3,2],[1,3,1,4],[1,5,1,6],[1,7,3,7],[1,8,3,8],[2,4,3,4],[2,6,3,6]]}
["生产过程产生的固体废物利用及处置情况（按日填写）股份     ( 2019)"]
["日期","固 体 废 物 名 称","数量（吨）","利 用 情 况",null,"处 置 情 况",null,"累计存储数量（吨）","记录人签字"]
[{"$nulls":3},"利用数量","去  向","处置数量","去  向"]
[{"$nulls":3},"（吨）",null,"（吨）",{"$nulls":3},201812]
["1月份","废包装桶",{"$f":"'2019年  '!C36","v":0},null,null,{"$f":"'2019年  '!F36","v":0},null,{"$f":"'2019年  '!H36","v":0.306},"方剑其","0.306吨"]
["2月份","废包装桶",{"$f":"'2019年  '!C68","v":0},null,null,{"$f":"'2019年  '!F68","v":0},null,{"$f":"H5","v":0.306},"方剑其"]
["3月份","废包装桶",{"$f":"'2019年  '!C101","v":0},null,null,{"$f":"'2019年  '!F101","v":0},null,{"$f":"H6","v":0.306},"方剑其"]
["4月份","废包装桶",{"$f":"'2019年  '!C134","v":1.774},null,null,{"$f":"'2019年  '!F134","v":2.02},{"$f":"'2019年  '!G124","v":"湖州南太湖资源回收有限公司"},{"$f":"'2019年  '!H134","v":0.06},"方剑其"]
["5月份","废包装桶",{"$f":"'2019年  '!C166","v":0},null,null,{"$f":"'2019年  '!F166","v":0},null,{"$f":"'2019年  '!H166","v":0.06},"方剑其"]
["6月份","废包装桶",0,null,null,0,null,{"$f":"H9","v":0.06},"方剑其"]
["7月份","废包装桶",{"$f":"'2019年  '!C230","v":0},null,null,{"$f":"'2019年  '!F230","v":0},null,{"$f":"'2019年  '!H230","v":0.06},"方剑其"]
["8月份","废包装桶",{"$f":"'2019年  '!C262","v":0},null,null,{"$f":"'2019年  '!F262","v":0},null,{"$f":"'2019年  '!H262","v":0.06},"方剑其"]
["9月份","废包装桶",{"$f":"'2019年  '!C294","v":2.32},null,null,{"$f":"'2019年  '!F294","v":2.38},{"$f":"G8","v":"湖州南太湖资源回收有限公司"},{"$f":"'2019年  '!H294","v":0},"方剑其"]
["10月份","废包装桶",{"$f":"'2019年  '!C326","v":0},null,null,{"$f":"'2019年  '!F326","v":0},null,{"$f":"'2019年  '!H326","v":0},"方剑其"]
["11月份","废包装桶",{"$f":"'2019年  '!C358","v":1.89},null,null,{"$f":"'2019年  '!F358","v":1.89},"湖州南太湖资源回收有限公司",{"$f":"'2019年  '!H358","v":0},"方剑其"]
["12月份","废包装桶",{"$f":"'2019年  '!C390","v":0},null,null,{"$f":"'2019年  '!F390","v":0},null,{"$f":"'2019年  '!H390","v":0},"方剑其"]
["合计",null,{"$f":"SUM(C5:C16)","v":5.984},null,null,{"$f":"SUM(F5:F16)","v":6.29},null,{"$f":"H15","v":0}]

{"sheet":"2020年  ","index":4,"n_rows":391,"n_cols":12,"rows_kept":391,"merged":[[0,0,0,8],[1,0,3,0],[1,1,3,1],[1,2,3,2],[1,3,1,4],[1,5,1,6],[1,7,3,7],[1,8,3,8],[2,4,3,4],[2,6,3,6],[35,0,35,1],[36,0,36,6],[68,0,68,1],[101,0,101,1],[134,0,134,1],[166,0,166,1],[198,0,198,1],[230,0,230,1],[262,0,262,1],[294,0,294,1],[326,0,326,1],[358,0,358,1],[390,0,390,1]]}
["生产过程产生的固体废物利用及处置情况（按日填写）股份"]
["日期","固 体 废 物 名 称","数量（吨）","利 用 情 况",null,"处 置 情 况",null,"累计存储数量（吨）","记录人签字"]
[{"$nulls":3},"利用数量","去  向","处置数量","去  向"]
[{"$nulls":3},"（吨）",null,"（吨）"]
["2020-01-01","废包装桶",{"$nulls":7},"2018年",null,{"$f":"'2019年月度统计 '!H17","v":0}]
["2020-01-02","废包装桶",{"$nulls":7},"0.306吨"]
["2020-01-03","废包装桶"]
["2020-01-04","废包装桶"]
["2020-01-05","废包装桶"]
["2020-01-06","废包装桶"]
["2020-01-07","废包装桶"]
["2020-01-08","废包装桶"]
["2020-01-09","废包装桶"]
["2020-01-10","废包装桶"]
["2020-01-11","废包装桶"]
["2020-01-12","废包装桶"]
["2020-01-13","废包装桶"]
["2020-01-14","废包装桶"]
["2020-01-15","废包装桶"]
["2020-01-16","废包装桶"]
["2020-01-17","废包装桶"]
["2020-01-18","废包装桶"]
["2020-01-19","废包装桶"]
["2020-01-20","废包装桶"]
["2020-01-21","废包装桶"]
["2020-01-22","废包装桶"]
["2020-01-23","废包装桶"]
["2020-01-24","废包装桶"]
["2020-01-25","废包装桶"]
["2020-01-26","废包装桶"]
["2020-01-27","废包装桶"]
["2020-01-28","废包装桶"]
["2020-01-29","废包装桶"]
["2020-01-30","废包装桶"]
["2020-01-31","废包装桶"]
["合计",null,0,null,null,0,null,0,null,null,"危废填报截止时间"]
["备注：2017年7月24日起开始统计"]
[]
[]
["2020-02-01","废包装桶"]
["2020-02-02","废包装桶"]
["2020-02-03","废包装桶"]
["2020-02-04","废包装桶"]
["2020-02-05","废包装桶"]
["2020-02-06","废包装桶"]
["2020-02-07","废包装桶"]
["2020-02-08","废包装桶"]
["2020-02-09","废包装桶"]
["2020-02-10","废包装桶"]
["2020-02-11","废包装桶"]
["2020-02-12","废包装桶"]
["2020-02-13","废包装桶"]
["2020-02-14","废包装桶"]
["2020-02-15","废包装桶"]
["2020-02-16","废包装桶"]
["2020-02-17","废包装桶"]
["2020-02-18","废包装桶"]
["2020-02-19","废包装桶"]
["2020-02-20","废包装桶"]
["2020-02-21","废包装桶"]
["2020-02-22","废包装桶"]
["2020-02-23","废包装桶"]
["2020-02-24","废包装桶"]
["2020-02-25","废包装桶"]
["2020-02-26","废包装桶"]
["2020-02-27","废包装桶"]
["2020-02-28","废包装桶"]
["2020-02-29","废包装桶"]
["合计",null,{"$f":"SUM(C40:C67)","v":0},null,null,{"$f":"SUM(F40:F67)","v":0},null,0,null,"危废填报截止时间"]
[]
["2020-03-01","废包装桶"]
["2020-03-02","废包装桶"]
["2020-03-03","废包装桶"]
["2020-03-04","废包装桶"]
["2020-03-05","废包装桶"]
["2020-03-06","废包装桶"]
["2020-03-07","废包装桶"]
["2020-03-08","废包装桶"]
["2020-03-09","废包装桶"]
["2020-03-10","废包装桶"]
["2020-03-11","废包装桶"]
["2020-03-12","废包装桶"]
["2020-03-13","废包装桶",0.287,{"$nulls":4},0.287,"方剑其"]
["2020-03-14","废包装桶"]
["2020-03-15","废包装桶"]
["2020-03-16","废包装桶"]
["2020-03-17","废包装桶"]
["2020-03-18","废包装桶"]
["2020-03-19","废包装桶",1.373,null,null,1.66,"浙江润淼再生资源有限公司",0,"方剑其"]
["2020-03-20","废包装桶"]
["2020-03-21","废包装桶"]
["2020-03-22","废包装桶"]
["2020-03-23","废包装桶"]
["2020-03-24","废包装桶"]
["2020-03-25","废包装桶"]
["2020-03-26","废包装桶"]
["2020-03-27","废包装桶"]
["2020-03-28","废包装桶"]
["2020-03-29","废包装桶"]
["2020-03-30","废包装桶"]
["2020-03-31","废包装桶"]
["合计",null,{"$f":"SUM(C71:C101)","v":1.66},null,null,{"$f":"SUM(F71:F101)","v":1.66},null,{"$f":"H88","v":0}]
[]
["2020-04-01","废包装桶"]
["2020-04-02","废包装桶"]
["2020-04-03","废包装桶"]
["2020-04-04","废包装桶"]
["2020-04-05","废包装桶"]
["2020-04-06","废包装桶"]
["2020-04-07","废包装桶"]
["2020-04-08","废包装桶"]
["2020-04-09","废包装桶"]
["2020-04-10","废包装桶"]
["2020-04-11","废包装桶"]
["2020-04-12","废包装桶"]
["2020-04-13","废包装桶"]
["2020-04-14","废包装桶"]
["2020-04-15","废包装桶"]
["2020-04-16","废包装桶"]
["2020-04-17","废包装桶"]
["2020-04-18","废包装桶"]
["2020-04-19","废包装桶",0.59,{"$nulls":4},{"$f":"C122","v":0.59},"方剑其"]
["2020-04-20","废包装桶"]
["2020-04-21","废包装桶"]
["2020-04-22","废包装桶"]
["2020-04-23","废包装桶"]
["2020-04-24","废包装桶"]
["2020-04-25","废包装桶"]
["2020-04-26","废包装桶"]
["2020-04-27","废包装桶"]
["2020-04-28","废包装桶"]
["2020-04-29","废包装桶"]
["2020-04-30","废包装桶"]
[]
["合计",null,{"$f":"SUM(C104:C134)","v":0.59},null,null,{"$f":"SUM(F122:F134)","v":0},null,{"$f":"H122","v":0.59}]
["2020-05-01","废包装桶"]
["2020-05-02","废包装桶"]
["2020-05-03","废包装桶"]
["2020-05-04","废包装桶"]
["2020-05-05","废包装桶"]
["2020-05-06","废包装桶"]
["2020-05-07","废包装桶"]
["2020-05-08","废包装桶"]
["2020-05-09","废包装桶",0.11,null,null,0.7,"浙江润淼再生资源有限公司",0,"方剑其"]
["2020-05-10","废包装桶"]
["2020-05-11","废包装桶"]
["2020-05-12","废包装桶"]
["2020-05-13","废包装桶"]
["2020-05-14","废包装桶"]
["2020-05-15","废包装桶"]
["2020-05-16","废包装桶"]
["2020-05-17","废包装桶"]
["2020-05-18","废包装桶"]
["2020-05-19","废包装桶"]
["2020-05-20","废包装桶"]
["2020-05-21","废包装桶"]
["2020-05-22","废包装桶"]
["2020-05-23","废包装桶"]
["2020-05-24","废包装桶"]
["2020-05-25","废包装桶"]
["2020-05-26","废包装桶"]
["2020-05-27","废包装桶"]
["2020-05-28","废包装桶"]
["2020-05-29","废包装桶"]
["2020-05-30","废包装桶"]
["2020-05-31","废包装桶"]
["合计",null,{"$f":"C144","v":0.11},null,null,{"$f":"F144","v":0.7},null,{"$f":"H144","v":0}]
["2020-06-01","废包装桶"]
["2020-06-02","废包装桶"]
["2020-06-03","废包装桶"]
["2020-06-04","废包装桶",1.537,null,null,1.537,"浙江润淼再生资源有限公司",0,"方剑其"]
["2020-06-05","废包装桶"]
["2020-06-06","废包装桶"]
["2020-06-07","废包装桶"]
["2020-06-08","废包装桶"]
["2020-06-09","废包装桶",0.017,{"$nulls":4},0.017,"方剑其"]
["2020-06-10","废包装桶"]
["2020-06-11","废包装桶"]
["2020-06-12","废包装桶"]
["2020-06-13","废包装桶"]
["2020-06-14","废包装桶"]
["2020-06-15","废包装桶"]
["2020-06-16","废包装桶"]
["2020-06-17","废包装桶"]
["2020-06-18","废包装桶",0.467,{"$nulls":4},{"$f":"H176+C185","v":0.484},"方剑其"]
["2020-06-19","废包装桶"]
["2020-06-20","废包装桶"]
["2020-06-21","废包装桶"]
["2020-06-22","废包装桶"]
["2020-06-23","废包装桶",0.093,{"$nulls":4},{"$f":"H185+C190","v":0.577},"方剑其"]
["2020-06-24","废包装桶"]
["2020-06-25","废包装桶"]
["2020-06-26","废包装桶"]
["2020-06-27","废包装桶"]
["2020-06-28","废包装桶"]
["2020-06-29","废包装桶"]
["2020-06-30","废包装桶"]
[]
["合计",null,{"$f":"SUM(C168:C198)","v":2.114},null,null,{"$f":"SUM(F168:F198)","v":1.537},null,{"$f":"H190","v":0.577}]
["2020-07-01","废包装桶"]
["2020-07-02","废包装桶"]
["2020-07-03","废包装桶"]
["2020-07-04","废包装桶"]
["2020-07-05","废包装桶"]
["2020-07-06","废包装桶"]
["2020-07-07","废包装桶"]
["2020-07-08","废包装桶"]
["2020-07-09","废包装桶"]
["2020-07-10","废包装桶"]
["2020-07-11","废包装桶"]
["2020-07-12","废包装桶"]
["2020-07-13","废包装桶"]
["2020-07-14","废包装桶",0.095,{"$nulls":4},{"$f":"H199+C213","v":0.672},"方剑其"]
["2020-07-15","废包装桶"]
["2020-07-16","废包装桶"]
["2020-07-17","废包装桶",{"$f":"(18+18+19)/1000","v":0.055},{"$nulls":4},{"$f":"H213+C216","v":0.727},"方剑其"]
["2020-07-18","废包装桶"]
["2020-07-19","废包装桶"]
["2020-07-20","废包装桶"]
["2020-07-21","废包装桶"]
["2020-07-22","废包装桶"]
["2020-07-23","废包装桶"]
["2020-07-24","废包装桶"]
["2020-07-25","废包装桶"]
["2020-07-26","废包装桶"]
["2020-07-27","废包装桶"]
["2020-07-28","废包装桶"]
["2020-07-29","废包装桶"]
["2020-07-30","废包装桶"]
["2020-07-31","废包装桶"]
["合计",null,{"$f":"SUM(C200:C230)","v":0.15},null,null,{"$f":"SUM(F200:F230)","v":0},null,{"$f":"H216","v":0.727}]
["2020-08-01","废包装桶"]
["2020-08-02","废包装桶"]
["2020-08-03","废包装桶"]
["2020-08-04","废包装桶"]
["2020-08-05","废包装桶"]
["2020-08-06","废包装桶"]
["2020-08-07","废包装桶"]
["2020-08-08","废包装桶"]
["2020-08-09","废包装桶"]
["2020-08-10","废包装桶"]
["2020-08-11","废包装桶"]
["2020-08-12","废包装桶"]
["2020-08-13","废包装桶"]
["2020-08-14","废包装桶"]
["2020-08-15","废包装桶"]
["2020-08-16","废包装桶"]
["2020-08-17","废包装桶"]
["2020-08-18","废包装桶"]
["2020-08-19","废包装桶"]
["2020-08-20","废包装桶"]
["2020-08-21","废包装桶"]
["2020-08-22","废包装桶"]
["2020-08-23","废包装桶"]
["2020-08-24","废包装桶"]
["2020-08-25","废包装桶"]
["2020-08-26","废包装桶"]
["2020-08-27","废包装桶"]
["2020-08-28","废包装桶"]
["2020-08-29","废包装桶"]
["2020-08-30","废包装桶"]
["2020-08-31","废包装桶"]
["合计",null,{"$f":"SUM(C232:C262)","v":0},null,null,{"$f":"F262","v":0},null,{"$f":"H231","v":0.727}]
["2020-09-01","废包装桶"]
["2020-09-02","废包装桶",{"$f":"(21+17+18)/1000","v":0.056},{"$nulls":4},{"$f":"H263+C265","v":0.783},"方剑其"]
["2020-09-03","废包装桶"]
["2020-09-04","废包装桶"]
["2020-09-05","废包装桶",{"$nulls":3},0.783,"浙江润淼再生资源有限公司",{"$f":"H265-F268","v":0},"方剑其"]
["2020-09-06","废包装桶"]
["2020-09-07","废包装桶"]
["2020-09-08","废包装桶"]
["2020-09-09","废包装桶"]
["2020-09-10","废包装桶"]
["2020-09-11","废包装桶"]
["2020-09-12","废包装桶"]
["2020-09-13","废包装桶"]
["2020-09-14","废包装桶"]
["2020-09-15","废包装桶"]
["2020-09-16","废包装桶"]
["2020-09-17","废包装桶"]
["2020-09-18","废包装桶"]
["2020-09-19","废包装桶"]
["2020-09-20","废包装桶"]
["2020-09-21","废包装桶"]
["2020-09-22","废包装桶"]
["2020-09-23","废包装桶"]
["2020-09-24","废包装桶",0.017,{"$nulls":4},{"$f":"C287","v":0.017},"方剑其"]
["2020-09-25","废包装桶"]
["2020-09-26","废包装桶"]
["2020-09-27","废包装桶"]
["2020-09-28","废包装桶"]
["2020-09-29","废包装桶"]
["2020-09-30","废包装桶",0.339,{"$nulls":4},{"$f":"H287+C293-F293","v":0.356},"方剑其"]
[]
["合计",null,{"$f":"SUM(C264:C294)","v":0.412},null,null,{"$f":"SUM(F264:F294)","v":0.783},null,{"$f":"H293","v":0.356}]
["2020-10-01","废包装桶"]
["2020-10-02","废包装桶"]
["2020-10-03","废包装桶"]
["2020-10-04","废包装桶"]
["2020-10-05","废包装桶"]
["2020-10-06","废包装桶"]
["2020-10-07","废包装桶"]
["2020-10-08","废包装桶"]
["2020-10-09","废包装桶"]
["2020-10-10","废包装桶"]
["2020-10-11","废包装桶"]
["2020-10-12","废包装桶"]
["2020-10-13","废包装桶"]
["2020-10-14","废包装桶"]
["2020-10-15","废包装桶"]
["2020-10-16","废包装桶"]
["2020-10-17","废包装桶"]
["2020-10-18","废包装桶"]
["2020-10-19","废包装桶"]
["2020-10-20","废包装桶"]
["2020-10-21","废包装桶",0.227,null,null,{"$f":"C316+H295","v":0.583},"浙江润淼再生资源有限公司",{"$f":"H295+C316-F316","v":0},"方剑其"]
["2020-10-22","废包装桶"]
["2020-10-23","废包装桶"]
["2020-10-24","废包装桶"]
["2020-10-25","废包装桶"]
["2020-10-26","废包装桶"]
["2020-10-27","废包装桶"]
["2020-10-28","废包装桶"]
["2020-10-29","废包装桶"]
["2020-10-30","废包装桶"]
["2020-10-31","废包装桶"]
["合计",null,{"$f":"SUM(C296:C326)","v":0.227},null,null,{"$f":"F316","v":0.583},null,{"$f":"H316","v":0}]
["2020-11-01","废包装桶"]
["2020-11-02","废包装桶"]
["2020-11-03","废包装桶"]
["2020-11-04","废包装桶",0.212,{"$nulls":4},{"$f":"C331","v":0.212},"方剑其"]
["2020-11-05","废包装桶"]
["2020-11-06","废包装桶"]
["2020-11-07","废包装桶"]
["2020-11-08","废包装桶"]
["2020-11-09","废包装桶"]
["2020-11-10","废包装桶"]
["2020-11-11","废包装桶",0.121,{"$nulls":4},{"$f":"H331+C338-F338","v":0.333},"诸美娟"]
["2020-11-12","废包装桶"]
["2020-11-13","废包装桶"]
["2020-11-14","废包装桶"]
["2020-11-15","废包装桶"]
["2020-11-16","废包装桶"]
["2020-11-17","废包装桶"]
["2020-11-18","废包装桶",0.034,{"$nulls":4},{"$f":"H338+C345","v":0.367},"诸美娟"]
["2020-11-19","废包装桶"]
["2020-11-20","废包装桶"]
["2020-11-21","废包装桶"]
["2020-11-22","废包装桶"]
["2020-11-23","废包装桶"]
["2020-11-24","废包装桶"]
["2020-11-25","废包装桶",{"$f":"0.087+0","v":0.087},{"$nulls":4},{"$f":"H345+C352","v":0.454},"诸美娟"]
["2020-11-26","废包装桶",0.034,{"$nulls":4},{"$f":"H352+C353","v":0.488},"诸美娟"]
["2020-11-27","废包装桶"]
["2020-11-28","废包装桶"]
["2020-11-29","废包装桶"]
["2020-11-30","废包装桶"]
[]
["合计",null,{"$f":"SUM(C328:C358)","v":0.488},null,null,{"$f":"SUM(F328:F358)","v":0},null,{"$f":"H353","v":0.488}]
["2020-12-01","废包装桶"]
["2020-12-02","废包装桶",0.139,{"$nulls":4},{"$f":"H359+C361","v":0.627},"诸美娟"]
["2020-12-03","废包装桶"]
["2020-12-04","废包装桶"]
["2020-12-05","废包装桶"]
["2020-12-06","废包装桶"]
["2020-12-07","废包装桶"]
["2020-12-08","废包装桶"]
["2020-12-09","废包装桶"]
["2020-12-10","废包装桶"]
["2020-12-11","废包装桶"]
["2020-12-12","废包装桶"]
["2020-12-13","废包装桶"]
["2020-12-14","废包装桶"]
["2020-12-15","废包装桶"]
["2020-12-16","废包装桶",0.193,null,null,0.82,"浙江润淼再生资源有限公司",{"$f":"H361+C375-F375","v":0},"诸美娟"]
["2020-12-17","废包装桶"]
["2020-12-18","废包装桶"]
["2020-12-19","废包装桶"]
["2020-12-20","废包装桶"]
["2020-12-21","废包装桶"]
["2020-12-22","废包装桶"]
["2020-12-23","废包装桶"]
["2020-12-24","废包装桶"]
["2020-12-25","废包装桶"]
["2020-12-26","废包装桶"]
["2020-12-27","废包装桶"]
["2020-12-28","废包装桶"]
["2020-12-29","废包装桶"]
["2020-12-30","废包装桶"]
["2020-12-31","废包装桶"]
["合计",null,{"$f":"SUM(C360:C390)","v":0.332},null,null,{"$f":"SUM(F360:F390)","v":0.82},null,{"$f":"H375","v":0}]

{"sheet":"2020年月度统计","index":5,"n_rows":17,"n_cols":11,"rows_kept":17,"merged":[[0,0,0,8],[1,0,3,0],[1,1,3,1],[1,2,3,2],[1,3,1,4],[1,5,1,6],[1,7,3,7],[1,8,3,8],[2,4,3,4],[2,6,3,6]]}
["生产过程产生的固体废物利用及处置情况（按日填写）股份     ( 2020)"]
["日期","固 体 废 物 名 称","数量（吨）","利 用 情 况",null,"处 置 情 况",null,"累计存储数量（吨）","记录人签字"]
[{"$nulls":3},"利用数量","去  向","处置数量","去  向"]
[{"$nulls":3},"（吨）",null,"（吨）",{"$nulls":3},201812]
["1月份","废包装桶",0,null,null,0,null,0,"方剑其","0.306吨",{"$f":"'2019年月度统计 '!H17","v":0}]
["2月份","废包装桶",{"$f":"'2020年  '!C69","v":0},null,null,{"$f":"'2020年  '!F69","v":0},null,{"$f":"'2020年  '!H69","v":0},"方剑其"]
["3月份","废包装桶",{"$f":"'2020年  '!C102","v":1.66},null,null,{"$f":"'2020年  '!F102","v":1.66},"浙江润淼再生资源有限公司",{"$f":"'2020年  '!H102","v":0},"方剑其"]
["4月份","废包装桶",{"$f":"'2020年  '!C135","v":0.59},null,null,{"$f":"'2020年  '!F135","v":0},null,{"$f":"'2020年  '!H135","v":0.59},"方剑其"]
["5月份","废包装桶",0.11,null,null,0.7,"浙江润淼再生资源有限公司",0,"方剑其"]
["6月份","废包装桶",{"$f":"'2020年  '!C199","v":2.114},null,null,{"$f":"'2020年  '!F199","v":1.537},"浙江润淼再生资源有限公司",{"$f":"'2020年  '!H199","v":0.577},"方剑其"]
["7月份","废包装桶",{"$f":"'2020年  '!C231","v":0.15},null,null,{"$f":"'2020年  '!F231","v":0},null,{"$f":"'2020年  '!H231","v":0.727},"方剑其"]
["8月份","废包装桶",{"$f":"'2020年  '!C263","v":0},null,null,{"$f":"'2020年  '!F263","v":0},null,{"$f":"'2020年  '!H263","v":0.727},"方剑其"]
["9月份","废包装桶",{"$f":"'2020年  '!C295","v":0.412},null,null,{"$f":"'2020年  '!F295","v":0.783},"浙江润淼再生资源有限公司",{"$f":"'2020年  '!H295","v":0.356},"方剑其"]
["10月份","废包装桶",{"$f":"'2020年  '!C327","v":0.227},null,null,{"$f":"'2020年  '!F327","v":0.583},"浙江润淼再生资源有限公司",{"$f":"'2020年  '!H327","v":0},"方剑其"]
["11月份","废包装桶",{"$f":"'2020年  '!C359","v":0.488},null,null,{"$f":"'2020年  '!F359","v":0},null,{"$f":"'2020年  '!H359","v":0.488},"诸美娟"]
["12月份","废包装桶",{"$f":"'2020年  '!C391","v":0.332},null,null,{"$f":"'2020年  '!F391","v":0.82},"浙江润淼再生资源有限公司",{"$f":"'2020年  '!H391","v":0},"诸美娟"]
["合计",null,{"$f":"SUM(C5:C16)","v":6.083},null,null,{"$f":"SUM(F5:F16)","v":6.083},null,{"$f":"H16","v":0}]

{"sheet":"2021年   ","index":6,"n_rows":390,"n_cols":12,"rows_kept":390,"merged":[[0,0,0,8],[1,0,2,0],[1,1,2,1],[1,2,2,2],[1,3,2,3],[1,4,1,5],[1,6,2,6],[1,7,2,7],[1,8,2,8],[34,0,34,1],[35,0,35,5],[67,0,67,1],[100,0,100,1],[133,0,133,1],[165,0,165,1],[197,0,197,1],[229,0,229,1],[261,0,261,1],[293,0,293,1],[325,0,325,1],[357,0,357,1],[389,0,389,1]]}
["生产过程产生的固体废物利用及处置情况（按日填写）股份单位                       单位（吨）"]
["日期","固 体 废 物 名 称","产生数量","自行处置数量","委托利用、处置情况",null,"累计贮存数量","备注","填表人"]
[{"$nulls":4},"委托利用数量","委托处置数量"]
["2021-01-01","废包装桶",{"$nulls":7},"2018年",null,{"$f":"'2019年月度统计 '!H17","v":0}]
["2021-01-02","废包装桶",{"$nulls":7},"0.306吨"]
["2021-01-03","废包装桶"]
["2021-01-04","废包装桶"]
["2021-01-05","废包装桶"]
["2021-01-06","废包装桶"]
["2021-01-07","废包装桶"]
["2021-01-08","废包装桶"]
["2021-01-09","废包装桶"]
["2021-01-10","废包装桶"]
["2021-01-11","废包装桶"]
["2021-01-12","废包装桶"]
["2021-01-13","废包装桶"]
["2021-01-14","废包装桶"]
["2021-01-15","废包装桶"]
["2021-01-16","废包装桶"]
["2021-01-17","废包装桶"]
["2021-01-18","废包装桶"]
["2021-01-19","废包装桶",0.403,{"$nulls":3},{"$f":"C22","v":0.403},null,"诸美娟"]
["2021-01-20","废包装桶",0.066,{"$nulls":3},{"$f":"G22+C23-F23","v":0.469},null,"诸美娟"]
["2021-01-21","废包装桶"]
["2021-01-22","废包装桶"]
["2021-01-23","废包装桶"]
["2021-01-24","废包装桶"]
["2021-01-25","废包装桶"]
["2021-01-26","废包装桶"]
["2021-01-27","废包装桶"]
["2021-01-28","废包装桶"]
["2021-01-29","废包装桶"]
["2021-01-30","废包装桶"]
["2021-01-31","废包装桶"]
["合计",null,{"$f":"SUM(C22:C34)","v":0.469},{"$f":"SUM(D22:D34)","v":0},null,0,{"$f":"G23","v":0.469},{"$nulls":3},"危废填报截止时间"]
["备注：2017年7月24日起开始统计"]
[]
[]
["2021-02-01","废包装桶"]
["2021-02-02","废包装桶"]
["2021-02-03","废包装桶"]
["2021-02-04","废包装桶"]
["2021-02-05","废包装桶",0.035,{"$nulls":3},{"$f":"G35+C43-F43","v":0.504},null,"诸美娟"]
["2021-02-06","废包装桶"]
["2021-02-07","废包装桶"]
["2021-02-08","废包装桶"]
["2021-02-09","废包装桶"]
["2021-02-10","废包装桶"]
["2021-02-11","废包装桶"]
["2021-02-12","废包装桶"]
["2021-02-13","废包装桶"]
["2021-02-14","废包装桶"]
["2021-02-15","废包装桶"]
["2021-02-16","废包装桶"]
["2021-02-17","废包装桶"]
["2021-02-18","废包装桶"]
["2021-02-19","废包装桶"]
["2021-02-20","废包装桶"]
["2021-02-21","废包装桶"]
["2021-02-22","废包装桶"]
["2021-02-23","废包装桶"]
["2021-02-24","废包装桶",0.0805,{"$nulls":3},{"$f":"G43+C62-F62","v":0.5845},null,"诸美娟"]
["2021-02-25","废包装桶"]
["2021-02-26","废包装桶"]
["2021-02-27","废包装桶"]
["2021-02-28","废包装桶"]
[]
["合计",null,{"$f":"SUM(C39:C66)","v":0.1155},null,null,{"$f":"SUM(F39:F66)","v":0},{"$f":"G62","v":0.5845},null,null,"危废填报截止时间"]
[]
["2021-03-01","废包装桶"]
["2021-03-02","废包装桶"]
["2021-03-03","废包装桶"]
["2021-03-04","废包装桶"]
["2021-03-05","废包装桶",0.131,{"$nulls":3},{"$f":"G68+C74-F74","v":0.7155},null,"诸美娟"]
["2021-03-06","废包装桶",{"$nulls":4},{"$f":"G74+C75-F75","v":0.7155}]
["2021-03-07","废包装桶",{"$nulls":4},0.7155]
["2021-03-08","废包装桶",{"$nulls":4},0.7155]
["2021-03-09","废包装桶",{"$nulls":4},0.7155]
["2021-03-10","废包装桶",{"$nulls":4},0.7155]
["2021-03-11","废包装桶",{"$nulls":4},0.7155]
["2021-03-12","废包装桶",{"$nulls":4},0.7155]
["2021-03-13","废包装桶",{"$nulls":4},0.7155]
["2021-03-14","废包装桶",{"$nulls":4},0.7155]
["2021-03-15","废包装桶",{"$nulls":4},0.7155]
["2021-03-16","废包装桶",{"$nulls":4},0.7155]
["2021-03-17","废包装桶",{"$nulls":4},0.7155]
["2021-03-18","废包装桶",0.8445,null,null,1.56,0,"浙江润淼再生资源有限公司","诸美娟"]
["2021-03-19","废包装桶",0.015,{"$nulls":3},0.015,null,"诸美娟"]
["2021-03-20","废包装桶",{"$nulls":4},0.015]
["2021-03-21","废包装桶",{"$nulls":4},0.015]
["2021-03-22","废包装桶",{"$nulls":4},0.015]
["2021-03-23","废包装桶",{"$nulls":4},0.015]
["2021-03-24","废包装桶",{"$nulls":4},0.015]
["2021-03-25","废包装桶",{"$nulls":4},0.015]
["2021-03-26","废包装桶",{"$nulls":4},0.015]
["2021-03-27","废包装桶",{"$nulls":4},0.015]
["2021-03-28","废包装桶",{"$nulls":4},0.015]
["2021-03-29","废包装桶",{"$nulls":4},0.015]
["2021-03-30","废包装桶",{"$nulls":4},0.015]
["2021-03-31","废包装桶",{"$nulls":4},0.015]
["合计",null,{"$f":"SUM(C70:C100)","v":0.9905},null,null,{"$f":"SUM(F70:F100)","v":1.56},{"$f":"G100","v":0.015}]
[]
["2021-04-01","废包装桶"]
["2021-04-02","废包装桶",0.085,null,null,0,{"$f":"G101+C104-F104","v":0.1},null,"诸美娟"]
["2021-04-03","废包装桶",{"$nulls":4},{"$f":"G104+C105-F105","v":0.1}]
["2021-04-04","废包装桶",{"$nulls":4},0.1]
["2021-04-05","废包装桶",{"$nulls":4},0.1]
["2021-04-06","废包装桶",{"$nulls":4},0.1]
["2021-04-07","废包装桶",{"$nulls":4},0.1]
["2021-04-08","废包装桶",{"$nulls":4},0.1]
["2021-04-09","废包装桶",0.047,{"$nulls":3},0.147,null,"诸美娟"]
["2021-04-10","废包装桶",{"$nulls":4},0.147]
["2021-04-11","废包装桶",{"$nulls":4},0.147]
["2021-04-12","废包装桶",{"$nulls":4},0.147]
["2021-04-13","废包装桶",{"$nulls":4},0.147]
["2021-04-14","废包装桶",{"$nulls":4},0.147]
["2021-04-15","废包装桶",{"$nulls":4},0.147]
["2021-04-16","废包装桶",0.073,{"$nulls":3},0.22,null,"诸美娟"]
["2021-04-17","废包装桶",{"$nulls":4},0.22]
["2021-04-18","废包装桶",{"$nulls":4},0.22]
["2021-04-19","废包装桶",{"$nulls":4},0.22]
["2021-04-20","废包装桶",{"$nulls":4},0.22]
["2021-04-21","废包装桶",{"$nulls":4},0.22]
["2021-04-22","废包装桶",{"$nulls":4},0.22]
["2021-04-23","废包装桶",0.019,{"$nulls":3},0.239,null,"诸美娟"]
["2021-04-24","废包装桶",{"$nulls":4},0.239]
["2021-04-25","废包装桶",{"$nulls":4},0.239]
["2021-04-26","废包装桶",{"$nulls":4},0.239]
["2021-04-27","废包装桶",{"$nulls":4},0.239]
["2021-04-28","废包装桶",{"$nulls":4},0.239]
["2021-04-29","废包装桶",{"$nulls":4},0.239]
["2021-04-30","废包装桶",{"$nulls":4},0.239]
[{"$nulls":6},0.239]
["合计",null,{"$f":"SUM(C103:C133)","v":0.224},null,null,{"$f":"SUM(F121:F133)","v":0},{"$f":"G132","v":0.239}]
["2021-05-01","废包装桶",{"$nulls":4},{"$f":"G134+C135-F135","v":0.239}]
["2021-05-02","废包装桶",{"$nulls":4},0.239]
["2021-05-03","废包装桶",{"$nulls":4},0.239]
["2021-05-04","废包装桶",{"$nulls":4},0.239]
["2021-05-05","废包装桶",{"$nulls":4},0.239]
["2021-05-06","废包装桶",{"$nulls":4},0.239]
["2021-05-07","废包装桶",{"$nulls":4},0.239]
["2021-05-08","废包装桶",{"$nulls":4},0.239]
["2021-05-09","废包装桶",{"$nulls":4},0.239]
["2021-05-10","废包装桶",{"$nulls":4},0.239]
["2021-05-11","废包装桶",{"$nulls":4},0.239]
["2021-05-12","废包装桶",{"$nulls":4},0.239]
["2021-05-13","废包装桶",{"$nulls":4},0.239]
["2021-05-14","废包装桶",0.033,{"$nulls":3},0.272,null,"诸美娟"]
["2021-05-15","废包装桶",{"$nulls":4},0.272]
["2021-05-16","废包装桶",{"$nulls":4},0.272]
["2021-05-17","废包装桶",{"$nulls":4},0.272]
["2021-05-18","废包装桶",{"$nulls":4},0.272]
["2021-05-19","废包装桶",{"$nulls":4},0.272]
["2021-05-20","废包装桶",{"$nulls":4},0.272]
["2021-05-21","废包装桶",0.418,{"$nulls":3},0.69,null,"诸美娟"]
["2021-05-22","废包装桶",{"$nulls":4},0.69]
["2021-05-23","废包装桶",{"$nulls":4},0.69]
["2021-05-24","废包装桶",{"$nulls":4},0.69]
["2021-05-25","废包装桶",{"$nulls":4},0.69]
["2021-05-26","废包装桶",{"$nulls":4},0.69]
["2021-05-27","废包装桶",{"$nulls":4},0.69]
["2021-05-28","废包装桶",{"$nulls":4},0.69]
["2021-05-29","废包装桶",{"$nulls":4},0.69]
["2021-05-30","废包装桶",{"$nulls":4},0.69]
["2021-05-31","废包装桶",{"$nulls":4},0.69]
["合计",null,{"$f":"SUM(C135:C165)","v":0.451},null,null,{"$f":"SUM(F135:F165)","v":0},{"$f":"G165","v":0.69}]
["2021-06-01","废包装桶",{"$nulls":4},{"$f":"G166-C167-F167","v":0.69}]
["2021-06-02","废包装桶",{"$nulls":4},0.69]
["2021-06-03","废包装桶",{"$nulls":4},0.69]
["2021-06-04","废包装桶",{"$nulls":4},0.69]
["2021-06-05","废包装桶",{"$nulls":4},0.69]
["2021-06-06","废包装桶",{"$nulls":4},0.69]
["2021-06-07","废包装桶",{"$nulls":4},0.69]
["2021-06-08","废包装桶",{"$nulls":4},0.69]
["2021-06-09","废包装桶",{"$nulls":4},0.69]
["2021-06-10","废包装桶",{"$nulls":4},0.69]
["2021-06-11","废包装桶",{"$nulls":4},0.69]
["2021-06-12","废包装桶",{"$nulls":4},0.69]
["2021-06-13","废包装桶",{"$nulls":4},0.69]
["2021-06-14","废包装桶",{"$nulls":4},0.69]
["2021-06-15","废包装桶",{"$nulls":4},0.69]
["2021-06-16","废包装桶",{"$nulls":4},0.69]
["2021-06-17","废包装桶",{"$nulls":4},0.69]
["2021-06-18","废包装桶",0.049,{"$nulls":3},{"$f":"G183+C184-F184","v":0.739},null,"诸美娟"]
["2021-06-19","废包装桶",{"$nulls":4},{"$f":"G184-C185-F185","v":0.739}]
["2021-06-20","废包装桶",{"$nulls":4},0.739]
["2021-06-21","废包装桶",{"$nulls":4},0.739]
["2021-06-22","废包装桶",{"$nulls":4},0.739]
["2021-06-23","废包装桶",{"$nulls":4},0.739]
["2021-06-24","废包装桶",{"$nulls":4},0.739]
["2021-06-25","废包装桶",{"$nulls":4},0.739]
["2021-06-26","废包装桶",{"$nulls":4},0.739]
["2021-06-27","废包装桶",{"$nulls":4},0.739]
["2021-06-28","废包装桶",{"$nulls":4},0.739]
["2021-06-29","废包装桶",{"$nulls":4},0.739]
["2021-06-30","废包装桶",{"$nulls":4},0.739]
[{"$nulls":6},0.739]
["合计",null,{"$f":"SUM(C167:C197)","v":0.049},null,null,{"$f":"SUM(F167:F197)","v":0},{"$f":"G196","v":0.739}]
["2021-07-01","废包装桶",{"$nulls":4},{"$f":"G197","v":0.739}]
["2021-07-02","废包装桶",0.045,{"$nulls":3},{"$f":"G199+C200","v":0.784},null,"诸美娟"]
["2021-07-03","废包装桶",{"$nulls":4},{"$f":"G200+C202-F202","v":0.784}]
["2021-07-04","废包装桶",{"$nulls":4},{"$f":"G201+C203-F203","v":0.784}]
["2021-07-05","废包装桶",{"$nulls":4},{"$f":"G202+C204-F204","v":0.784}]
["2021-07-06","废包装桶",{"$nulls":4},{"$f":"G203+C205-F205","v":0.784}]
["2021-07-07","废包装桶",{"$nulls":4},0.784]
["2021-07-08","废包装桶",0.936,null,null,1.72,{"$f":"G205+C206-F206","v":0},"浙江润淼再生资源有限公司","诸美娟"]
["2021-07-09","废包装桶",{"$nulls":4},{"$f":"G206+C208-F208","v":0}]
["2021-07-10","废包装桶",{"$nulls":4},0]
["2021-07-11","废包装桶",{"$nulls":4},0]
["2021-07-12","废包装桶",{"$nulls":4},0]
["2021-07-13","废包装桶",{"$nulls":4},0]
["2021-07-14","废包装桶",{"$nulls":4},0]
["2021-07-15","废包装桶",{"$nulls":4},0]
["2021-07-16","废包装桶",{"$nulls":4},0]
["2021-07-17","废包装桶",{"$nulls":4},0]
["2021-07-18","废包装桶",{"$nulls":4},0]
["2021-07-19","废包装桶",{"$nulls":4},0]
["2021-07-20","废包装桶",{"$nulls":4},0]
["2021-07-21","废包装桶",{"$nulls":4},0]
["2021-07-22","废包装桶",{"$nulls":4},0]
["2021-07-23","废包装桶",{"$nulls":4},0]
["2021-07-24","废包装桶",{"$nulls":4},0]
["2021-07-25","废包装桶",{"$nulls":4},0]
["2021-07-26","废包装桶",{"$nulls":4},0]
["2021-07-27","废包装桶",{"$nulls":4},0]
["2021-07-28","废包装桶",{"$nulls":4},0]
["2021-07-29","废包装桶",{"$nulls":4},0]
["2021-07-30","废包装桶",0.3111,{"$nulls":3},{"$f":"C228","v":0.3111},null,"诸美娟"]
["2021-07-31","废包装桶",{"$nulls":4},{"$f":"G228+C229-F229","v":0.3111}]
["合计",null,{"$f":"SUM(C199:C229)","v":1.2921},null,null,{"$f":"SUM(F199:F229)","v":1.72},{"$f":"G229","v":0.3111}]
["2021-08-01","废包装桶"]
["2021-08-02","废包装桶"]
["2021-08-03","废包装桶"]
["2021-08-04","废包装桶"]
["2021-08-05","废包装桶"]
["2021-08-06","废包装桶"]
["2021-08-07","废包装桶"]
["2021-08-08","废包装桶"]
["2021-08-09","废包装桶"]
["2021-08-10","废包装桶"]
["2021-08-11","废包装桶"]
["2021-08-12","废包装桶"]
["2021-08-13","废包装桶",0.097,{"$nulls":3},{"$f":"G230+C243","v":0.4081},null,"诸美娟"]
["2021-08-14","废包装桶"]
["2021-08-15","废包装桶"]
["2021-08-16","废包装桶"]
["2021-08-17","废包装桶"]
["2021-08-18","废包装桶"]
["2021-08-19","废包装桶"]
["2021-08-20","废包装桶"]
["2021-08-21","废包装桶"]
["2021-08-22","废包装桶"]
["2021-08-23","废包装桶"]
["2021-08-24","废包装桶"]
["2021-08-25","废包装桶"]
["2021-08-26","废包装桶"]
["2021-08-27","废包装桶",0.128,{"$nulls":3},{"$f":"G243+C256:C257","v":0.5361},null,"诸美娟"]
["2021-08-28","废包装桶"]
["2021-08-29","废包装桶"]
["2021-08-30","废包装桶"]
["2021-08-31","废包装桶"]
["合计",null,{"$f":"SUM(C231:C261)","v":0.225},{"$f":"SUM(D231:D261)","v":0},null,0,{"$f":"G257","v":0.5361}]
["2021-09-01","废包装桶"]
["2021-09-02","废包装桶"]
["2021-09-03","废包装桶"]
["2021-09-04","废包装桶"]
["2021-09-05","废包装桶"]
["2021-09-06","废包装桶"]
["2021-09-07","废包装桶"]
["2021-09-08","废包装桶"]
["2021-09-09","废包装桶"]
["2021-09-10","废包装桶"]
["2021-09-11","废包装桶"]
["2021-09-12","废包装桶"]
["2021-09-13","废包装桶"]
["2021-09-14","废包装桶"]
["2021-09-15","废包装桶"]
["2021-09-16","废包装桶"]
["2021-09-17","废包装桶"]
["2021-09-18","废包装桶"]
["2021-09-19","废包装桶"]
["2021-09-20","废包装桶"]
["2021-09-21","废包装桶"]
["2021-09-22","废包装桶"]
["2021-09-23","废包装桶"]
["2021-09-24","废包装桶"]
["2021-09-25","废包装桶"]
["2021-09-26","废包装桶"]
["2021-09-27","废包装桶"]
["2021-09-28","废包装桶"]
["2021-09-29","废包装桶"]
["2021-09-30","废包装桶"]
[]
["合计",null,{"$f":"SUM(C263:C293)","v":0},null,null,{"$f":"SUM(F263:F293)","v":0},{"$f":"G262","v":0.5361}]
["2021-10-01","废包装桶"]
["2021-10-02","废包装桶"]
["2021-10-03","废包装桶"]
["2021-10-04","废包装桶"]
["2021-10-05","废包装桶"]
["2021-10-06","废包装桶"]
["2021-10-07","废包装桶"]
["2021-10-08","废包装桶",0.033,{"$nulls":3},{"$f":"G294+C302","v":0.5691},null,"诸美娟"]
["2021-10-09","废包装桶"]
["2021-10-10","废包装桶"]
["2021-10-11","废包装桶"]
["2021-10-12","废包装桶"]
["2021-10-13","废包装桶"]
["2021-10-14","废包装桶"]
["2021-10-15","废包装桶"]
["2021-10-16","废包装桶"]
["2021-10-17","废包装桶"]
["2021-10-18","废包装桶",0,null,null,0.5691,{"$f":"G302-F312","v":0},"浙江润淼再生资源有限公司","诸美娟"]
["2021-10-19","废包装桶"]
["2021-10-20","废包装桶"]
["2021-10-21","废包装桶"]
["2021-10-22","废包装桶"]
["2021-10-23","废包装桶"]
["2021-10-24","废包装桶"]
["2021-10-25","废包装桶"]
["2021-10-26","废包装桶"]
["2021-10-27","废包装桶"]
["2021-10-28","废包装桶"]
["2021-10-29","废包装桶"]
["2021-10-30","废包装桶"]
["2021-10-31","废包装桶"]
["合计",null,{"$f":"SUM(C295:C325)","v":0.033},null,null,{"$f":"F312","v":0.5691},{"$f":"G312","v":0}]
["2021-11-01","废包装桶"]
["2021-11-02","废包装桶"]
["2021-11-03","废包装桶"]
["2021-11-04","废包装桶"]
["2021-11-05","废包装桶"]
["2021-11-06","废包装桶"]
["2021-11-07","废包装桶"]
["2021-11-08","废包装桶"]
["2021-11-09","废包装桶"]
["2021-11-10","废包装桶"]
["2021-11-11","废包装桶"]
["2021-11-12","废包装桶",0.219,{"$nulls":3},0.219,null,"诸美娟"]
["2021-11-13","废包装桶"]
["2021-11-14","废包装桶"]
["2021-11-15","废包装桶"]
["2021-11-16","废包装桶"]
["2021-11-17","废包装桶"]
["2021-11-18","废包装桶"]
["2021-11-19","废包装桶"]
["2021-11-20","废包装桶"]
["2021-11-21","废包装桶"]
["2021-11-22","废包装桶"]
["2021-11-23","废包装桶"]
["2021-11-24","废包装桶"]
["2021-11-25","废包装桶"]
["2021-11-26","废包装桶",0.039,{"$nulls":3},{"$f":"G338+C352","v":0.258},null,"诸美娟"]
["2021-11-27","废包装桶"]
["2021-11-28","废包装桶"]
["2021-11-29","废包装桶"]
["2021-11-30","废包装桶"]
[]
["合计",null,{"$f":"SUM(C327:C357)","v":0.258},null,null,{"$f":"SUM(F327:F357)","v":0},{"$f":"G352","v":0.258}]
["2021-12-01","废包装桶"]
["2021-12-02","废包装桶"]
["2021-12-03","废包装桶",0.3075,{"$nulls":3},{"$f":"G358+C361-F361","v":0.5655},null,"诸美娟"]
["2021-12-04","废包装桶"]
["2021-12-05","废包装桶"]
["2021-12-06","废包装桶"]
["2021-12-07","废包装桶"]
["2021-12-08","废包装桶"]
["2021-12-09","废包装桶"]
["2021-12-10","废包装桶",0.05,{"$nulls":3},{"$f":"G361+C368","v":0.6155},null,"诸美娟"]
["2021-12-11","废包装桶"]
["2021-12-12","废包装桶"]
["2021-12-13","废包装桶"]
["2021-12-14","废包装桶"]
["2021-12-15","废包装桶"]
["2021-12-16","废包装桶",0.5315,null,null,1.147,0,"浙江润淼再生资源有限公司","诸美娟"]
["2021-12-17","废包装桶"]
["2021-12-18","废包装桶"]
["2021-12-19","废包装桶"]
["2021-12-20","废包装桶"]
["2021-12-21","废包装桶"]
["2021-12-22","废包装桶"]
["2021-12-23","废包装桶"]
["2021-12-24","废包装桶"]
["2021-12-25","废包装桶"]
["2021-12-26","废包装桶"]
["2021-12-27","废包装桶"]
["2021-12-28","废包装桶"]
["2021-12-29","废包装桶"]
["2021-12-30","废包装桶"]
["2021-12-31","废包装桶"]
["合计",null,{"$f":"SUM(C359:C389)","v":0.889},null,null,{"$f":"SUM(F359:F389)","v":1.147},{"$f":"G374","v":0}]

{"sheet":"2021年月度统计 ","index":7,"n_rows":20,"n_cols":11,"rows_kept":20,"merged":[[0,0,0,8],[1,0,2,0],[1,1,2,1],[1,2,2,2],[1,3,2,3],[1,4,1,5],[1,6,2,6],[1,7,2,7],[1,8,2,8]]}
["生产过程产生的固体废物利用及处置情况（按日填写）股份     ( 2021)             单位（吨）"]
["日期","固 体 废 物 名 称","产生数量","自行处置数量","委托利用、处置情况",null,"累计贮存数量","备注","填表人"]
[{"$nulls":4},"委托利用数量","委托处置数量"]
["1月份","废包装桶",{"$f":"'2021年   '!C35","v":0.469},null,null,0,{"$f":"'2021年   '!G35","v":0.469},null,"诸美娟","0.306吨"]
["2月份","废包装桶",{"$f":"'2021年   '!C68","v":0.1155},null,null,0,{"$f":"'2021年   '!G68","v":0.5845},null,"诸美娟"]
["3月份","废包装桶",{"$f":"'2021年   '!C101","v":0.9905},null,null,{"$f":"'2021年   '!F101","v":1.56},{"$f":"'2021年   '!G101","v":0.015},"浙江润淼再生资源有限公司","诸美娟"]
["4月份","废包装桶",{"$f":"'2021年   '!C134","v":0.224},null,null,{"$f":"'2021年   '!F134","v":0},{"$f":"'2021年   '!G134","v":0.239},null,"诸美娟"]
["5月份","废包装桶",{"$f":"'2021年   '!C166","v":0.451},null,null,{"$f":"'2021年   '!F166","v":0},{"$f":"'2021年   '!G166","v":0.69},null,"诸美娟",null,"15只"]
["6月份","废包装桶",{"$f":"'2021年   '!C198","v":0.049},null,null,{"$f":"'2021年   '!F198","v":0},{"$f":"'2021年   '!G198","v":0.739},null,"诸美娟"]
["7月份","废包装桶",{"$f":"'2021年   '!C230","v":1.2921},null,null,{"$f":"'2021年   '!F230","v":1.72},{"$f":"'2021年   '!G230","v":0.3111},"浙江润淼再生资源有限公司","诸美娟"]
["8月份","废包装桶",{"$f":"'2021年   '!C262","v":0.225},null,null,{"$f":"'2021年   '!F262","v":0},{"$f":"'2021年   '!G262","v":0.5361},null,"诸美娟"]
["9月份","废包装桶",{"$f":"'2021年   '!C294","v":0},null,null,{"$f":"'2021年   '!F294","v":0},{"$f":"'2021年   '!G294","v":0.5361},null,"诸美娟"]
["10月份","废包装桶",{"$f":"'2021年   '!C326","v":0.033},null,null,{"$f":"'2021年   '!F326","v":0.5691},{"$f":"'2021年   '!G326","v":0},"浙江润淼再生资源有限公司","诸美娟"]
["11月份","废包装桶",{"$f":"'2021年   '!C358","v":0.258},null,null,{"$f":"'2021年   '!F358","v":0},{"$f":"'2021年   '!G358","v":0.258},null,"诸美娟"]
["12月份","废包装桶",{"$f":"'2021年   '!C390","v":0.889},null,null,{"$f":"'2021年   '!F390","v":1.147},{"$f":"'2021年   '!G390","v":0},"浙江润淼再生资源有限公司","诸美娟"]
["合计",null,{"$f":"SUM(C4:C15)","v":4.9961},null,null,{"$f":"SUM(F4:F15)","v":4.9961},{"$f":"G15","v":0}]
[]
[]
[]
[{"$nulls":4},{"$f":"C16-F16","v":0}]

{"sheet":"2022年   ","index":8,"n_rows":388,"n_cols":12,"rows_kept":388,"merged":[[0,0,0,8],[1,0,2,0],[1,1,2,1],[1,2,2,2],[1,3,2,3],[1,4,1,5],[1,6,2,6],[1,7,2,7],[1,8,2,8],[34,0,34,1],[35,0,35,5],[67,0,67,1],[99,0,99,1],[131,0,131,1],[163,0,163,1],[195,0,195,1],[227,0,227,1],[259,0,259,1],[291,0,291,1],[323,0,323,1],[355,0,355,1],[387,0,387,1]]}
["生产过程产生的固体废物利用及处置情况（按日填写）股份单位                       单位（吨）"]
["日期","固 体 废 物 名 称","产生数量","自行处置数量","委托利用、处置情况",null,"累计贮存数量","备注","填表人"]
[{"$nulls":4},"委托利用数量","委托处置数量"]
["2022-01-01","废包装桶",{"$nulls":7},"2018年",null,{"$f":"'2019年月度统计 '!H17","v":0}]
["2022-01-02","废包装桶",{"$nulls":7},"0.306吨"]
["2022-01-03","废包装桶"]
["2022-01-04","废包装桶"]
["2022-01-05","废包装桶"]
["2022-01-06","废包装桶"]
["2022-01-07","废包装桶"]
["2022-01-08","废包装桶"]
["2022-01-09","废包装桶"]
["2022-01-10","废包装桶"]
["2022-01-11","废包装桶"]
["2022-01-12","废包装桶"]
["2022-01-13","废包装桶"]
["2022-01-14","废包装桶"]
["2022-01-15","废包装桶"]
["2022-01-16","废包装桶"]
["2022-01-17","废包装桶"]
["2022-01-18","废包装桶"]
["2022-01-19","废包装桶"]
["2022-01-20","废包装桶"]
["2022-01-21","废包装桶"]
["2022-01-22","废包装桶"]
["2022-01-23","废包装桶"]
["2022-01-24","废包装桶"]
["2022-01-25","废包装桶"]
["2022-01-26","废包装桶"]
["2022-01-27","废包装桶"]
["2022-01-28","废包装桶"]
["2022-01-29","废包装桶",0.425,{"$nulls":3},0.425,null,"诸美娟"]
["2022-01-30","废包装桶"]
["2022-01-31","废包装桶"]
["合计",null,{"$f":"SUM(C22:C34)","v":0.425},{"$f":"SUM(D22:D34)","v":0},0,0,{"$f":"G32","v":0.425},{"$nulls":3},"危废填报截止时间"]
["备注：2017年7月24日起开始统计"]
[]
[]
["2022-02-01","废包装桶"]
["2022-02-02","废包装桶"]
["2022-02-03","废包装桶"]
["2022-02-04","废包装桶"]
["2022-02-05","废包装桶"]
["2022-02-06","废包装桶"]
["2022-02-07","废包装桶"]
["2022-02-08","废包装桶"]
["2022-02-09","废包装桶"]
["2022-02-10","废包装桶"]
["2022-02-11","废包装桶"]
["2022-02-12","废包装桶"]
["2022-02-13","废包装桶"]
["2022-02-14","废包装桶"]
["2022-02-15","废包装桶"]
["2022-02-16","废包装桶"]
["2022-02-17","废包装桶"]
["2022-02-18","废包装桶",0.049,{"$nulls":3},{"$f":"G35+C56","v":0.474},null,"诸美娟"]
["2022-02-19","废包装桶"]
["2022-02-20","废包装桶"]
["2022-02-21","废包装桶"]
["2022-02-22","废包装桶"]
["2022-02-23","废包装桶"]
["2022-02-24","废包装桶",0.291,{"$nulls":3},{"$f":"G56+C62","v":0.765},null,"诸美娟"]
["2022-02-25","废包装桶",0.133,{"$nulls":3},{"$f":"G62+C63","v":0.898},null,"诸美娟"]
["2022-02-26","废包装桶"]
["2022-02-27","废包装桶"]
["2022-02-28","废包装桶"]
[]
["合计",null,{"$f":"SUM(C39:C66)","v":0.473},{"$f":"SUM(D39:D66)","v":0},{"$f":"SUM(E39:E66)","v":0},{"$f":"SUM(F39:F66)","v":0},{"$f":"G63","v":0.898},null,null,"危废填报截止时间"]
["2022-03-01","废包装桶"]
["2022-03-02","废包装桶"]
["2022-03-03","废包装桶"]
["2022-03-04","废包装桶",0.18,{"$nulls":3},{"$f":"G68+C72","v":1.078},null,"诸美娟"]
["2022-03-05","废包装桶"]
["2022-03-06","废包装桶"]
["2022-03-07","废包装桶",0.062,null,1.14,null,0,"浙江润淼再生资源有限公司","诸美娟"]
["2022-03-08","废包装桶"]
["2022-03-09","废包装桶"]
["2022-03-10","废包装桶"]
["2022-03-11","废包装桶"]
["2022-03-12","废包装桶"]
["2022-03-13","废包装桶"]
["2022-03-14","废包装桶"]
["2022-03-15","废包装桶"]
["2022-03-16","废包装桶"]
["2022-03-17","废包装桶"]
["2022-03-18","废包装桶"]
["2022-03-19","废包装桶"]
["2022-03-20","废包装桶"]
["2022-03-21","废包装桶"]
["2022-03-22","废包装桶"]
["2022-03-23","废包装桶"]
["2022-03-24","废包装桶"]
["2022-03-25","废包装桶"]
["2022-03-26","废包装桶"]
["2022-03-27","废包装桶"]
["2022-03-28","废包装桶"]
["2022-03-29","废包装桶"]
["2022-03-30","废包装桶"]
["2022-03-31","废包装桶"]
["合计",null,{"$f":"SUM(C69:C99)","v":0.242},{"$f":"SUM(D69:D99)","v":0},{"$f":"SUM(E69:E99)","v":1.14},{"$f":"SUM(F69:F99)","v":0},{"$f":"G99","v":0}]
["2022-04-01","废包装桶"]
["2022-04-02","废包装桶"]
["2022-04-03","废包装桶"]
["2022-04-04","废包装桶"]
["2022-04-05","废包装桶"]
["2022-04-06","废包装桶"]
["2022-04-07","废包装桶"]
["2022-04-08","废包装桶"]
["2022-04-09","废包装桶"]
["2022-04-10","废包装桶"]
["2022-04-11","废包装桶"]
["2022-04-12","废包装桶"]
["2022-04-13","废包装桶"]
["2022-04-14","废包装桶"]
["2022-04-15","废包装桶"]
["2022-04-16","废包装桶"]
["2022-04-17","废包装桶"]
["2022-04-18","废包装桶"]
["2022-04-19","废包装桶"]
["2022-04-20","废包装桶"]
["2022-04-21","废包装桶"]
["2022-04-22","废包装桶"]
["2022-04-23","废包装桶"]
["2022-04-24","废包装桶"]
["2022-04-25","废包装桶"]
["2022-04-26","废包装桶"]
["2022-04-27","废包装桶",0.016,{"$nulls":3},0.016,null,"诸美娟"]
["2022-04-28","废包装桶"]
["2022-04-29","废包装桶",{"$f":"0.205","v":0.205},{"$nulls":3},{"$f":"G127+C129","v":0.221},null,"诸美娟"]
["2022-04-30","废包装桶"]
[{"$nulls":6},{"$f":"G130+C131-F131","v":0}]
["合计",null,{"$f":"SUM(C101:C131)","v":0.221},{"$f":"SUM(D101:D131)","v":0},{"$f":"SUM(E101:E131)","v":0},{"$f":"SUM(F119:F131)","v":0},{"$f":"G129","v":0.221}]
["2022-05-01","废包装桶"]
["2022-05-02","废包装桶"]
["2022-05-03","废包装桶"]
["2022-05-04","废包装桶"]
["2022-05-05","废包装桶"]
["2022-05-06","废包装桶"]
["2022-05-07","废包装桶"]
["2022-05-08","废包装桶"]
["2022-05-09","废包装桶"]
["2022-05-10","废包装桶"]
["2022-05-11","废包装桶"]
["2022-05-12","废包装桶"]
["2022-05-13","废包装桶"]
["2022-05-14","废包装桶"]
["2022-05-15","废包装桶"]
["2022-05-16","废包装桶",1.855,null,2.076,null,0,"浙江润淼再生资源有限公司","诸美娟/胡才法"]
["2022-05-17","废包装桶"]
["2022-05-18","废包装桶"]
["2022-05-19","废包装桶"]
["2022-05-20","废包装桶"]
["2022-05-21","废包装桶"]
["2022-05-22","废包装桶"]
["2022-05-23","废包装桶"]
["2022-05-24","废包装桶"]
["2022-05-25","废包装桶"]
["2022-05-26","废包装桶"]
["2022-05-27","废包装桶",0.214,{"$nulls":3},0.214,null,"诸美娟"]
["2022-05-28","废包装桶"]
["2022-05-29","废包装桶"]
["2022-05-30","废包装桶"]
["2022-05-31","废包装桶"]
["合计",null,{"$f":"SUM(C133:C163)","v":2.069},{"$f":"SUM(D133:D163)","v":0},{"$f":"SUM(E133:E163)","v":2.076},{"$f":"SUM(F133:F163)","v":0},{"$f":"G159","v":0.214}]
["2022-06-01","废包装桶"]
["2022-06-02","废包装桶"]
["2022-06-03","废包装桶"]
["2022-06-04","废包装桶"]
["2022-06-05","废包装桶"]
["2022-06-06","废包装桶"]
["2022-06-07","废包装桶"]
["2022-06-08","废包装桶"]
["2022-06-09","废包装桶"]
["2022-06-10","废包装桶",0.154,{"$nulls":3},{"$f":"G164+C174-F174","v":0.368},null,"诸美娟"]
["2022-06-11","废包装桶"]
["2022-06-12","废包装桶"]
["2022-06-13","废包装桶"]
["2022-06-14","废包装桶",0.112,{"$nulls":3},{"$f":"G174+C178","v":0.48},null,"诸美娟"]
["2022-06-15","废包装桶"]
["2022-06-16","废包装桶"]
["2022-06-17","废包装桶",0.033,{"$nulls":3},{"$f":"G178+C181","v":0.513},null,"诸美娟"]
["2022-06-18","废包装桶"]
["2022-06-19","废包装桶"]
["2022-06-20","废包装桶"]
["2022-06-21","废包装桶"]
["2022-06-22","废包装桶"]
["2022-06-23","废包装桶"]
["2022-06-24","废包装桶"]
["2022-06-25","废包装桶"]
["2022-06-26","废包装桶"]
["2022-06-27","废包装桶"]
["2022-06-28","废包装桶"]
["2022-06-29","废包装桶"]
["2022-06-30","废包装桶"]
[{"$nulls":6},{"$f":"G194-C195-F195","v":0}]
["合计",null,{"$f":"SUM(C165:C195)","v":0.299},{"$f":"SUM(D165:D195)","v":0},{"$f":"SUM(E165:E195)","v":0},{"$f":"SUM(F165:F195)","v":0},{"$f":"G181","v":0.513}]
["2022-07-01","废包装桶",0.133,{"$nulls":3},{"$f":"G196+C197-F197","v":0.646},null,"诸美娟"]
["2022-07-02","废包装桶",{"$nulls":4},{"$f":"G197+C198-F198","v":0.646}]
["2022-07-03","废包装桶",{"$nulls":4},0.646]
["2022-07-04","废包装桶",{"$nulls":4},0.646]
["2022-07-05","废包装桶",{"$nulls":4},0.646]
["2022-07-06","废包装桶",{"$nulls":4},0.646]
["2022-07-07","废包装桶",{"$nulls":4},0.646]
["2022-07-08","废包装桶",0.182,{"$nulls":3},0.828,null,"诸美娟"]
["2022-07-09","废包装桶",{"$nulls":4},{"$f":"G204+C205-F205","v":0.828}]
["2022-07-10","废包装桶",{"$nulls":4},0.828]
["2022-07-11","废包装桶",{"$nulls":4},0.828]
["2022-07-12","废包装桶",{"$nulls":4},0.828]
["2022-07-13","废包装桶",{"$nulls":4},0.828]
["2022-07-14","废包装桶",0.312,null,1.14,0,0,"浙江润淼再生资源有限公司","诸美娟"]
["2022-07-15","废包装桶",{"$nulls":4},0]
["2022-07-16","废包装桶",{"$nulls":4},0]
["2022-07-17","废包装桶",{"$nulls":4},0]
["2022-07-18","废包装桶",{"$nulls":4},0]
["2022-07-19","废包装桶",{"$nulls":4},0]
["2022-07-20","废包装桶",{"$nulls":4},0]
["2022-07-21","废包装桶",{"$nulls":4},0]
["2022-07-22","废包装桶",0.051,{"$nulls":3},{"$f":"G217+C218-E218","v":0.051},null,"诸美娟"]
["2022-07-23","废包装桶",{"$nulls":4},{"$f":"G218+C219-E219","v":0.051}]
["2022-07-24","废包装桶",{"$nulls":4},0.051]
["2022-07-25","废包装桶",{"$nulls":4},0.051]
["2022-07-26","废包装桶",{"$nulls":4},0.051]
["2022-07-27","废包装桶",{"$nulls":4},0.051]
["2022-07-28","废包装桶",{"$nulls":4},0.051]
["2022-07-29","废包装桶",{"$nulls":4},0.051]
["2022-07-30","废包装桶",{"$nulls":4},0.051]
["2022-07-31","废包装桶",{"$nulls":4},0.051]
["合计",null,{"$f":"SUM(C197:C227)","v":0.678},{"$f":"SUM(D197:D227)","v":0},{"$f":"SUM(E197:E227)","v":1.14},null,{"$f":"G227","v":0.051}]
["2022-08-01","废包装桶",{"$nulls":4},{"$f":"G228+C229-E229","v":0.051}]
["2022-08-02","废包装桶",{"$nulls":4},{"$f":"G229+C230-E230","v":0.051}]
["2022-08-03","废包装桶",{"$nulls":4},0.051]
["2022-08-04","废包装桶",{"$nulls":4},0.051]
["2022-08-05","废包装桶",0.016,{"$nulls":3},0.067,null,"诸美娟"]
["2022-08-06","废包装桶",{"$nulls":4},0.067]
["2022-08-07","废包装桶",{"$nulls":4},0.067]
["2022-08-08","废包装桶",{"$nulls":4},0.067]
["2022-08-09","废包装桶",{"$nulls":4},0.067]
["2022-08-10","废包装桶",{"$nulls":4},0.067]
["2022-08-11","废包装桶",{"$nulls":4},0.067]
["2022-08-12","废包装桶",{"$nulls":4},0.067]
["2022-08-13","废包装桶",{"$nulls":4},0.067]
["2022-08-14","废包装桶",{"$nulls":4},0.067]
["2022-08-15","废包装桶",{"$nulls":4},0.067]
["2022-08-16","废包装桶",{"$nulls":4},0.067]
["2022-08-17","废包装桶",{"$nulls":4},0.067]
["2022-08-18","废包装桶",{"$nulls":4},0.067]
["2022-08-19","废包装桶",0.518,{"$nulls":3},0.585,null,"诸美娟"]
["2022-08-20","废包装桶",{"$nulls":4},0.585]
["2022-08-21","废包装桶",{"$nulls":4},0.585]
["2022-08-22","废包装桶",{"$nulls":4},0.585]
["2022-08-23","废包装桶",{"$nulls":4},0.585]
["2022-08-24","废包装桶",{"$nulls":4},0.585]
["2022-08-25","废包装桶",{"$nulls":4},0.585]
["2022-08-26","废包装桶",{"$nulls":4},0.585]
["2022-08-27","废包装桶",0.064,{"$nulls":3},0.649,null,"诸美娟"]
["2022-08-28","废包装桶",{"$nulls":4},0.649]
["2022-08-29","废包装桶",0.178,{"$nulls":3},0.827,null,"诸美娟"]
["2022-08-30","废包装桶",{"$nulls":4},0.827]
["2022-08-31","废包装桶",{"$nulls":4},0.827]
["合计",null,{"$f":"SUM(C229:C259)","v":0.776},{"$f":"SUM(D229:D259)","v":0},0,0,{"$f":"G259","v":0.827}]
["2022-09-01","废包装桶"]
["2022-09-02","废包装桶"]
["2022-09-03","废包装桶"]
["2022-09-04","废包装桶"]
["2022-09-05","废包装桶"]
["2022-09-06","废包装桶"]
["2022-09-07","废包装桶"]
["2022-09-08","废包装桶"]
["2022-09-09","废包装桶"]
["2022-09-10","废包装桶"]
["2022-09-11","废包装桶"]
["2022-09-12","废包装桶"]
["2022-09-13","废包装桶"]
["2022-09-14","废包装桶"]
["2022-09-15","废包装桶"]
["2022-09-16","废包装桶"]
["2022-09-17","废包装桶"]
["2022-09-18","废包装桶"]
["2022-09-19","废包装桶",0.6745,null,1.5015,null,{"$f":"G260+C279-E279","v":0},"浙江润淼再生资源有限公司","诸美娟"]
["2022-09-20","废包装桶",{"$nulls":4},{"$f":"G261+C280-E280","v":0}]
["2022-09-21","废包装桶",{"$nulls":4},0]
["2022-09-22","废包装桶",{"$nulls":4},0]
["2022-09-23","废包装桶",{"$nulls":4},0]
["2022-09-24","废包装桶",{"$nulls":4},0]
["2022-09-25","废包装桶",{"$nulls":4},0]
["2022-09-26","废包装桶",{"$nulls":4},0]
["2022-09-27","废包装桶",{"$nulls":4},0]
["2022-09-28","废包装桶",{"$nulls":4},0]
["2022-09-29","废包装桶",{"$nulls":4},0]
["2022-09-30","废包装桶",0.046,{"$nulls":3},{"$f":"G289+C290-E290","v":0.046},null,"诸美娟"]
[{"$nulls":6},{"$f":"G290+C291-E291","v":0.046}]
["合计",null,{"$f":"SUM(C261:C291)","v":0.7205},{"$f":"SUM(D261:D291)","v":0},{"$f":"SUM(E261:E291)","v":1.5015},{"$f":"SUM(F261:F291)","v":0},{"$f":"G291","v":0.046}]
["2022-10-01","废包装桶",{"$nulls":4},{"$f":"G292+C293-E293","v":0.046}]
["2022-10-02","废包装桶",{"$nulls":4},{"$f":"G293+C294-E294","v":0.046}]
["2022-10-03","废包装桶",{"$nulls":4},0.046]
["2022-10-04","废包装桶",{"$nulls":4},0.046]
["2022-10-05","废包装桶",{"$nulls":4},0.046]
["2022-10-06","废包装桶",{"$nulls":4},0.046]
["2022-10-07","废包装桶",{"$nulls":4},0.046]
["2022-10-08","废包装桶",{"$nulls":4},0.046]
["2022-10-09","废包装桶",{"$nulls":4},0.046]
["2022-10-10","废包装桶",{"$nulls":4},0.046]
["2022-10-11","废包装桶",{"$nulls":4},0.046]
["2022-10-12","废包装桶",{"$nulls":4},0.046]
["2022-10-13","废包装桶",{"$nulls":4},0.046]
["2022-10-14","废包装桶",0.176,{"$nulls":3},0.222,null,"诸美娟"]
["2022-10-15","废包装桶",{"$nulls":4},0.222]
["2022-10-16","废包装桶",{"$nulls":4},0.222]
["2022-10-17","废包装桶",{"$nulls":4},0.222]
["2022-10-18","废包装桶",{"$nulls":4},0.222]
["2022-10-19","废包装桶",{"$nulls":4},0.222]
["2022-10-20","废包装桶",{"$nulls":4},0.222]
["2022-10-21","废包装桶",{"$nulls":4},0.222]
["2022-10-22","废包装桶",{"$nulls":4},0.222]
["2022-10-23","废包装桶",{"$nulls":4},0.222]
["2022-10-24","废包装桶",{"$nulls":4},0.222]
["2022-10-25","废包装桶",{"$nulls":4},0.222]
["2022-10-26","废包装桶",{"$nulls":4},0.222]
["2022-10-27","废包装桶",{"$nulls":4},0.222]
["2022-10-28","废包装桶",{"$nulls":4},0.222]
["2022-10-29","废包装桶",{"$nulls":4},0.222]
["2022-10-30","废包装桶",{"$nulls":4},0.222]
["2022-10-31","废包装桶",{"$nulls":4},0.222]
["合计",null,{"$f":"SUM(C293:C323)","v":0.176},{"$f":"SUM(D293:D323)","v":0},{"$f":"SUM(E293:E323)","v":0},{"$f":"SUM(F293:F323)","v":0},{"$f":"G323","v":0.222}]
["2022-11-01","废包装桶"]
["2022-11-02","废包装桶"]
["2022-11-03","废包装桶"]
["2022-11-04","废包装桶"]
["2022-11-05","废包装桶"]
["2022-11-06","废包装桶"]
["2022-11-07","废包装桶"]
["2022-11-08","废包装桶"]
["2022-11-09","废包装桶"]
["2022-11-10","废包装桶"]
["2022-11-11","废包装桶",0.093,{"$nulls":3},{"$f":"G324+C335","v":0.315},null,"诸美娟"]
["2022-11-12","废包装桶",{"$nulls":4},{"$f":"G335+C336-E336","v":0.315}]
["2022-11-13","废包装桶",{"$nulls":4},{"$f":"G336+C337-E337","v":0.315}]
["2022-11-14","废包装桶",{"$nulls":4},0.315]
["2022-11-15","废包装桶",{"$nulls":4},0.315]
["2022-11-16","废包装桶",{"$nulls":4},0.315]
["2022-11-17","废包装桶",{"$nulls":4},0.315]
["2022-11-18","废包装桶",0.479,{"$nulls":3},0.794,null,"诸美娟"]
["2022-11-19","废包装桶",{"$nulls":4},0.794]
["2022-11-20","废包装桶",{"$nulls":4},0.794]
["2022-11-21","废包装桶",{"$nulls":4},0.794]
["2022-11-22","废包装桶",{"$nulls":4},0.794]
["2022-11-23","废包装桶",{"$nulls":4},0.794]
["2022-11-24","废包装桶",{"$nulls":4},0.794]
["2022-11-25","废包装桶",{"$nulls":4},0.794]
["2022-11-26","废包装桶",{"$nulls":4},0.794]
["2022-11-27","废包装桶",{"$nulls":4},0.794]
["2022-11-28","废包装桶",{"$nulls":4},0.794]
["2022-11-29","废包装桶",0.32,null,1.114,null,0,"浙江润淼再生资源有限公司","诸美娟"]
["2022-11-30","废包装桶",{"$nulls":4},0]
[{"$nulls":6},0]
["合计",null,{"$f":"SUM(C325:C355)","v":0.892},{"$f":"SUM(D325:D355)","v":0},{"$f":"SUM(E325:E355)","v":1.114},{"$f":"SUM(F325:F355)","v":0},{"$f":"G355","v":0}]
["2022-12-01","废包装桶"]
["2022-12-02","废包装桶"]
["2022-12-03","废包装桶"]
["2022-12-04","废包装桶"]
["2022-12-05","废包装桶"]
["2022-12-06","废包装桶"]
["2022-12-07","废包装桶"]
["2022-12-08","废包装桶"]
["2022-12-09","废包装桶"]
["2022-12-10","废包装桶"]
["2022-12-11","废包装桶"]
["2022-12-12","废包装桶"]
["2022-12-13","废包装桶"]
["2022-12-14","废包装桶"]
["2022-12-15","废包装桶"]
["2022-12-16","废包装桶"]
["2022-12-17","废包装桶"]
["2022-12-18","废包装桶"]
["2022-12-19","废包装桶"]
["2022-12-20","废包装桶"]
["2022-12-21","废包装桶"]
["2022-12-22","废包装桶"]
["2022-12-23","废包装桶"]
["2022-12-24","废包装桶"]
["2022-12-25","废包装桶"]
["2022-12-26","废包装桶"]
["2022-12-27","废包装桶"]
["2022-12-28","废包装桶"]
["2022-12-29","废包装桶"]
["2022-12-30","废包装桶"]
["2022-12-31","废包装桶"]
["合计",null,{"$f":"SUM(C357:C387)","v":{"v":0,"d":"0.000"}},{"$f":"SUM(D357:D387)","v":{"v":0,"d":"0.000"}},{"$f":"SUM(E357:E387)","v":{"v":0,"d":"0.000"}},{"$f":"SUM(F357:F387)","v":{"v":0,"d":"0.000"}},{"$f":"G372","v":0}]

{"sheet":"2022年月度统计  ","index":9,"n_rows":16,"n_cols":11,"rows_kept":16,"merged":[[0,0,0,8],[1,0,2,0],[1,1,2,1],[1,2,2,2],[1,3,2,3],[1,4,1,5],[1,6,2,6],[1,7,2,7],[1,8,2,8]]}
["生产过程产生的固体废物利用及处置情况（按日填写）股份     ( 2022)             单位（吨）"]
["日期","固 体 废 物 名 称","产生数量","自行处置数量","委托利用、处置情况",null,"累计贮存数量","备注","填表人"]
[{"$nulls":4},"委托利用数量","委托处置数量",{"$nulls":4},0]
["1月份","废包装桶",{"$f":"'2022年   '!C35","v":0.425},null,{"$f":"'2022年   '!E35","v":0},{"$f":"'2022年   '!F35","v":0},{"$f":"'2022年   '!G35","v":0.425},null,"诸美娟"]
["2月份","废包装桶",{"$f":"'2022年   '!C68","v":0.473},null,{"$f":"'2022年   '!E68","v":0},{"$f":"'2022年   '!F68","v":0},{"$f":"'2022年   '!G68","v":0.898},null,"诸美娟"]
["3月份","废包装桶",{"$f":"'2022年   '!C100","v":0.242},null,{"$f":"'2022年   '!E100","v":1.14},{"$f":"'2022年   '!F100","v":0},{"$f":"'2022年   '!G100","v":0},"浙江润淼再生资源有限公司","诸美娟"]
["4月份","废包装桶",{"$f":"'2022年   '!C132","v":0.221},null,{"$f":"'2022年   '!E132","v":0},{"$f":"'2022年   '!F132","v":0},{"$f":"'2022年   '!G132","v":0.221},null,"诸美娟"]
["5月份","废包装桶",{"$f":"'2022年   '!C164","v":2.069},null,{"$f":"'2022年   '!E164","v":2.076},{"$f":"'2022年   '!F164","v":0},{"$f":"'2022年   '!G164","v":0.214},"浙江润淼再生资源有限公司","诸美娟/胡才法"]
["6月份","废包装桶",{"$f":"'2022年   '!C196","v":0.299},null,{"$f":"'2022年   '!E196","v":0},{"$f":"'2022年   '!F196","v":0},{"$f":"'2022年   '!G196","v":0.513},null,"诸美娟"]
["7月份","废包装桶",{"$f":"'2022年   '!C228","v":0.678},null,{"$f":"'2022年   '!E228","v":1.14},{"$f":"'2022年   '!F228","v":0},{"$f":"'2022年   '!G228","v":0.051},"浙江润淼再生资源有限公司","诸美娟"]
["8月份","废包装桶",{"$f":"'2022年   '!C260","v":0.776},null,{"$f":"'2022年   '!E260","v":0},{"$f":"'2022年   '!F260","v":0},{"$f":"'2022年   '!G260","v":0.827},null,"诸美娟"]
["9月份","废包装桶",{"$f":"'2022年   '!C292","v":0.7205},null,{"$f":"'2022年   '!E292","v":1.5015},{"$f":"'2022年   '!F292","v":0},{"$f":"'2022年   '!G292","v":0.046},"浙江润淼再生资源有限公司","诸美娟"]
["10月份","废包装桶",{"$f":"'2022年   '!C324","v":0.176},null,{"$f":"'2022年   '!E324","v":0},{"$f":"'2022年   '!F356","v":0},{"$f":"'2022年   '!G324","v":0.222},null,"诸美娟"]
["11月份","废包装桶",{"$f":"'2022年   '!C356","v":0.892},null,{"$f":"'2022年   '!E356","v":1.114},0,{"$f":"'2022年   '!G356","v":0},"浙江润淼再生资源有限公司","诸美娟",null,"0只"]
["12月份","废包装桶",{"$f":"'2022年   '!C388","v":0},null,{"$f":"'2022年   '!E388","v":0},{"$f":"'2022年   '!F388","v":0},{"$f":"'2022年   '!G388","v":0},null,"诸美娟"]
["合计",null,{"$f":"SUM(C4:C15)","v":6.9715},{"$f":"SUM(D4:D15)","v":0},{"$f":"SUM(E4:E15)","v":6.9715},{"$f":"SUM(F4:F15)","v":0},{"$f":"G14","v":0}]

{"sheet":"2023年   ","index":10,"n_rows":387,"n_cols":10,"rows_kept":387,"merged":[[0,0,0,8],[1,0,2,0],[1,1,2,1],[1,2,2,2],[1,3,2,3],[1,4,1,5],[1,6,2,6],[1,7,2,7],[1,8,2,8],[34,0,34,1],[35,0,35,5],[67,0,67,1],[99,0,99,1],[131,0,131,1],[163,0,163,1],[195,0,195,1],[227,0,227,1],[259,0,259,1],[290,0,290,1],[322,0,322,1],[354,0,354,1],[386,0,386,1]]}
["生产过程产生的固体废物利用及处置情况（按日填写）股份单位                       单位（吨）"]
["日期","固 体 废 物 名 称","产生数量","自行处置数量","委托利用、处置情况",null,"累计贮存数量","备注","填表人"]
[{"$nulls":4},"委托利用数量","委托处置数量"]
["2023-01-01","废包装桶",{"$nulls":7},{"$f":"'2019年月度统计 '!H17","v":0}]
["2023-01-02","废包装桶"]
["2023-01-03","废包装桶"]
["2023-01-04","废包装桶"]
["2023-01-05","废包装桶",0.167,{"$nulls":3},{"$f":"C8","v":0.167},null,"诸美娟"]
["2023-01-06","废包装桶",0.208,{"$nulls":3},{"$f":"G8+C9-E9","v":0.375},null,"诸美娟"]
["2023-01-07","废包装桶",{"$nulls":4},{"$f":"G9+C10-E10","v":0.375}]
["2023-01-08","废包装桶",{"$nulls":4},0.375]
["2023-01-09","废包装桶",{"$nulls":4},0.375]
["2023-01-10","废包装桶",{"$nulls":4},0.375]
["2023-01-11","废包装桶",{"$nulls":4},0.375]
["2023-01-12","废包装桶",{"$nulls":4},0.375]
["2023-01-13","废包装桶",0.226,{"$nulls":3},0.601,null,"诸美娟"]
["2023-01-14","废包装桶",{"$nulls":4},0.601]
["2023-01-15","废包装桶",{"$nulls":4},0.601]
["2023-01-16","废包装桶",{"$nulls":4},0.601]
["2023-01-17","废包装桶",{"$nulls":4},0.601]
["2023-01-18","废包装桶",{"$nulls":4},0.601]
["2023-01-19","废包装桶",{"$nulls":4},0.601]
["2023-01-20","废包装桶",{"$nulls":4},0.601]
["2023-01-21","废包装桶",{"$nulls":4},0.601]
["2023-01-22","废包装桶",{"$nulls":4},0.601]
["2023-01-23","废包装桶",{"$nulls":4},0.601]
["2023-01-24","废包装桶",{"$nulls":4},0.601]
["2023-01-25","废包装桶",{"$nulls":4},0.601]
["2023-01-26","废包装桶",{"$nulls":4},0.601]
["2023-01-27","废包装桶",{"$nulls":4},0.601]
["2023-01-28","废包装桶",{"$nulls":4},0.601]
["2023-01-29","废包装桶",0.099,{"$nulls":3},{"v":0.7,"d":"0.70"},null,"诸美娟"]
["2023-01-30","废包装桶",{"$nulls":4},{"v":0.7,"d":"0.70"}]
["2023-01-31","废包装桶",{"$nulls":4},{"v":0.7,"d":"0.70"}]
["合计",null,{"$f":"SUM(C4:C34)","v":0.7},{"$f":"SUM(D4:D34)","v":0},{"$f":"SUM(E4:E34)","v":0},{"$f":"SUM(F22:F34)","v":0},{"$f":"G32","v":{"v":0.7,"d":"0.70"}}]
["备注：2017年7月24日起开始统计"]
[]
[]
["2023-02-01","废包装桶",{"$nulls":7}," "]
["2023-02-02","废包装桶"]
["2023-02-03","废包装桶"]
["2023-02-04","废包装桶"]
["2023-02-05","废包装桶"]
["2023-02-06","废包装桶"]
["2023-02-07","废包装桶"]
["2023-02-08","废包装桶"]
["2023-02-09","废包装桶"]
["2023-02-10","废包装桶"]
["2023-02-11","废包装桶"]
["2023-02-12","废包装桶"]
["2023-02-13","废包装桶"]
["2023-02-14","废包装桶"]
["2023-02-15","废包装桶"]
["2023-02-16","废包装桶"]
["2023-02-17","废包装桶"]
["2023-02-18","废包装桶"]
["2023-02-19","废包装桶"]
["2023-02-20","废包装桶"]
["2023-02-21","废包装桶"]
["2023-02-22","废包装桶"]
["2023-02-23","废包装桶"]
["2023-02-24","废包装桶"]
["2023-02-25","废包装桶",0.384,{"$nulls":3},{"$f":"G35+C63","v":1.084},null,"诸美娟"]
["2023-02-26","废包装桶"]
["2023-02-27","废包装桶"]
["2023-02-28","废包装桶"]
[]
["合计",null,{"$f":"SUM(C39:C66)","v":0.384},0,0,0,{"$f":"G63","v":1.084}]
["2023-03-01","废包装桶"]
["2023-03-02","废包装桶",0.516,null,{"v":1.6,"d":"1.60"},null,{"$f":"G68+C70-E70","v":0},"嘉兴市固体废物处置有限责任公司","诸美娟"]
["2023-03-03","废包装桶",{"$nulls":4},{"$f":"G70+C71-E71","v":0}]
["2023-03-04","废包装桶",{"$nulls":4},{"$f":"G71+C72-F72","v":0}]
["2023-03-05","废包装桶",{"$nulls":4},{"$f":"G72+C73-F73","v":0}]
["2023-03-06","废包装桶",{"$nulls":4},0]
["2023-03-07","废包装桶",{"$nulls":4},0]
["2023-03-08","废包装桶",{"$nulls":4},0]
["2023-03-09","废包装桶",{"$nulls":4},0]
["2023-03-10","废包装桶",0.016,{"$nulls":3},0.016,null,"诸美娟"]
["2023-03-11","废包装桶",{"$nulls":4},0.016]
["2023-03-12","废包装桶",{"$nulls":4},0.016]
["2023-03-13","废包装桶",{"$nulls":4},0.016]
["2023-03-14","废包装桶",{"$nulls":4},0.016]
["2023-03-15","废包装桶",{"$nulls":4},0.016]
["2023-03-16","废包装桶",{"$nulls":4},0.016]
["2023-03-17","废包装桶",{"$nulls":4},0.016]
["2023-03-18","废包装桶",{"$nulls":4},0.016]
["2023-03-19","废包装桶",{"$nulls":4},0.016]
["2023-03-20","废包装桶",{"$nulls":4},0.016]
["2023-03-21","废包装桶",{"$nulls":4},0.016]
["2023-03-22","废包装桶",{"$nulls":4},0.016]
["2023-03-23","废包装桶",{"$nulls":4},0.016]
["2023-03-24","废包装桶",{"$nulls":4},0.016]
["2023-03-25","废包装桶",{"$nulls":4},0.016]
["2023-03-26","废包装桶",{"$nulls":4},0.016]
["2023-03-27","废包装桶",{"$nulls":4},0.016]
["2023-03-28","废包装桶",{"$nulls":4},0.016]
["2023-03-29","废包装桶",{"$nulls":4},0.016]
["2023-03-30","废包装桶",{"$nulls":4},0.016]
["2023-03-31","废包装桶",0.221,{"$nulls":3},0.237,null,"诸美娟"]
["合计",null,{"$f":"SUM(C69:C99)","v":0.753},0,{"v":1.6,"d":"1.60"},{"v":0,"d":"0.00"},{"$f":"G99","v":0.237}]
["2023-04-01","废包装桶",{"$nulls":4},0.237]
["2023-04-02","废包装桶",{"$nulls":4},0.237]
["2023-04-03","废包装桶",{"$nulls":4},0.237]
["2023-04-04","废包装桶",{"$nulls":4},0.237]
["2023-04-05","废包装桶",{"$nulls":4},0.237]
["2023-04-06","废包装桶",{"$nulls":4},0.237,null,"诸美娟"]
["2023-04-07","废包装桶",0.112,{"$nulls":3},{"$f":"G106+C107-E107","v":0.349}]
["2023-04-08","废包装桶",{"$nulls":4},{"$f":"G107+C108-E108","v":0.349}]
["2023-04-09","废包装桶",{"$nulls":4},0.349]
["2023-04-10","废包装桶",{"$nulls":4},0.349]
["2023-04-11","废包装桶",{"$nulls":4},0.349]
["2023-04-12","废包装桶",{"$nulls":4},0.349]
["2023-04-13","废包装桶",{"$nulls":4},0.349]
["2023-04-14","废包装桶",{"$nulls":4},0.349]
["2023-04-15","废包装桶",{"$nulls":4},0.349]
["2023-04-16","废包装桶",{"$nulls":4},0.349]
["2023-04-17","废包装桶",{"$nulls":4},0.349]
["2023-04-18","废包装桶",{"$nulls":4},0.349]
["2023-04-19","废包装桶",{"$nulls":4},0.349]
["2023-04-20","废包装桶",{"$nulls":4},0.349]
["2023-04-21","废包装桶",{"$nulls":4},0.349]
["2023-04-22","废包装桶",{"$nulls":4},0.349]
["2023-04-23","废包装桶",{"$nulls":4},0.349]
["2023-04-24","废包装桶",{"$nulls":4},0.349]
["2023-04-25","废包装桶",{"$nulls":4},0.349]
["2023-04-26","废包装桶",{"$nulls":4},0.349]
["2023-04-27","废包装桶",{"$nulls":4},0.349]
["2023-04-28","废包装桶",{"$nulls":4},0.349]
["2023-04-29","废包装桶",{"$nulls":4},0.349]
["2023-04-30","废包装桶",{"$nulls":4},0.349]
[{"$nulls":6},{"$f":"G130+C131-F131","v":0.349}]
["合计",null,{"$f":"SUM(C101:C131)","v":0.112},{"$f":"SUM(D101:D131)","v":0},{"$f":"SUM(E101:E131)","v":0},{"$f":"SUM(F119:F131)","v":0},{"$f":"G129","v":0.349}]
["2023-05-01","废包装桶"]
["2023-05-02","废包装桶"]
["2023-05-03","废包装桶"]
["2023-05-04","废包装桶"]
["2023-05-05","废包装桶",0.102,{"$nulls":3},{"$f":"G132+C137-E137","v":0.451},null,"诸美娟"]
["2023-05-06","废包装桶",{"$nulls":4},{"$f":"G137+C138-E138","v":0.451}]
["2023-05-07","废包装桶",{"$nulls":4},{"$f":"G138+C139-E139","v":0.451}]
["2023-05-08","废包装桶",{"$nulls":4},0.451]
["2023-05-09","废包装桶",{"$nulls":4},0.451]
["2023-05-10","废包装桶",{"$nulls":4},0.451]
["2023-05-11","废包装桶",{"$nulls":4},0.451]
["2023-05-12","废包装桶",0.256,{"$nulls":3},0.707,null,"诸美娟"]
["2023-05-13","废包装桶",{"$nulls":4},0.707]
["2023-05-14","废包装桶",{"$nulls":4},0.707]
["2023-05-15","废包装桶",{"$nulls":4},0.707]
["2023-05-16","废包装桶",{"$nulls":4},0.707]
["2023-05-17","废包装桶",0.453,null,0.892,null,0.268,"嘉兴市固体废物处置有限责任公司","诸美娟"]
["2023-05-18","废包装桶",{"$nulls":4},0.268]
["2023-05-19","废包装桶",0.064,{"$nulls":3},0.332,null,"诸美娟"]
["2023-05-20","废包装桶",{"$nulls":4},0.332]
["2023-05-21","废包装桶",{"$nulls":4},0.332]
["2023-05-22","废包装桶",{"$nulls":4},0.332]
["2023-05-23","废包装桶",{"$nulls":4},0.332]
["2023-05-24","废包装桶",{"$nulls":4},0.332]
["2023-05-25","废包装桶",{"$nulls":4},0.332]
["2023-05-26","废包装桶",{"$nulls":4},0.332]
["2023-05-27","废包装桶",{"$nulls":4},0.332]
["2023-05-28","废包装桶",{"$nulls":4},0.332]
["2023-05-29","废包装桶",{"$nulls":4},0.332]
["2023-05-30","废包装桶",3.16,null,3.16,null,0.332,"嘉兴市固体废物处置有限责任公司","方剑其"]
["2023-05-31","废包装桶",{"$nulls":4},0.332]
["合计",null,{"$f":"SUM(C133:C163)","v":4.035},0,4.052,0,{"$f":"G159","v":0.332}]
["2023-06-01","废包装桶",{"$nulls":4},{"$f":"G164+C165-E165","v":0.332}]
["2023-06-02","废包装桶",{"$nulls":4},{"$f":"G165+C166-E166","v":0.332}]
["2023-06-03","废包装桶",{"$nulls":4},0.332]
["2023-06-04","废包装桶",{"$nulls":4},0.332]
["2023-06-05","废包装桶",{"$nulls":4},0.332]
["2023-06-06","废包装桶",{"$nulls":4},0.332]
["2023-06-07","废包装桶",{"$nulls":4},0.332]
["2023-06-08","废包装桶",{"$nulls":4},0.332]
["2023-06-09","废包装桶",{"$nulls":4},0.332]
["2023-06-10","废包装桶",{"$nulls":4},0.332]
["2023-06-11","废包装桶",{"$nulls":4},0.332]
["2023-06-12","废包装桶",{"$nulls":4},0.332]
["2023-06-13","废包装桶",{"$nulls":4},0.332]
["2023-06-14","废包装桶",{"$nulls":4},0.332]
["2023-06-15","废包装桶",{"$nulls":4},0.332]
["2023-06-16","废包装桶",0.408,{"$nulls":3},0.74,null,"诸美娟"]
["2023-06-17","废包装桶",{"$nulls":4},0.74]
["2023-06-18","废包装桶",{"$nulls":4},0.74]
["2023-06-19","废包装桶",{"$nulls":4},0.74]
["2023-06-20","废包装桶",{"$nulls":4},0.74]
["2023-06-21","废包装桶",{"$nulls":4},0.74]
["2023-06-22","废包装桶",{"$nulls":4},0.74]
["2023-06-23","废包装桶",{"$nulls":4},0.74]
["2023-06-24","废包装桶",{"$nulls":4},0.74]
["2023-06-25","废包装桶",{"$nulls":4},0.74]
["2023-06-26","废包装桶",{"$nulls":4},0.74]
["2023-06-27","废包装桶",{"$nulls":4},0.74]
["2023-06-28","废包装桶",{"$nulls":4},0.74]
["2023-06-29","废包装桶",0.13,null,0.87,null,0,"嘉兴市固体废物处置有限责任公司","诸美娟"]
["2023-06-30","废包装桶",{"$nulls":4},0]
[{"$nulls":6},{"$f":"G194-C195-F195","v":0}]
["合计",null,{"$f":"SUM(C165:C195)","v":0.538},0,0.87,0,{"$f":"G194","v":0}]
["2023-07-01","废包装桶"]
["2023-07-02","废包装桶"]
["2023-07-03","废包装桶"]
["2023-07-04","废包装桶"]
["2023-07-05","废包装桶"]
["2023-07-06","废包装桶"]
["2023-07-07","废包装桶",0.032,{"$nulls":3},0.032,null,"诸美娟"]
["2023-07-08","废包装桶"]
["2023-07-09","废包装桶"]
["2023-07-10","废包装桶"]
["2023-07-11","废包装桶"]
["2023-07-12","废包装桶"]
["2023-07-13","废包装桶"]
["2023-07-14","废包装桶"]
["2023-07-15","废包装桶"]
["2023-07-16","废包装桶"]
["2023-07-17","废包装桶"]
["2023-07-18","废包装桶"]
["2023-07-19","废包装桶"]
["2023-07-20","废包装桶"]
["2023-07-21","废包装桶",0.016,{"$nulls":3},{"$f":"G203+C217-E217","v":0.048},null,"诸美娟"]
["2023-07-22","废包装桶",{"$nulls":4},{"$f":"G217+C218-E218","v":0.048}]
["2023-07-23","废包装桶",{"$nulls":4},{"$f":"G218+C219-E219","v":0.048}]
["2023-07-24","废包装桶",{"$nulls":4},0.048]
["2023-07-25","废包装桶",{"$nulls":4},0.048]
["2023-07-26","废包装桶",{"$nulls":4},0.048]
["2023-07-27","废包装桶",{"$nulls":4},0.048]
["2023-07-28","废包装桶",{"$nulls":4},0.048]
["2023-07-29","废包装桶",{"$nulls":4},0.048]
["2023-07-30","废包装桶",{"$nulls":4},0.048]
["2023-07-31","废包装桶",{"$nulls":4},0.048]
["合计",null,{"$f":"SUM(C197:C227)","v":0.048},{"$f":"SUM(D197:D227)","v":0},{"$f":"SUM(E197:E227)","v":0},null,{"$f":"G227","v":0.048}]
["2023-08-01","废包装桶"]
["2023-08-02","废包装桶"]
["2023-08-03","废包装桶"]
["2023-08-04","废包装桶"]
["2023-08-05","废包装桶"]
["2023-08-06","废包装桶"]
["2023-08-07","废包装桶"]
["2023-08-08","废包装桶"]
["2023-08-09","废包装桶"]
["2023-08-10","废包装桶"]
["2023-08-11","废包装桶"]
["2023-08-12","废包装桶"]
["2023-08-13","废包装桶"]
["2023-08-14","废包装桶"]
["2023-08-15","废包装桶"]
["2023-08-16","废包装桶"]
["2023-08-17","废包装桶"]
["2023-08-18","废包装桶"]
["2023-08-19","废包装桶"]
["2023-08-20","废包装桶"]
["2023-08-21","废包装桶"]
["2023-08-22","废包装桶"]
["2023-08-23","废包装桶"]
["2023-08-24","废包装桶"]
["2023-08-25","废包装桶"]
["2023-08-26","废包装桶"]
["2023-08-27","废包装桶"]
["2023-08-28","废包装桶"]
["2023-08-29","废包装桶"]
["2023-08-30","废包装桶"]
["2023-08-31","废包装桶"]
["合计",null,{"$f":"SUM(C229:C259)","v":0},0,0,0,{"$f":"G259","v":0}]
["2023-09-01","废包装桶"]
["2023-09-02","废包装桶"]
["2023-09-03","废包装桶"]
["2023-09-04","废包装桶"]
["2023-09-05","废包装桶"]
["2023-09-06","废包装桶"]
["2023-09-07","废包装桶"]
["2023-09-08","废包装桶"]
["2023-09-09","废包装桶"]
["2023-09-10","废包装桶"]
["2023-09-11","废包装桶"]
["2023-09-12","废包装桶"]
["2023-09-13","废包装桶"]
["2023-09-14","废包装桶"]
["2023-09-15","废包装桶"]
["2023-09-16","废包装桶"]
["2023-09-17","废包装桶"]
["2023-09-18","废包装桶"]
["2023-09-19","废包装桶"]
["2023-09-20","废包装桶"]
["2023-09-21","废包装桶"]
["2023-09-22","废包装桶"]
["2023-09-23","废包装桶"]
["2023-09-24","废包装桶"]
["2023-09-25","废包装桶"]
["2023-09-26","废包装桶"]
["2023-09-27","废包装桶"]
["2023-09-28","废包装桶"]
["2023-09-29","废包装桶"]
["2023-09-30","废包装桶"]
["合计",null,{"$f":"SUM(C261:C290)","v":0},{"$f":"SUM(D261:D290)","v":0},{"$f":"SUM(E261:E290)","v":0},{"$f":"SUM(F261:F290)","v":0}]
["2023-10-01","废包装桶"]
["2023-10-02","废包装桶"]
["2023-10-03","废包装桶"]
["2023-10-04","废包装桶"]
["2023-10-05","废包装桶"]
["2023-10-06","废包装桶"]
["2023-10-07","废包装桶"]
["2023-10-08","废包装桶"]
["2023-10-09","废包装桶"]
["2023-10-10","废包装桶"]
["2023-10-11","废包装桶"]
["2023-10-12","废包装桶"]
["2023-10-13","废包装桶"]
["2023-10-14","废包装桶"]
["2023-10-15","废包装桶"]
["2023-10-16","废包装桶"]
["2023-10-17","废包装桶"]
["2023-10-18","废包装桶"]
["2023-10-19","废包装桶"]
["2023-10-20","废包装桶"]
["2023-10-21","废包装桶"]
["2023-10-22","废包装桶"]
["2023-10-23","废包装桶"]
["2023-10-24","废包装桶"]
["2023-10-25","废包装桶"]
["2023-10-26","废包装桶"]
["2023-10-27","废包装桶"]
["2023-10-28","废包装桶"]
["2023-10-29","废包装桶"]
["2023-10-30","废包装桶"]
["2023-10-31","废包装桶"]
["合计",null,{"$f":"SUM(C292:C322)","v":0},0,0,0,{"$f":"G322","v":0}]
["2023-11-01","废包装桶"]
["2023-11-02","废包装桶"]
["2023-11-03","废包装桶"]
["2023-11-04","废包装桶"]
["2023-11-05","废包装桶"]
["2023-11-06","废包装桶"]
["2023-11-07","废包装桶"]
["2023-11-08","废包装桶"]
["2023-11-09","废包装桶"]
["2023-11-10","废包装桶"]
["2023-11-11","废包装桶"]
["2023-11-12","废包装桶"]
["2023-11-13","废包装桶"]
["2023-11-14","废包装桶"]
["2023-11-15","废包装桶"]
["2023-11-16","废包装桶"]
["2023-11-17","废包装桶"]
["2023-11-18","废包装桶"]
["2023-11-19","废包装桶"]
["2023-11-20","废包装桶"]
["2023-11-21","废包装桶"]
["2023-11-22","废包装桶"]
["2023-11-23","废包装桶"]
["2023-11-24","废包装桶"]
["2023-11-25","废包装桶"]
["2023-11-26","废包装桶"]
["2023-11-27","废包装桶"]
["2023-11-28","废包装桶"]
["2023-11-29","废包装桶"]
["2023-11-30","废包装桶",{"$nulls":4},{"$f":"G352+C353-E353","v":0}]
[{"$nulls":6},{"$f":"G353+C354-E354","v":0}]
["合计",null,{"$f":"SUM(C324:C354)","v":0},0,0,0,{"$f":"G354","v":0}]
["2023-12-01","废包装桶"]
["2023-12-02","废包装桶"]
["2023-12-03","废包装桶"]
["2023-12-04","废包装桶"]
["2023-12-05","废包装桶"]
["2023-12-06","废包装桶"]
["2023-12-07","废包装桶"]
["2023-12-08","废包装桶"]
["2023-12-09","废包装桶"]
["2023-12-10","废包装桶"]
["2023-12-11","废包装桶"]
["2023-12-12","废包装桶"]
["2023-12-13","废包装桶"]
["2023-12-14","废包装桶"]
["2023-12-15","废包装桶"]
["2023-12-16","废包装桶"]
["2023-12-17","废包装桶"]
["2023-12-18","废包装桶"]
["2023-12-19","废包装桶"]
["2023-12-20","废包装桶"]
["2023-12-21","废包装桶"]
["2023-12-22","废包装桶"]
["2023-12-23","废包装桶"]
["2023-12-24","废包装桶"]
["2023-12-25","废包装桶"]
["2023-12-26","废包装桶"]
["2023-12-27","废包装桶"]
["2023-12-28","废包装桶"]
["2023-12-29","废包装桶"]
["2023-12-30","废包装桶"]
["2023-12-31","废包装桶"]
["合计",null,{"$f":"SUM(C356:C386)","v":{"v":0,"d":"0.000"}},{"v":0,"d":"0.000"},{"v":0,"d":"0.000"},{"v":0,"d":"0.000"},{"$f":"G371","v":0}]

{"sheet":"2023年月度统计  ","index":11,"n_rows":16,"n_cols":10,"rows_kept":16,"merged":[[0,0,0,8],[1,0,2,0],[1,1,2,1],[1,2,2,2],[1,3,2,3],[1,4,1,5],[1,6,2,6],[1,7,2,7],[1,8,2,8]]}
["生产过程产生的固体废物利用及处置情况（按日填写）股份     ( 2023年)             单位（吨）"]
["日期","固 体 废 物 名 称","产生数量","自行处置数量","委托利用、处置情况",null,"累计贮存数量","备注","填表人"]
[{"$nulls":4},"委托利用数量","委托处置数量",{"$nulls":3},0]
["1月份","废包装桶",{"$f":"'2023年   '!C35","v":0.7},null,{"$f":"'2023年   '!E35","v":0},null,{"$f":"'2023年   '!G35","v":{"v":0.7,"d":"0.70"}},null,"诸美娟"]
["2月份","废包装桶",{"$f":"'2023年   '!C68","v":0.384},null,{"$f":"'2023年   '!E68","v":0},null,{"$f":"'2023年   '!G68","v":{"v":1.084,"d":"1.08"}},null,"诸美娟"]
["3月份","废包装桶",{"$f":"'2023年   '!C100","v":0.753},null,{"$f":"'2023年   '!E100","v":{"v":1.6,"d":"1.60"}},null,{"$f":"'2023年   '!G100","v":0.237},"嘉兴市固体废物处置有限责任公司","诸美娟"]
["4月份","废包装桶",{"$f":"'2023年   '!C132","v":0.112},null,{"$f":"'2023年   '!E132","v":0},null,{"$f":"'2023年   '!G132","v":0.349},null,"诸美娟"]
["5月份","废包装桶",{"$f":"'2023年   '!C164","v":4.035},null,{"$f":"'2023年   '!E164","v":4.052},null,{"$f":"'2023年   '!G164","v":0.332},"嘉兴市固体废物处置有限责任公司","诸美娟/方剑其"]
["6月份","废包装桶",{"$f":"'2023年   '!C196","v":0.538},null,{"$f":"'2023年   '!E196","v":0.87},null,{"$f":"'2023年   '!G196","v":{"v":0,"d":"0.000"}},"嘉兴市固体废物处置有限责任公司","诸美娟"]
["7月份","废包装桶",{"$f":"'2023年   '!C228","v":0.048},null,{"$f":"'2023年   '!E228","v":0},null,{"$f":"'2023年   '!G228","v":0.048},null,"诸美娟","3只"]
["8月份","废包装桶"]
["9月份","废包装桶"]
["10月份","废包装桶"]
["11月份","废包装桶"]
["12月份","废包装桶"]
["合计",null,{"$f":"SUM(C4:C15)","v":{"v":6.57,"d":"6.570"}},0,6.522,{"v":0,"d":"0.00"},{"$f":"G10","v":0.048}]

{"sheet":"Sheet3","index":12,"n_rows":7,"n_cols":1,"rows_kept":7,"merged":[[1,0,1,8],[6,0,6,8]]}
[]
["证明"]
[]
[]
[]
[]
["9月5日（周六)计划股份公司废包装桶出仓一批，由于方剑其临时有事不能到厂进行废包装桶出仓，通知我来厂里对废包装桶出仓。由于是周六没打卡，实际进厂时间是8:00，装运完成10:30分左右。"]