{"text_format":"3","workbook":"xlsx","n_sheets":4,"sheets":["2022年废火山岩 ","2022年月度统计  ","空白表","Sheet1"],"read":"whole","date_system":"1900"}

{"sheet":"2022年废火山岩 ","index":0,"n_rows":132,"n_cols":8,"rows_kept":132,"merged":[[0,0,0,7],[1,0,2,0],[1,1,2,1],[1,2,2,2],[1,3,1,4],[1,5,2,5],[1,6,2,6],[1,7,2,7]]}
["                                 废物管理记录表                                    单位（吨）"]
["日期","产生数量","自行处置数量","委托利用、处置情况",null,"累计贮存数量","备注","填表人"]
[{"$nulls":3},"委托利用数量","委托处置数量"]
["2022-09-01"]
["2022-09-02"]
["2022-09-03"]
["2022-09-04"]
["2022-09-05"]
["2022-09-06",{"v":39.96,"d":"39.960"},null,{"v":39.96,"d":"39.960"},null,{"v":0,"d":"0.000"},"杭州富阳海中环保科技有限责任公司","方剑其"]
["2022-09-07",{"v":9.52,"d":"9.520"},null,{"v":9.52,"d":"9.520"},null,{"v":0,"d":"0.000"},"杭州富阳海中环保科技有限责任公司","方剑其"]
["2022-09-08"]
["2022-09-09"]
["2022-09-10"]
["2022-09-11"]
["2022-09-12"]
["2022-09-13"]
["2022-09-14"]
["2022-09-15"]
["2022-09-16"]
["2022-09-17"]
["2022-09-18"]
["2022-09-19"]
["2022-09-20"]
["2022-09-21"]
["2022-09-22"]
["2022-09-23"]
["2022-09-24"]
["2022-09-25"]
["2022-09-26"]
["2022-09-27"]
["2022-09-28"]
["2022-09-29"]
["2022-09-30"]
["2022-10-01"]
["合计",{"$f":"SUM(B4:B34)","v":{"v":49.48,"d":"49.480"}},{"$f":"SUM(C4:C34)","v":{"v":0,"d":"0.000"}},{"$f":"SUM(D4:D34)","v":{"v":49.48,"d":"49.480"}},{"$f":"SUM(E4:E34)","v":{"v":0,"d":"0.000"}},{"$f":"F9","v":{"v":0,"d":"0.000"}}]
["2022-10-01"]
["2022-10-02"]
["2022-10-03"]
["2022-10-04"]
["2022-10-05"]
["2022-10-06"]
["2022-10-07"]
["2022-10-08"]
["2022-10-09"]
["2022-10-10"]
["2022-10-11"]
["2022-10-12"]
["2022-10-13"]
["2022-10-14"]
["2022-10-15"]
["2022-10-16"]
["2022-10-17"]
["2022-10-18"]
["2022-10-19"]
["2022-10-20"]
["2022-10-21"]
["2022-10-22"]
["2022-10-23"]
["2022-10-24"]
["2022-10-25"]
["2022-10-26"]
["2022-10-27"]
["2022-10-28"]
["2022-10-29"]
["2022-10-30"]
["2022-10-31"]
["合计",{"$f":"SUM(B36:B66)","v":{"v":0,"d":"0.000"}},{"$f":"SUM(C36:C66)","v":{"v":0,"d":"0.000"}},{"$f":"SUM(D36:D66)","v":{"v":0,"d":"0.000"}},{"$f":"SUM(E36:E66)","v":{"v":0,"d":"0.000"}},{"$f":"F35","v":{"v":0,"d":"0.000"}}]
["2022-11-01"]
["2022-11-02"]
["2022-11-03"]
["2022-11-04"]
["2022-11-05"]
["2022-11-06"]
["2022-11-07"]
["2022-11-08"]
["2022-11-09"]
["2022-11-10"]
["2022-11-11"]
["2022-11-12"]
["2022-11-13"]
["2022-11-14"]
["2022-11-15"]
["2022-11-16"]
["2022-11-17"]
["2022-11-18"]
["2022-11-19"]
["2022-11-20"]
["2022-11-21"]
["2022-11-22"]
["2022-11-23"]
["2022-11-24"]
["2022-11-25"]
["2022-11-26"]
["2022-11-27"]
["2022-11-28"]
["2022-11-29"]
["2022-11-30"]
["2022-12-01"]
["合计",{"$f":"SUM(B68:B98)","v":{"v":0,"d":"0.000"}},{"$f":"SUM(C68:C98)","v":{"v":0,"d":"0.000"}},{"$f":"SUM(D68:D98)","v":{"v":0,"d":"0.000"}},{"$f":"SUM(E68:E98)","v":{"v":0,"d":"0.000"}},{"$f":"F67","v":{"v":0,"d":"0.000"}}]
["2022-12-01"]
["2022-12-02"]
["2022-12-03"]
["2022-12-04"]
["2022-12-05"]
["2022-12-06"]
["2022-12-07"]
["2022-12-08"]
["2022-12-09"]
["2022-12-10"]
["2022-12-11"]
["2022-12-12"]
["2022-12-13"]
["2022-12-14"]
["2022-12-15"]
["2022-12-16"]
["2022-12-17"]
["2022-12-18"]
["2022-12-19"]
["2022-12-20"]
["2022-12-21"]
["2022-12-22"]
["2022-12-23"]
["2022-12-24"]
["2022-12-25"]
["2022-12-26"]
["2022-12-27"]
["2022-12-28"]
["2022-12-29"]
["2022-12-30"]
["2022-12-31"]
["合计",{"$f":"SUM(B100:B130)","v":{"v":0,"d":"0.000"}},{"$f":"SUM(C100:C130)","v":{"v":0,"d":"0.000"}},{"$f":"SUM(D100:D130)","v":{"v":0,"d":"0.000"}},{"$f":"SUM(E100:E130)","v":{"v":0,"d":"0.000"}},{"$f":"F99","v":{"v":0,"d":"0.000"}}]
["2021年5月1日份开始统计 废电容新增"]

{"sheet":"2022年月度统计  ","index":1,"n_rows":18,"n_cols":9,"rows_kept":18,"merged":[[0,0,0,7],[1,0,2,0],[1,1,2,1],[1,2,2,2],[1,3,1,4],[1,5,2,5],[1,6,2,6],[1,7,2,7]]}
["                                 废物管理记录表     (2022)                               单位（吨）"]
["日期","产生数量","自行处置数量","委托利用、处置情况",null,"累计贮存数量","备注","填表人"]
[{"$nulls":3},"委托利用数量","委托处置数量",{"$nulls":3},0]
["1月份"]
["2月份"]
["3月份"]
["4月份"]
["5月份"]
["6月份"]
["7月份"]
["8月份"]
["9月份",{"$f":"'2022年废火山岩 '!B35","v":{"v":49.48,"d":"49.480"}},null,{"$f":"'2022年废火山岩 '!D35","v":{"v":49.48,"d":"49.480"}},null,{"$f":"'2022年废火山岩 '!F35","v":{"v":0,"d":"0.000"}},"杭州富阳海中环保科技有限责任公司","方剑其"]
["10月份",{"$f":"'2022年废火山岩 '!B67","v":{"v":0,"d":"0.000"}},null,{"$f":"'2022年废火山岩 '!D67","v":{"v":0,"d":"0.000"}},null,{"$f":"'2022年废火山岩 '!F67","v":{"v":0,"d":"0.000"}},null,"方剑其"]
["11月份",{"$f":"'2022年废火山岩 '!B99","v":{"v":0,"d":"0.000"}},null,{"$f":"'2022年废火山岩 '!D99","v":{"v":0,"d":"0.000"}},null,{"$f":"'2022年废火山岩 '!F99","v":{"v":0,"d":"0.000"}},null,"方剑其"]
["12月份",{"$f":"'2022年废火山岩 '!B131","v":{"v":0,"d":"0.000"}},null,{"$f":"'2022年废火山岩 '!D131","v":{"v":0,"d":"0.000"}},null,{"$f":"'2022年废火山岩 '!F131","v":{"v":0,"d":"0.000"}},null,"方剑其"]
["合计",{"$f":"SUM(B4:B15)","v":{"v":49.48,"d":"49.480"}},{"$f":"SUM(C4:C15)","v":{"v":0,"d":"0.000"}},{"$f":"SUM(D4:D15)","v":{"v":49.48,"d":"49.480"}},{"$f":"SUM(E4:E15)","v":{"v":0,"d":"0.000"}},{"$f":"F13","v":{"v":0,"d":"0.000"}}]
[]
["2022年9月6日份开始统计 废火山岩（新增）"]

{"sheet":"空白表","index":2,"n_rows":3,"n_cols":8,"rows_kept":3,"merged":[[0,0,0,7],[1,0,2,0],[1,1,2,1],[1,2,2,2],[1,3,1,4],[1,5,2,5],[1,6,2,6],[1,7,2,7]]}
["                                 废物管理记录表                                            单位（吨）"]
["日期","产生数量","自行处置数量","委托利用、处置情况",null,"累计贮存数量","备注","填表人"]
[{"$nulls":3},"委托利用数量","委托处置数量"]

{"sheet":"Sheet1","index":3,"n_rows":3,"n_cols":2,"rows_kept":3}
[]
[]
[null,"研 磨 乳 化 液 过 滤 产 生 的 铁 屑"]